BEGIN:VCALENDAR
VERSION:2.0
PRODID:-//casa rosa - ECPv6.13.2.1//NONSGML v1.0//EN
CALSCALE:GREGORIAN
METHOD:PUBLISH
X-WR-CALNAME:casa rosa
X-ORIGINAL-URL:https://casarosasalvador.com.br
X-WR-CALDESC:Eventos para casa rosa
REFRESH-INTERVAL;VALUE=DURATION:PT1H
X-Robots-Tag:noindex
X-PUBLISHED-TTL:PT1H
BEGIN:VTIMEZONE
TZID:America/Sao_Paulo
BEGIN:STANDARD
TZOFFSETFROM:-0300
TZOFFSETTO:-0300
TZNAME:-03
DTSTART:20220101T000000
END:STANDARD
END:VTIMEZONE
BEGIN:VEVENT
DTSTART;TZID=America/Sao_Paulo:20220923T210000
DTEND;TZID=America/Sao_Paulo:20220923T210000
DTSTAMP:20260426T005831
CREATED:20220922T151417Z
LAST-MODIFIED:20220930T151515Z
UID:577-1663966800-1663966800@casarosasalvador.com.br
SUMMARY:Festa na Casa - Juliana Ribeiro com o show "Preta Brasileira"
DESCRIPTION:A Casa Rosa traz para o “Festa na Casa” a música dançante e pensante de Juliana Ribeiro\, que leva seu show “Preta Brasileira” para o Pátio Viração\, espaço aberto debruçado ao mar. Juliana e sua banda fazem um som gostoso\, música pra curtir e se identificar. \nNo espetáculo “Preta Brasileira”\, música\, teatro e poesia se encontram em cena para mexer com os sentidos. Um show multi-artístico cuja idéia é ilustrar as vivências das ‘Pretas Brasileiras’ pelo mundo\, tendo a arte como lugar de fala das compositoras atuais\, e releituras arrojadas que trazem pertença imediata do público\, que além de assistir\, passa a participar do show. Elza Soares\, Clementina de Jesus\, Leci Brandão\, Pinduca\, Vinícius de Moraes \, João do Vale e Paulo Flores ( Angola)\, são alguns dos parceiros da artista neste show. \nIngressos – https://bileto.sympla.com.br/event/76766/d/159284/s/1057921
URL:https://casarosasalvador.com.br/evento/festa-na-casa-juliana-ribeiro-com-o-show-preta-brasileira/
LOCATION:Pátio Viração – Casa Rosa
ATTACH;FMTTYPE=image/jpeg:https://casarosasalvador.com.br/wp-content/uploads/2022/09/Juliana-Ribeiro-Foto-Dora-Almeida-2-2.jpg
END:VEVENT
END:VCALENDAR