BEGIN:VCALENDAR
VERSION:2.0
PRODID:-//casa rosa - ECPv6.13.2.1//NONSGML v1.0//EN
CALSCALE:GREGORIAN
METHOD:PUBLISH
X-ORIGINAL-URL:https://casarosasalvador.com.br
X-WR-CALDESC:Eventos para casa rosa
REFRESH-INTERVAL;VALUE=DURATION:PT1H
X-Robots-Tag:noindex
X-PUBLISHED-TTL:PT1H
BEGIN:VTIMEZONE
TZID:America/Sao_Paulo
BEGIN:STANDARD
TZOFFSETFROM:-0300
TZOFFSETTO:-0300
TZNAME:-03
DTSTART:20220101T000000
END:STANDARD
END:VTIMEZONE
BEGIN:VEVENT
DTSTART;TZID=America/Sao_Paulo:20221215T200000
DTEND;TZID=America/Sao_Paulo:20221215T200000
DTSTAMP:20260425T202625
CREATED:20221219T114232Z
LAST-MODIFIED:20221219T114728Z
UID:666-1671134400-1671134400@casarosasalvador.com.br
SUMMARY:Sylvia Patricia
DESCRIPTION:O último evento do ano de 2022 na Casa Rosa\, espaço cultural localizado no bairro do Rio Vermelho\, será com a cantora e compositora Sylvia Patricia\, que realiza o show acústico “Existe Amor em SP” nesta quinta-feira\, 15 de dezembro\, às 20h\, dentro do Teatro Cambará. A apresentação inicia as comemorações dos 40 anos do seu primeiro registro fonográfico\, o single “Saia da Minha Vida (Stônica)”\, lançado em 1983. Ingressos custam R$ 50 (inteira) e R$ 25 (meia)\, disponíveis para venda pela Sympla ou no local. \nO repertório traça uma viagem cronológica de sua obra\, mesclando as canções mais conhecidas às músicas do novo EP\, “Existe Amor em SP”\, lançado esse ano\, projeto autoral e inédito\, gestado e realizado durante o período da pandemia da Covid-19 e que evidencia a pulsação criativa da artista. \nSylvia Patricia\, que no convívio familiar é chamada pelas suas iniciais\, SP\, brinca com essas letras\, fazendo alusão ao trabalho do cantor Criolo\, de quem é admiradora\, parodiando o título de sua música “Não Existe Amor em SP”\, onde o artista se refere à cidade de São Paulo. Em “Existe Amor em SP”\, Sylvia Patricia fala de si\, usando suas iniciais\, e faz reflexões\, desabafos e\, sobretudo\, fala sobre o amor\, ponderando que amar é um ato revolucionário\, na medida que liberta e é capaz de transformar e elevar as pessoas a um nível de paz e felicidade que nenhuma outra revolução consegue\, especialmente em tempos difíceis. \nO show apresentará\, além das músicas marcantes de sua carreira\, as novas “País\, Que País?” (Sylvia Patricia)\, “Beat Chic” (Sylvia Patricia/Monica Millet)\, “Vinho e Terroir” (Sylvia Patricia/Danilo Pinheiro) e “C’est la Vie” (Sylvia Patricia)\, em formato intimista. Sylvia será acompanhada por Alex Mesquita (violão\, guitarra e programações) e Fernando Macuna (percussão). \nSylvia Patricia\n“Existe Amor em SP” – show acústico\nQuando: 15 de dezembro de 2022 (quinta-feira)\, às 20h\nOnde: Casa Rosa – Teatro Cambará\nPraça Colombo\, 106 – Rio Vermelho – Salvador\, Bahia\nQuanto: R$ 50 (inteira) e R$ 25 (meia)\nVendas no local ou pela Sympla: https://linktr.ee/casarosasalvador
URL:https://casarosasalvador.com.br/evento/sylvia-patricia/
LOCATION:Teatro Cambará
ATTACH;FMTTYPE=image/jpeg:https://casarosasalvador.com.br/wp-content/uploads/2022/12/Sylvia-Patricia-Foto-por-Mario-Edson-1-1-scaled.jpg
END:VEVENT
END:VCALENDAR