BEGIN:VCALENDAR
VERSION:2.0
PRODID:-//casa rosa - ECPv6.13.2.1//NONSGML v1.0//EN
CALSCALE:GREGORIAN
METHOD:PUBLISH
X-WR-CALNAME:casa rosa
X-ORIGINAL-URL:https://casarosasalvador.com.br
X-WR-CALDESC:Eventos para casa rosa
REFRESH-INTERVAL;VALUE=DURATION:PT1H
X-Robots-Tag:noindex
X-PUBLISHED-TTL:PT1H
BEGIN:VTIMEZONE
TZID:America/Sao_Paulo
BEGIN:STANDARD
TZOFFSETFROM:-0300
TZOFFSETTO:-0300
TZNAME:-03
DTSTART:20230101T000000
END:STANDARD
END:VTIMEZONE
BEGIN:VEVENT
DTSTART;TZID=America/Sao_Paulo:20230201T210000
DTEND;TZID=America/Sao_Paulo:20230201T210000
DTSTAMP:20260425T173546
CREATED:20230116T145656Z
LAST-MODIFIED:20230130T150311Z
UID:743-1675285200-1675285200@casarosasalvador.com.br
SUMMARY:Trilho Elétrico
DESCRIPTION:A relação cultural que aproxima a Bahia e Minas ganha uma nova página. A banda Trilho Elétrico estreia em Salvador no dia 1º de fevereiro\, na Casa Rosa\, apresentando aos soteropolitanos o encontro formado pelos baianos Manno Góes (compositor e fundador do Jammil e Uma Noites) e Lutte (ex-vocalista da banda Mosiah) e pelos mineiros Lelo Zaneti (baixista do Skank) e Rodrigo Borges (herdeiro e atual representante do Clube da Esquina). \nO encontro inédito com o show de estreia em fevereiro tem razão de ser: o carnaval passa pela formação do grupo não só na atuação de Manno Góes como integrante do Jammil e compositor de clássicos do Axé. A aproximação de Manno e Rodrigo Borges começou quando o mineiro convidou Manno para conhecer o bloco que lidera\, “Divina Banda”\, que circula no carnaval de rua de Belo Horizonte. Convite aceito\, no carnaval de 2020\, Manno partiu para BH e ficou fascinado com o desfile e com as versões do Clube da Esquina em marchinha e samba-reggae. \nPouco tempo depois\, foi a vez de Borges\, neto de baiano\, fazer a ponte-aérea inversa e chegar a Salvador. Na capital baiana nasceu a música que dá nome à banda\, “Trilho Elétrico”\, presente nas plataformas digitais com a participação de Armandinho Macêdo. Durante a pandemia\, os dois seguiram pensando na ideia e decidiram oficializar o projeto que traz as referências musicais dos dois estados e convidar\, cada um\, mais um amigo para formar o quarteto. \nRodrigo trouxe Lelo\, aproximados também pelo olhar sobre o carnaval de rua da capital mineira. “Eu via os ensaios da Divina Banda e conversava com o Rodrigo sobre como as coisas do Clube da Esquina funcionavam bem nos ritmos de carnaval”\, conta o baixista do Skank. Já Manno pensou em Lutte porque já acompanhava e admirava o trabalho do artista independente em projetos como o da banda Mosiah: “Lutte é da cena alternativa de Salvador e achava que iria encaixar bem com esse projeto. Somos nós quatro cantando e há uma química que validou a escolha”\, conta Manno. \nSegunda faixa lançada pelo grupo\, “Repaginou” traz a participação de Luiz Caldas. “Temos mais duas faixas prontas que serão lançadas nas próximas semanas. Uma delas tem a participação de Mart’nalia”\, antecipa Lutte. Daniela Mercury é mais um nome confirmado entre as parcerias do grupo\, em um frevo assinado por Manno Góes. “Estamos muito felizes com esse projeto unindo a pegada rítmica da Bahia com a coisa das harmonias mineiras”\, diz Rodrigo Borges. As composições são feitas em parceria ou um enviando ideias para o outro: “Já temos muita música produzida\, que rende mais do que um disco. Estamos imersos no processo de escolher quais músicas entrarão no álbum”\, completa. \nAs trajetórias distintas são um ganho para o grupo – a opinião é unânime entre os quatro. “A influência pessoal de cada um e o que trazemos da música da Bahia e de Minas acontece de forma natural nas músicas. O que trazemos de musicalidade que acaba saindo naturalmente no som. O bacana é que são quatro músicos com trajetórias bem distintas\, enriquecendo a experiência sonora\, rítmica e de letras”\, defende Lutte. \nNo repertório\, as canções autorais já presentes nas plataformas digitais se unem a canções inéditas do quarteto\, além de homenagens a grandes artistas baianos e mineiros. \nVerão Casa Rosa 2023 apresenta:\nTrilho Elétrico\nQuando: 1º de fevereiro de 2023 (quarta-feira)\nAbertura da casa: 21h\nOnde: Casa Rosa (Praça Colombo\, 106 – Rio Vermelho – Salvador\, Bahia)\nQuanto:\n1º lote: R$ 60 (inteira) | R$ 30 (meia)\n2º lote: R$ 80 (inteira) | R$ 40 (meia)\n3º lote: R$ 100 (inteira) | R$ 50 (meia)\n4º lote: R$ 150 (inteira) | R$ 75 (meia)\nVendas no local ou pela Sympla: https://linktr.ee/casarosasalvador\nClassificação indicativa: 18 anos
URL:https://casarosasalvador.com.br/evento/trilho-eletrico/
LOCATION:Pátio Viração – Casa Rosa
ATTACH;FMTTYPE=image/jpeg:https://casarosasalvador.com.br/wp-content/uploads/2023/01/Trilho-Eletrico-card.jpeg
END:VEVENT
BEGIN:VEVENT
DTSTART;TZID=America/Sao_Paulo:20230202T130000
DTEND;TZID=America/Sao_Paulo:20230202T130000
DTSTAMP:20260425T173546
CREATED:20230113T171806Z
LAST-MODIFIED:20230120T122322Z
UID:734-1675342800-1675342800@casarosasalvador.com.br
SUMMARY:Iemanjá na Casa Rosa
DESCRIPTION:Devoção\, festa\, oferenda\, música\, bênção\, sombra & água fresca! \nA Casa Rosa celebra a benção de estar à beira mar no bairro que dá morada a Iemanjá\, a 300 metros da casa sagrada da Mãe d’Água\, e estreia sua participação no 2 de fevereiro. Num ambiente acolhedor e com a cara da festa\, o espaço cultural reunirá Marcia Castro\, Cortejo Afro\, Nêssa\, Marcia Short\, Aila Menezes\, Hiran\, Magary Lord e DJ el Cabong\, além de surpresas\, tudo a partir das 13h. O evento também vai oferecer feijoada aos participantes. \nA Casa Rosa tem vista para a saída do cortejo dos barcos que levarão os presentes a Iemanjá e montará também o seu próprio balaio\, que irá ao mar às 16h. O público poderá levar suas oferendas\, garantindo serem itens biodegradáveis\, para compor a entrega. \nO espaço cultural\, comprometido em ser um ambiente plural para Salvador\, afirma sua proposta de acolher a diversidade artística da cidade\, promovendo um festival com artistas consagrados e novas potências da cena musical baiana. \nIemanjá na Casa Rosa\nQuando: 02 de fevereiro de 2023 (quinta-feira)\nAbertura da casa: 13h\nOnde: Casa Rosa (Praça Colombo\, 106 – Rio Vermelho – Salvador\, Bahia)\nQuanto:\n1º lote: R$ 80 (incluída a feijoada)\n2º lote: R$ 120 (incluída a feijoada)\n3º lote: R$ 160 (incluída a feijoada)\nVendas pela Sympla: https://linktr.ee/casarosasalvador\nClassificação indicativa: 18 anos
URL:https://casarosasalvador.com.br/evento/iemanja-na-casa-rosa/
LOCATION:Pátio Viração – Casa Rosa
ATTACH;FMTTYPE=image/jpeg:https://casarosasalvador.com.br/wp-content/uploads/2023/01/Iemanja-na-Casa-Rosa-card.jpeg
END:VEVENT
BEGIN:VEVENT
DTSTART;TZID=America/Sao_Paulo:20230204T220000
DTEND;TZID=America/Sao_Paulo:20230204T220000
DTSTAMP:20260425T173546
CREATED:20230120T152744Z
LAST-MODIFIED:20230120T153328Z
UID:754-1675548000-1675548000@casarosasalvador.com.br
SUMMARY:Magary Lord
DESCRIPTION:Depois do sucesso de sua apresentação no mês em janeiro\, Magary Lord volta à Casa Rosa em 4 de fevereiro (sábado)\, a partir das 22h\, colocando na pista seu inovador Black Semba\, ritmo que tomou as ruas de Salvador e transformou o seu trabalho em sinônimo de festa animada. Convidados especiais estão garantidos para tornar a noite ainda mais especial. \nFoi na batucada que Magary Lord começou sua relação com a música. O grupo Caldo de Iaiá\, formado na família\, deu início à carreira de um dos mais criativos percussionistas da atual geração de músicos baianos. Magary tem seu nome associado às festas populares\, toca o próprio ritmo que criou\, numa mistura da Black Music com o Semba de Angola e mais um tanto de dendê nesse pulsante caldeirão sonoro. As letras falam principalmente do cotidiano\, do inusitado\, do amor e ninguém consegue ouvi-las parado\, sem ousar um passo ou outro\, tamanho é o swing contagiante que sua música traz. \nAutor de músicas gravadas por Ivete Sangalo\, Seu Jorge\, Arlindo Cruz\, Cidade Negra e Margareth Menezes\, tem entre seus sucessos hits como “Circulou”\, gravado por Saulo\, e “Inventando Moda”\, um dos mais conhecidos do seu repertório. \nVerão Casa Rosa 2023 apresenta:\nMagary Lord\nQuando: 4 de fevereiro de 2023 (sábado)\nAbertura da casa: 22h\nOnde: Casa Rosa (Praça Colombo\, 106 – Rio Vermelho – Salvador\, Bahia)\nQuanto:\n1º lote: R$ 60 (inteira) | R$ 30 (meia)\n2º lote: R$ 80 (inteira) | R$ 40 (meia)\nVendas no local ou pela Sympla: https://linktr.ee/casarosasalvador\nClassificação indicativa: 18 anos
URL:https://casarosasalvador.com.br/evento/magary-lord-2/
LOCATION:Pátio Viração – Casa Rosa
ATTACH;FMTTYPE=image/jpeg:https://casarosasalvador.com.br/wp-content/uploads/2023/01/Magary-Lord-card-1.jpeg
END:VEVENT
BEGIN:VEVENT
DTSTART;TZID=America/Sao_Paulo:20230209T210000
DTEND;TZID=America/Sao_Paulo:20230209T210000
DTSTAMP:20260425T173546
CREATED:20230126T011301Z
LAST-MODIFIED:20230126T011301Z
UID:769-1675976400-1675976400@casarosasalvador.com.br
SUMMARY:Lançamento do Bloquinho POPZEN
DESCRIPTION:Um sonho de Carnaval. Alexandre Leão compôs em 1999\, com Lalado e o saudoso Manuca Almeida\, uma canção chamada “POP ZEN”. A música\, inspirada no conceito oriental “zen-budista”\, convida para uma atitude de vida diferenciada\, harmônica e consciente para lidar com este mundo “pop” cotidiano\, tornando-se um mantra entre público e artista. “A canção é esta vibração sonora de paz e alegria de viver. Meu público se tornou uma grande família\, um coletivo POP ZEN”\, conta Alexandre Leão. \nA carreira de Leão cresceu e se desenvolveu nesta direção. E neste ano\, em 9 de fevereiro\, na Casa Rosa\, o sonho será lançado: o Bloquinho POPZEN vai sair do mundo das ideias e encontrar seu público. “É a pedra filosofal do Bloquinho. Fazer nascer um lugar onde as pessoas possam brincar um Carnaval com outras alegrias”\, afirma Andrezão Simões\, produtor e idealizador do projeto. \nAlexandre e Andrezão dizem que nem têm dia e hora para sair no Carnaval de Salvador\, mas já têm data\, hora\, local e uma surpresa (que só dirão mais perto) para a chegada do Bloquinho POPZEN. \nVerão Casa Rosa 2023 apresenta:\nBloquinho POPZEN com Alexandre Leão\nQuando: 9 de fevereiro de 2023 (quinta-feira)\nAbertura da casa: 21h\nOnde: Casa Rosa (Praça Colombo\, 106 – Rio Vermelho – Salvador\, Bahia)\nQuanto: R$ 100 (inteira) | R$ 50 (meia)\nVendas antecipadas pela Sympla: https://linktr.ee/casarosasalvador\nClassificação indicativa: 18 anos
URL:https://casarosasalvador.com.br/evento/lancamento-do-bloquinho-popzen/
LOCATION:Pátio Viração – Casa Rosa
ATTACH;FMTTYPE=image/jpeg:https://casarosasalvador.com.br/wp-content/uploads/2023/01/Popzen-card.jpeg
END:VEVENT
BEGIN:VEVENT
DTSTART;TZID=America/Sao_Paulo:20230210T220000
DTEND;TZID=America/Sao_Paulo:20230210T220000
DTSTAMP:20260425T173546
CREATED:20230125T000112Z
LAST-MODIFIED:20230125T000112Z
UID:765-1676066400-1676066400@casarosasalvador.com.br
SUMMARY:Gerônimo
DESCRIPTION:A primeira data em 20 de janeiro teve ingressos esgotados. Mas Gerônimo Santana retorna à Casa Rosa em 10 de fevereiro para seguir nas celebrações de seus 70 anos de vida e 50 de carreira com toda alegria. A apresentação acontece no Pátio Viração – ambiente caloroso à beira mar do Rio Vermelho –\, a partir das 22h. \nConsiderado “chanceler” da música baiana\, o cantor e compositor é um dos símbolos da cultura da boa terra. No show\, acompanhado da sua Banda Mont Serrat\, ele vai reunir os seus maiores sucessos\, como “Eu sou Negão”\, “É d’Oxum”\, “Menino do Pelô” e “Jubiabá”\, e fazer um verdadeiro passeio musical pela sua rica carreira. Noite para dançar na pista com lambada\, ijexá\, aguerê\, afoxé e adarrum em sutilezas rítmicas\, apresentadas com a inigualável presença de palco de Gerônimo. \nVerão Casa Rosa 2023 apresenta:\nGerônimo Santana\nQuando: 10 de fevereiro de 2023 (sexta-feira)\nAbertura da casa: 22h\nOnde: Casa Rosa (Praça Colombo\, 106 – Rio Vermelho – Salvador\, Bahia)\nQuanto:\n1º lote: R$ 60 (inteira) | R$ 30 (meia)\n2º lote: R$ 80 (inteira) | R$ 40 (meia)\nVendas antecipadas pela Sympla: https://linktr.ee/casarosasalvador\nClassificação indicativa: 18 anos
URL:https://casarosasalvador.com.br/evento/geronimo/
LOCATION:Pátio Viração – Casa Rosa
ATTACH;FMTTYPE=image/jpeg:https://casarosasalvador.com.br/wp-content/uploads/2023/01/Geronimo-Santana-card-1.jpeg
END:VEVENT
BEGIN:VEVENT
DTSTART;TZID=America/Sao_Paulo:20230215T200000
DTEND;TZID=America/Sao_Paulo:20230215T200000
DTSTAMP:20260425T173546
CREATED:20230126T152113Z
LAST-MODIFIED:20230126T152845Z
UID:774-1676491200-1676491200@casarosasalvador.com.br
SUMMARY:Bloco Quarta Pink
DESCRIPTION:A empresa de comunicação AsMinas anuncia mais uma edição da Quarta Pink\, uma festa de pessoas pretas para pessoas pretas\, com atrações que conversam com diversos públicos. Esta edição\, chamada Bloco Quarta Pink\, acontece na Casa Rosa\, no dia 15 de fevereiro\, um dia antes da abertura oficial do carnaval de Salvador\, com Ministereo Público\, Vieirx e DJ Belle. Esta é a primeira vez que AsMinas abre o evento ao público\, com ingressos à venda. \nA festa já contou com duas edições anteriores para convidados. “Esta edição tem um toque especial: queremos movimentar a cidade e fazer um evento pré-carnaval com atrações incríveis em um local novo\, onde pessoas pretas possam se sentir em casa\, já que o carnaval ainda é um espaço segregador”\, explica Letícia Sotero\, diretora Comercial e Relacionamento de AsMinas. “O Bloco Quarta Pink vem muito dessa essência\, que estimulou a criação dos blocos afros\, por exemplo. Numa época em que grandes blocos e clubes eram todos brancos e pessoas negras tinham apenas o papel de servir\, foi criado um espaço para celebrar não só os carnavais entre pessoas negras\, mas a sua beleza\, raízes culturais… é isso que estamos construindo\, um espaço nosso”\, completa ela. \nO Bloco Quarta Pink será inspirado em um baile de carnaval\, com direito a abadá para curtir a festa. \nBloco Quarta Pink\nQuando: 15 de fevereiro de 2023 (quarta-feira)\nAbertura da casa: 20h\nOnde: Casa Rosa (Praça Colombo\, 106 – Rio Vermelho – Salvador\, Bahia)\nQuanto:\n1º lote: R$ 50\n2º lote: R$ 60\n3º lote: R$ 70\nVendas antecipadas pela Sympla: https://linktr.ee/casarosasalvador\nClassificação indicativa: 18 anos
URL:https://casarosasalvador.com.br/evento/bloco-quarta-pink/
LOCATION:Pátio Viração – Casa Rosa
ATTACH;FMTTYPE=image/jpeg:https://casarosasalvador.com.br/wp-content/uploads/2023/01/Quarta-Pink-card.jpeg
END:VEVENT
BEGIN:VEVENT
DTSTART;TZID=America/Sao_Paulo:20230225T220000
DTEND;TZID=America/Sao_Paulo:20230225T220000
DTSTAMP:20260425T173546
CREATED:20230214T211919Z
LAST-MODIFIED:20230214T211919Z
UID:792-1677362400-1677362400@casarosasalvador.com.br
SUMMARY:Ressaca de Gerônimo
DESCRIPTION:Depois do carnaval\, quando Gerônimo Santana leva sua música sensacional para os palcos e com o Buzanfan pelas ruas da cidade\, fica o enorme gosto de quero mais. Então\, no dia 25 de fevereiro (sábado)\, a partir das 22h\, o artista faz a sua Ressaca de Carnaval na Casa Rosa. No palco do Pátio Viração\, acompanhado da sua Banda Mont Serrat\, ele canta seus maiores sucessos\, continua as celebrações dos seus 50 anos de carreira e recebe como convidadas especiais Juliana Ribeiro e Sarajane. \nJuliana Ribeiro é uma sambista expoente do cenário nacional. Cantora\, compositora e historiadora\, homenageia a mulher contemporânea através de canções autorais\, sambas e composições de Gerônimo\, Riachão e Roque Ferreira. Sarajane vai apresentar músicas que fizeram muito sucesso no verão e no carnaval do seu “Bailinho Axé pra Você”\, com os maiores sucessos da sua carreira e hits da Axé Music. Sem dúvida um encontro especial entre Gerônimo e dois grandes talentos femininos da nossa música. \nVerão Casa Rosa 2023 apresenta:\nRessaca de Carnaval de Gerônimo\nCom: Gerônimo Santana e Banda Mont Serrat\nConvidadas especiais: Juliana Ribeiro e Sarajane\nQuando: 25 de fevereiro de 2023 (sábado)\nAbertura da casa: 22h\nOnde: Casa Rosa (Praça Colombo\, 106 – Rio Vermelho – Salvador\, Bahia)\nQuanto:\n1º lote: R$ 60 (inteira) | R$ 30 (meia)\n2º lote: R$ 80 (inteira) | R$ 40 (meia)\nVendas antecipadas pela Sympla: https://linktr.ee/casarosasalvador\nClassificação indicativa: 18 anos
URL:https://casarosasalvador.com.br/evento/ressaca-de-geronimo/
LOCATION:Pátio Viração – Casa Rosa
ATTACH;FMTTYPE=image/jpeg:https://casarosasalvador.com.br/wp-content/uploads/2023/02/Geronimo-Santana-card.jpeg
END:VEVENT
END:VCALENDAR