BEGIN:VCALENDAR
VERSION:2.0
PRODID:-//casa rosa - ECPv6.13.2.1//NONSGML v1.0//EN
CALSCALE:GREGORIAN
METHOD:PUBLISH
X-ORIGINAL-URL:https://casarosasalvador.com.br
X-WR-CALDESC:Eventos para casa rosa
REFRESH-INTERVAL;VALUE=DURATION:PT1H
X-Robots-Tag:noindex
X-PUBLISHED-TTL:PT1H
BEGIN:VTIMEZONE
TZID:America/Sao_Paulo
BEGIN:STANDARD
TZOFFSETFROM:-0300
TZOFFSETTO:-0300
TZNAME:-03
DTSTART:20230101T000000
END:STANDARD
END:VTIMEZONE
BEGIN:VEVENT
DTSTART;VALUE=DATE:20230313
DTEND;VALUE=DATE:20230613
DTSTAMP:20260425T144902
CREATED:20230227T200006Z
LAST-MODIFIED:20230227T201504Z
UID:801-1678665600-1686614399@casarosasalvador.com.br
SUMMARY:Oficina de Teatro Ato – Atuar e Transformar
DESCRIPTION:Com: Andréa Elia \nQuando: De 13 de março a 12 de junho\, às segundas-feiras\nDas 16h30 às 18h: turma infantil\, entre 6 e 10 anos\nDas 18h às 19h30: turma juvenil\, entre 11 e 15 anos\nDas 19h30 às 21h: turma adulta \nQuanto: R$ 250 (mensal) \nInscrições: Pelo WhatsApp 71 99117-6714 ou e-mail cursoato@gmail.com \nPúblico-alvo: Destinada ao desenvolvimento de crianças e adolescentes com foco na convivência coletiva salutar\, pela promoção de atividades criativas presencias\, com benefícios na fala e desenvoltura psicocorporal\, sensorial e emocional. Para adultos\, destinada a profissionais cujo sucesso das ações passa pela comunicação\, assim como segmentos que buscam inserir atividades criativas\, promovendo um cotidiano mais alegre e transformador. \nSobre a oficina: Oficina de teatro terapêutico\, integrando atividades formativas voltadas ao bem-estar e desenvolvimento pessoal. “Atuar e Transformar” inspira a metodologia\, conferindo palco livre para que os participantes possam expressar criativamente diferentes expressões de sua personalidade\, promovendo protagonismo pela expansão da fala\, do corpo\, ideias e emoções. \nSobre Andréa Elia: Atriz\, arte-educadora\, diretora teatral e terapeuta junguiana. Artista empreendedora com mais de 35 anos de carreira nos palcos\, tendo se apresentado no Brasil\, Portugal\, Espanha e Rússia. Gestora e professora do Curso Ato de Teatro e diretora do Teatro da Cidade. Vencedora do Prêmio Braskem de Teatro de Melhor Atriz pelo desempenho no espetáculo “As velhas”\, de 2010.
URL:https://casarosasalvador.com.br/evento/teatro-ato/
LOCATION:Sala Rosa
ATTACH;FMTTYPE=image/jpeg:https://casarosasalvador.com.br/wp-content/uploads/2023/02/Oficina-Teatro-Ato.jpeg
END:VEVENT
BEGIN:VEVENT
DTSTART;TZID=America/Sao_Paulo:20230315T190000
DTEND;TZID=America/Sao_Paulo:20230614T190000
DTSTAMP:20260425T144902
CREATED:20230227T200333Z
LAST-MODIFIED:20230227T214751Z
UID:804-1678906800-1686769200@casarosasalvador.com.br
SUMMARY:Oficina Teatro de Terra – Lab Vivo de Corpo Voz Movimento e Magia
DESCRIPTION:Com: Felícia de Castro \nQuando: De 15 de março a 14 de junho\, às quartas-feiras\, das 19h às 21h \nQuanto: R$ 270 (mensal) e R$ 75 (aula avulsa) \nInscrições: Em https://bit.ly/teatrodeterra \nPúblico-alvo: Pessoas a partir de 18 anos \nSobre a oficina: Reúne conteúdos de arte\, magia\, ativismo\, brasilidades e performance\, desenvolvidos pela artista Felícia de Castro. O curso começou em 2020\, na versão online\, com o desejo de uma investigação permanente\, aberta e não-linear\, e agora se abre também à versão presencial. As aulas são práticas\, movendo a energia\, a voz e o corpo sensível\, tendo como eixos a dança\, o prazer\, o riso sagrado\, o encontro e a escuta do campo sensível. “Eu gosto de lembrar que o teatro\, em sua origem\, é canto\, dança\, brincadeira e rito\, e que\, assim\, a arte é essencialmente ligada à medicina. Criar é curar. Curar é criar”\, conta Felícia. Para além do produtivismo doentio e sentido utilitário (Krenak)\, é urgente o reencantamento. É urgente acessar\, através do corpo em atitude criativa\, as dimensões do sensível\, sensorial\, sensual e sexual. Em cada encontro\, são aprofundados conteúdos que são lastros de investigações desenvolvidas por Felícia há mais de 20 anos: criação\, dança genuína\, vulnerabilidade\, conexão humana\, escuta profunda\, organicidade e encontro\, comicidade\, tragicômico e expressão do grotesco\, riso sagrado\, voz no corpo\, criação com a voz no corpo\, canto e verticalidade+impulsos\, mitologias\, dilatação da presença\, a dança das emoções\, arte-ritual\, Dança Butoh\, danças brasileiras. O princípio é estar em movimento e em contato íntimo com a essência criadora: aquela que mantém a pulsão de vida. \nSobre Felícia de Castro: Artista-pesquisadora\, bacharel e mestre em Artes Cênicas pela Universidade Federal da Bahia (UFBA). Começou sua carreira em 1994 ao ingressar na graduação em Interpretação Teatral na Escola de Teatro da UFBA e consolidou sua formação através de diversos cursos ao longo dos anos com os grupos Odin Teatret (Dinamarca)\, Lume Teatro (São Paulo) e Piollin (Paraíba). Agregou em seu caminho artístico vivências espirituais\, terapêuticas\, antropológicas e culturais\, como experiências no Recôncavo Baiano e no Cariri cearense. A palhaçaria foi divisora de águas em sua vida pessoal e artística. A iniciação e trajetória na palhaçaria foi tema do documentário-ficção “Ridículos” (Paula Lice\, Ronei Jorge\, Rodrigo Luna\, 2015). Sua primeira experiência no cinema foi em “Central do Brasil” (Walter Salles\, 1998)\, em uma cena com Fernanda Montenegro\, e a mais recente foi em “Fundo do Céu” (Matheus Vianna\, 2019)\, na qual ganhou o prêmio de Melhor Atriz Coadjuvante no Inhapim Cine Festival. Em processos criativos\, experimentou no próprio corpo o encontro e a alquimia de toda pluralidade de formações e vivências\, descobrindo caminhos autênticos e compartilhando esses saberes em cursos\, vivências\, assessorias e espetáculos cênicos. Vivenciou e vivencia com paixão o conteúdo de diversas culturas brasileiras que remontam à origem viva\, ritualística e curativa do teatro. Seus fazeres tocam a dança\, os cantos\, o trabalho físico profundo\, a transcendência\, o estado de presença\, a exposição/aceitação de si e a pesquisa vocal. Criou os espetáculos “Rosário” e “Tudo Que Você Precisa É Amor”\, a jornada ““O Riso Que Habita o Ventre da Terra”\, o curso “Estados Criativos – O Canto do Corpo Tragicômico”\, entre outros. Ganhou o prêmio de melhor atriz\, junto com Flavia Marco\, pelo espetáculo “Jardim”\, no XII Festival Nordestino de Teatro de Guaramiranga (CE). Dirigiu os espetáculos “S/TÍTULO – A Hora em Que Não Sabíamos Nada Uns dos Outros” (assistência de direção e cocriação com o Balé Teatro Castro Alves e Nehle Franke\, Bahia\, 2008)\, “Chuva” (Ponto de Cultura Galpão do Riso – Universidade Federal de Brasília\, Distrito Federal\, 2013)\, “Santa Maravilha Recebe – Entrevistas Performágicas” (em parceria com Paula Lice\, Bahia\, 2018)\, “Assaga” (em parceria com Marisa Riso\, São Paulo\, 2021) e “EuVira” (em parceria com Naia Pratta e Matheus Vianna\, Bahia-São Paulo\, 2021).
URL:https://casarosasalvador.com.br/evento/teatro-de-terra/
LOCATION:Sala Rosa
ATTACH;FMTTYPE=image/jpeg:https://casarosasalvador.com.br/wp-content/uploads/2023/02/Oficina-Teatro-de-Terra.jpeg
END:VEVENT
BEGIN:VEVENT
DTSTART;TZID=America/Sao_Paulo:20230322T080000
DTEND;TZID=America/Sao_Paulo:20230614T080000
DTSTAMP:20260425T144902
CREATED:20230227T200603Z
LAST-MODIFIED:20230601T024713Z
UID:808-1679472000-1686729600@casarosasalvador.com.br
SUMMARY:Oficina Dance a vida após os 50
DESCRIPTION:Com: Lúcia Mascarenhas \nQuando: De 22 de março a 14 de junho\, às quartas-feiras\, das 8h às 9h30 \nQuanto: R$ 180 (mensal) \nInscrições: Pelo WhatsApp (71) 99992-4196 \nPúblico-alvo: Pessoas a partir de 50 anos \nSobre a oficina: A dança contribui para que a pessoa idosa desenvolva a coordenação motora\, a agilidade\, o aprimoramento do esquema corporal\, a inteligência\, favorecendo ainda na melhoria na autoestima\, como também possibilitando uma forma de convívio saudável\, além do aumento do rol de relações sociais\, lazer e saúde. Dançar desperta emoções positivas\, prazer e socialização. Dito de outro modo\, a dança se configura como um recurso terapêutico na melhor idade\, ajudando na capacidade de enfrentar o estresse\, a tensão do dia a dia\, a ansiedade e a depressão. Nesse contexto\, a oficina “Dance a vida após os 50” busca\, para além da conscientização corporal e fortalecimento das atividades motoras\, melhorar o processo de envelhecimento e\, consequentemente\, tornar a vida mais fácil e prazerosa. A metodologia é prática-vivencial\, tomando como ponto de partida o ritmo da própria aluna\, utilizando jogos corporais sensoriais e teatrais. \nSobre Lúcia Mascarenhas: Coreógrafa e professora de dança e expressão corporal\, com formação em dança pela Universidade Federal da Bahia (UFBA) e especialização em Coreografia. Foi responsável pela formação técnica de dançarinos e atores na Fundação Cultural do Estado da Bahia (Funceb). Atualmente\, desenvolve trabalhos corporais individuais ou em grupo.
URL:https://casarosasalvador.com.br/evento/dance-a-vida/
LOCATION:Sala Rosa
ATTACH;FMTTYPE=image/jpeg:https://casarosasalvador.com.br/wp-content/uploads/2023/02/Oficina-Dance-a-vida-apos-os-50.jpeg
END:VEVENT
BEGIN:VEVENT
DTSTART;TZID=America/Sao_Paulo:20230404T183000
DTEND;TZID=America/Sao_Paulo:20230404T203000
DTSTAMP:20260425T144902
CREATED:20230327T163636Z
LAST-MODIFIED:20230327T163636Z
UID:858-1680633000-1680640200@casarosasalvador.com.br
SUMMARY:Aulão de dança contemporânea com Morena Nascimento
DESCRIPTION:Abril é o Mês Internacional da Dança e o espaço cultural Casa Rosa abre a sua programação com um aulão de dança contemporânea com a bailarina e coreógrafa Morena Nascimento\, no dia 4 (terça-feira)\, das 18h30 às 20h30. Tendo como público-alvo estudantes e artistas das áreas de dança\, teatro e performance\, a inscrição custa R$ 45 e deve ser feita até a véspera do evento pelo e-mail morena_nascimento@hotmail.com. Três bolsas integrais são oferecidas a quem não tenha condições de arcar com o valor. \nMorena Nascimento irá conduzir uma experimentação prática técnico-poética orientada a partir de um olhar encantado e transdisciplinar para a dança. Através de imagens e simbologias\, as pessoas participantes serão orientadas a investigar qualidades e estados distintos de movimento\, num fluxo de aula que se desenrola oscilando entre o desejo e a forma. Assim\, experimentam construções livres guiadas\, “vestindo-se” do próprio corpo e construindo um território de autoridade criativa\, provocando eventualmente o surgimento de pequenas danças autorais. \nAo mesmo tempo\, são propostos exercícios de organizações do movimento através de princípios básicos sobre alinhamento\, equilíbrio\, tensão e relaxamento\, queda e recuperação\, fluência\, acelerações e desacelerações\, para também dançar junto\, em situações coreográficas que se organizam a partir de um pulso rítmico e melódico em uníssono\, exaltando a força do coletivo. \nSobre Morena Nascimento – Nascida em Belo Horizonte\, Morena Nascimento é bailarina\, coreógrafa\, diretora e professora de dança. Possuiu duas graduações em Dança\, uma pela Universidade Estadual de Campinas (2001) e outra pela Folkwang Hochschule (2007). Integrou como bailarina-intérprete o Grupo Primeiro Ato de Belo Horizonte de 2001 a 2004 e posteriormente o Tanztheater Wuppertal Pina Bausch\, de 2007 a 2010\, companhia com a qual continuou atuando como bailarina convidada até 2019. Atuou no filme “Elena”\, de Petra Costa\, e “PINA”\, de Wim Wenders. Coreografou grupos importantes como o Balé da Cidade de São Paulo\, para o qual criou o espetáculo “Um Jeito de Corpo”\, apresentado no Impulstanz em 2019\, a Cia. de Dança do Palácio das Artes e o Balé Teatro Castro Alves. Desenvolve seu trabalho autoral como artista independente desde 2001. Suas principais obras são “Claraboia” (2010)\, “Rêverie” (2013)\, “Um Jeito de Corpo” (2018) e “LALANGUE” (2018). Ministra cursos e workshops dentro e fora do Brasil. É mestre em Dança pela Universidade Federal da Bahia e recentemente criou “Treasures”\, espetáculo concebido para a companhia Folkwang Tanz Studio\, em Essen\, na Alemanha. \nAulão de dança contemporânea com Morena Nascimento \nQuando: 04 de abril de 2023 (terça-feira)\, 18h30 às 20h30\nOnde: Casa Rosa (Praça Colombo\, 106 – Rio Vermelho – Salvador\, Bahia)\nPúblico-alvo: Estudantes e artistas das áreas de dança\, teatro e performance\nQuanto: R$ 45\nComo se inscrever: Enviar e-mail até o dia 03 de abril para morena_nascimento@hotmail.com\, informando nome\, RG e comprovante de depósito para o PIX 303250638-77\nComo concorrer às três bolsas: Enviar e-mail até 01 de abril para morena_nascimento@hotmail.com\, com breve carta de intenção.
URL:https://casarosasalvador.com.br/evento/aulao-de-danca-contemporanea-com-morena-nascimento/
LOCATION:Pátio Viração – Casa Rosa
ATTACH;FMTTYPE=image/jpeg:https://casarosasalvador.com.br/wp-content/uploads/2023/03/Morena-Nascimento-2.jpg
END:VEVENT
BEGIN:VEVENT
DTSTART;TZID=America/Sao_Paulo:20230411T131500
DTEND;TZID=America/Sao_Paulo:20230419T160000
DTSTAMP:20260425T144902
CREATED:20230329T211503Z
LAST-MODIFIED:20230410T200038Z
UID:864-1681218900-1681920000@casarosasalvador.com.br
SUMMARY:Aulas abertas do BTCA
DESCRIPTION:No Mês Internacional da Dança\, o Balé Teatro Castro Alves (BTCA) realiza quatro aulas abertas na Casa Rosa. Nesta ação de compartilhamento das técnicas e dos bastidores da companhia oficial de dança da Bahia\, as aulas são ministradas por dançarinos do próprio elenco e direcionadas a pessoas com experiência intermediária ou avançada em dança. \nNo dia 11 de abril (terça)\, às 13h15\, tem Pilates com Ticiana Garrido; no dia 12 (quarta)\, às 15h\, Balé Clássico com Anna Paula Drehmer. No dia 18 (terça)\, às 13h15\, é Dança Contemporânea com Dayana Brito; por fim\, no dia 19 (quarta)\, às 16h\, tem Yoga com Mirela França. Cada turma tem cinco vagas\, ocupadas gratuitamente por ordem de chegada\, sendo a entrada com 20 minutos de antecedência. \nEnquanto suas instalações no Teatro Castro Alves passam por reforma\, o BTCA mantém suas atividades em diferentes espaços de Salvador\, no movimento intitulado “TCA Itinerante”. A Casa Rosa acolhe a companhia nesta ação. \nSobre o BTCA – Companhia pública de dança contemporânea fundada em 1981\, o Balé Teatro Castro Alves (BTCA) tem direção artística de Daniela Guimarães e é um corpo artístico estável do Teatro Castro Alves (TCA)\, vinculado à Fundação Cultural do Estado da Bahia (Funceb) e à Secretaria de Cultura do Governo do Estado da Bahia (SecultBA). Conta no seu repertório com mais de 100 montagens de importantes coreógrafos. Em sua história recente\, destacam-se “Lub Dub” (2017)\, “Urbis in Motus” (2017)\, “Tamanho Único” (2018)\, “CHAMA: Coreografia para artistas incendiárixs” (2018)\, “A História do Soldado” (2019)\, em parceria com a Orquestra Sinfônica da Bahia (OSBA)\, e “Viramundo” (2022)\, junto à Orquestra Afrosinfônica. Em 2020\, em meio à pandemia da Covid-19\, BTCA e OSBA mais uma vez se conectaram para promover colaborações artísticas em parceria\, estreando seis criações inéditas encenadas e transmitidas ao vivo pela internet e TVE Bahia\, dentro do projeto “Voltando aos Palcos”. Também neste período\, BTCA e OSBA estrelaram os filmes “Um Concerto para o Guarda-Roupa” e “Abraço no Tempo”. Em 2021\, celebrando seus 40 anos\, o BTCA lançou o longa-metragem “A Cidade que Habita em Mim”. \nAulas abertas do BTCA\nQuando: \n11 de abril de 2023 (terça-feira)\, 13h15\nPilates com Ticiana Garrido\n12 de abril de 2023 (quarta-feira)\, 15h\nBalé Clássico com Anna Paula Drehmer\n18 de abril de 2023 (terça-feira)\, 13h15\nDança Contemporânea com Dayana Brito\n19 de abril de 2023 (quarta-feira)\, 16h\nYoga com Mirela França\nOnde: Casa Rosa (Praça Colombo\, 106 – Rio Vermelho – Salvador\, Bahia)\nPúblico-alvo: Pessoas com nível intermediário e avançado em dança\nQuanto: Gratuito\n5 vagas por turma\, ocupadas por ordem de chegada (entrada com 20 minutos de antecedência)
URL:https://casarosasalvador.com.br/evento/aulas-abertas-do-btca/
LOCATION:Sala Rosa
ATTACH;FMTTYPE=image/jpeg:https://casarosasalvador.com.br/wp-content/uploads/2023/03/BTCA-aulas.jpg
END:VEVENT
BEGIN:VEVENT
DTSTART;TZID=America/Sao_Paulo:20230415T160000
DTEND;TZID=America/Sao_Paulo:20230415T160000
DTSTAMP:20260425T144902
CREATED:20230403T165222Z
LAST-MODIFIED:20230403T165253Z
UID:881-1681574400-1681574400@casarosasalvador.com.br
SUMMARY:Pilsner Fest Pocket
DESCRIPTION:O Pilsner Fest\, evento já consagrado no calendário de festas de Salvador\, está de volta em uma edição especial na Casa Rosa\, no Rio Vermelho\, no dia 15 de abril. A festa\, que começa às 16h\, traz um festival de cervejas artesanais\, gastronomia de qualidade e muita música para agradar o público maduro e exigente. \nNesta edição\, o Pilsner Pocket contará com a presença de importantes cervejarias baianas\, como Proa\, Mindubier\, Híbrida\, Milésima\, Plenos Beer e 2 de Julho\, oferecendo o melhor da cerveja artesanal local aos visitantes. Além disso\, o evento traz uma grande inovação no atendimento: a automação do serviço de chopp por meio da tecnologia AI.CERV\, que proporciona uma experiência única e eficiente aos consumidores. \nAs atrações musicais do evento incluem Christian Horyn fazendo cover de Ed Sheeran\, Banda Heyou com tributo ao Pink Floyd\, Nós Fomos Coldplay com tributo ao Coldplay e Funk The Bump com tributo ao Red Hot Chili Peppers. Com estilos que variam do pop ao rock\, os shows prometem animar o público e proporcionar momentos inesquecíveis. \nO Pilsner Pocket destaca-se por sua proposta diferenciada e pelo cuidado na escolha das atrações\, garantindo uma experiência completa aos participantes. O evento é uma oportunidade para as pessoas desfrutarem da música de qualidade\, gastronomia e cervejas artesanais baianas em um ambiente aconchegante e exclusivo. \nPilsner Fest Pocket\nQuando: 15 de abril de 2023 (sábado)\, 16h\nOnde: Casa Rosa (Praça Colombo\, 106 – Rio Vermelho – Salvador\, Bahia)\nQuanto:\nCompra no escuro: R$ 60\n1º lote: R$ 70\n2º lote: R$ 80\nVendas antecipadas pela Sympla: https://linktr.ee/casarosasalvador\nClassificação indicativa: 18 anos
URL:https://casarosasalvador.com.br/evento/pilsner-fest-pocket/
LOCATION:Pátio Viração – Casa Rosa
ATTACH;FMTTYPE=image/png:https://casarosasalvador.com.br/wp-content/uploads/2023/04/Pilsen-Pocket-Card.png
END:VEVENT
BEGIN:VEVENT
DTSTART;TZID=America/Sao_Paulo:20230419T190000
DTEND;TZID=America/Sao_Paulo:20230420T190000
DTSTAMP:20260425T144902
CREATED:20230329T214359Z
LAST-MODIFIED:20230410T201031Z
UID:871-1681930800-1682017200@casarosasalvador.com.br
SUMMARY:Ensaios abertos “Viramundo”
DESCRIPTION:No Mês Internacional da Dança\, o Balé Teatro Castro Alves (BTCA) realiza ensaios abertos e gratuitos do espetáculo “Viramundo” na Casa Rosa\, nos dias 19 e 20 de abril (quarta e quinta)\, às 19h. Após os ensaios\, será aberta uma roda de conversa sobre o processo criativo desta obra. \nEstreado em julho de 2022\, “Viramundo” é uma homenagem aos 80 anos de Gilberto Gil. Inspirada pela riqueza da obra do imortal baiano\, a companhia oficial de dança da Bahia\, sob direção e criação coreográfica de Duda Maia e com música original do maestro Ubiratan Marques\, coloca no palco uma montagem de beleza\, emoção e vivacidade. Todo o elenco do BTCA está em cena\, ressoando as danças que Gilberto Gil\, em sua figura e em sua produção\, desperta em seus corpos. Gilberto Gil é vida e festejo num palco onde todos e todas se divertem. \nEnquanto suas instalações no Teatro Castro Alves passam por reforma\, o BTCA mantém suas atividades em diferentes espaços de Salvador\, no movimento intitulado “TCA Itinerante”. A Casa Rosa acolhe a companhia nesta ação. \nSobre o BTCA – Companhia pública de dança contemporânea fundada em 1981\, o Balé Teatro Castro Alves (BTCA) tem direção artística de Daniela Guimarães e é um corpo artístico estável do Teatro Castro Alves (TCA)\, vinculado à Fundação Cultural do Estado da Bahia (Funceb) e à Secretaria de Cultura do Governo do Estado da Bahia (SecultBA). Conta no seu repertório com mais de 100 montagens de importantes coreógrafos. Em sua história recente\, destacam-se “Lub Dub” (2017)\, “Urbis in Motus” (2017)\, “Tamanho Único” (2018)\, “CHAMA: Coreografia para artistas incendiárixs” (2018)\, “A História do Soldado” (2019)\, em parceria com a Orquestra Sinfônica da Bahia (OSBA)\, e “Viramundo” (2022)\, junto à Orquestra Afrosinfônica. Em 2020\, em meio à pandemia da Covid-19\, BTCA e OSBA mais uma vez se conectaram para promover colaborações artísticas em parceria\, estreando seis criações inéditas encenadas e transmitidas ao vivo pela internet e TVE Bahia\, dentro do projeto “Voltando aos Palcos”. Também neste período\, BTCA e OSBA estrelaram os filmes “Um Concerto para o Guarda-Roupa” e “Abraço no Tempo”. Em 2021\, celebrando seus 40 anos\, o BTCA lançou o longa-metragem “A Cidade que Habita em Mim”. \nBTCA\nEnsaio aberto “Viramundo”\nQuando: 19 e 20 de abril de 2023 (quarta e quinta)\, 19h\nOnde: Casa Rosa (Praça Colombo\, 106 – Rio Vermelho – Salvador\, Bahia)\nQuanto: Gratuito
URL:https://casarosasalvador.com.br/evento/ensaios-viramundo/
LOCATION:Teatro Cambará
ATTACH;FMTTYPE=image/jpeg:https://casarosasalvador.com.br/wp-content/uploads/2023/03/Divulgacao-VIRAMUNDO-Foto-por-Mauricio-Serra-29-1-scaled.jpg
END:VEVENT
BEGIN:VEVENT
DTSTART;TZID=America/Sao_Paulo:20230428T210000
DTEND;TZID=America/Sao_Paulo:20230428T210000
DTSTAMP:20260425T144902
CREATED:20230413T151233Z
LAST-MODIFIED:20230415T163423Z
UID:898-1682715600-1682715600@casarosasalvador.com.br
SUMMARY:Baile Retrovisor de Gerônimo
DESCRIPTION:O Baile Retrovisor de Gerônimo é uma noite dançante e divertida em que o artista baiano Gerônimo Santana irá resgatar sucessos de todos os tempos\, incluindo clássicos de seus 50 anos de carreira\, além de grandes hits nacionais e internacionais. O evento acontecerá no dia 28 de abril (sexta-feira)\, a partir das 21h\, na Casa Rosa\, espaço cultural no Rio Vermelho\, com participação especial de Alexandre Peixe. \nConhecido por suas composições que exaltam a cultura afro-brasileira e por sua animação no palco\, Gerônimo é um dos artistas mais respeitados e queridos da Bahia. Com sucessos como “É D’Oxum”\, “Jubiabá”\, “Eu Sou Negão” e “Oxóssi”\, ele se tornou um ícone da música baiana e um dos grandes representantes do Carnaval de Salvador. Sua obra transita por diversos ritmos\, entre eles o samba\, o reggae\, o axé e o ijexá\, misturando esses gêneros e usando elementos da cultura afro-brasileira\, resultando em um som único e bastante característico. \nGerônimo é acompanhado pela Banda Monte Serrat\, uma das mais importantes e emblemáticas da música baiana\, formada por grandes músicos da cena local\, incluindo experientes maestros do estado. Com uma sonoridade única\, que combina elementos de diversos gêneros musicais\, a Banda Monte Serrat imprime sua marca registrada em cada canção que toca. Sempre com Gerônimo\, eles fazem shows eletrizantes e cheios de energia. \nO Baile Retrovisor de Gerônimo é oportunidade de ver de perto esse grande artista e relembrar sucessos de sua carreira e da música mundial. \nGerônimo Santana – Baile Retrovisor\nParticipação especial: Alexandre Peixe\nQuando: 28 de abril de 2023 (sexta-feira)\nAbertura da casa: 21h\nInício do show: 22h\nOnde: Casa Rosa (Praça Colombo\, 106 – Rio Vermelho – Salvador\, Bahia)\nQuanto:\n1º lote: R$ 60 (inteira) | R$ 30 (meia)\n2º lote: R$ 80 (inteira) | R$ 40 (meia)\nVendas antecipadas pela Sympla: https://linktr.ee/casarosasalvador\nClassificação indicativa: 18 anos
URL:https://casarosasalvador.com.br/evento/baile-retrovisor-de-geronimo/
LOCATION:Pátio Viração – Casa Rosa
ATTACH;FMTTYPE=image/jpeg:https://casarosasalvador.com.br/wp-content/uploads/2023/04/Geronimo-4.jpg
END:VEVENT
BEGIN:VEVENT
DTSTART;TZID=America/Sao_Paulo:20230429T090000
DTEND;TZID=America/Sao_Paulo:20230527T090000
DTSTAMP:20260425T144902
CREATED:20230227T200846Z
LAST-MODIFIED:20230504T200048Z
UID:811-1682758800-1685178000@casarosasalvador.com.br
SUMMARY:Oficinas Dança do Ventre de Fusão
DESCRIPTION:Com: Joline Andrade \nQuando: 29 de abril e 27 de maio\, aos sábados\, 09h às 12h (turmas independentes a cada dia)\nOficina 1 – Estudos sobre Cymbals (introdução aos padrões rítmicos do instrumento e técnicas de movimento)\nOficina 2 – Estudos Coreográficos \nQuanto: 1 oficina – R$ 120; 2 oficinas – R$ 210 \nInscrições: Em www.jolineandrade.com/oficinas \nPúblico-alvo: Dançarinos/as de nível intermediário/avançado em dança do ventre e/ou fusão \nSobre a oficina: Os Cymbals\, também chamados de Zills (Turquia)\, Sagats (Egito) ou Snujs (Brasil)\, são instrumentos que podem ser tocados tanto por músicos quanto por dançarinas. Fazem parte de uma família de instrumentos musicais conhecida como Clappers (badalos)\, assim como as castanholas da dança flamenca. São quatro pequenos pratos de metal fixados nos dedos e tocados em diferentes padrões rítmicos. Aprender a tocar e dançar é bastante desafiador e estimulante. Requer muita prática\, técnica e disciplina. Os padrões de Cymbals abordados nestas oficinas serão: “3-3-7”\, “3-5-1-3”\, “3-5-5” e muitos outros. Estes padrões serão combinados com pequenas células de movimento e uma divertida sequência coreográfica de dança do ventre de fusão com Cymbals no último encontro. \nSobre Joline Andrade: Dançarina\, coreógrafa\, professora\, produtora e pesquisadora na área da dança. É formada em Licenciatura em Dança e no Curso de Dançarino Profissional pela Universidade Federal da Bahia (UFBA). Em 2011\, concluiu o curso de pós-graduação (especialização) em Estudos Contemporâneos sobre Dança nesta mesma universidade. Já ministrou diversos workshops em 18 dos 27 estados do Brasil. Participou de grandes eventos internacionais como dançarina e/ou professora em 13 diferentes países da Europa\, Ásia e Américas do Norte\, Central e Sul. Dentre os seus principais projetos\, está o Curso de Formação em Fusion Bellydance\, que já ocorreu em São Paulo (SP)\, Salvador (BA)\, Fortaleza (CE)\, Caxias do Sul (RS)\, como também no formato online. É diretora do “EtnoTribes/Fusion Festival”\, festival de dança e música de fusão contemporânea\, como também do espetáculo “Dramofone”\, ambos realizados em Salvador (BA).
URL:https://casarosasalvador.com.br/evento/danca-do-ventre-de-fusao/
LOCATION:Sala Rosa
ATTACH;FMTTYPE=image/jpeg:https://casarosasalvador.com.br/wp-content/uploads/2023/02/Oficina-Danca-do-ventre-de-fusao-Inscricoes.jpeg
END:VEVENT
END:VCALENDAR