BEGIN:VCALENDAR
VERSION:2.0
PRODID:-//casa rosa - ECPv6.13.2.1//NONSGML v1.0//EN
CALSCALE:GREGORIAN
METHOD:PUBLISH
X-WR-CALNAME:casa rosa
X-ORIGINAL-URL:https://casarosasalvador.com.br
X-WR-CALDESC:Eventos para casa rosa
REFRESH-INTERVAL;VALUE=DURATION:PT1H
X-Robots-Tag:noindex
X-PUBLISHED-TTL:PT1H
BEGIN:VTIMEZONE
TZID:America/Sao_Paulo
BEGIN:STANDARD
TZOFFSETFROM:-0300
TZOFFSETTO:-0300
TZNAME:-03
DTSTART:20230101T000000
END:STANDARD
END:VTIMEZONE
BEGIN:VEVENT
DTSTART;VALUE=DATE:20230313
DTEND;VALUE=DATE:20230613
DTSTAMP:20260425T132341
CREATED:20230227T200006Z
LAST-MODIFIED:20230227T201504Z
UID:801-1678665600-1686614399@casarosasalvador.com.br
SUMMARY:Oficina de Teatro Ato – Atuar e Transformar
DESCRIPTION:Com: Andréa Elia \nQuando: De 13 de março a 12 de junho\, às segundas-feiras\nDas 16h30 às 18h: turma infantil\, entre 6 e 10 anos\nDas 18h às 19h30: turma juvenil\, entre 11 e 15 anos\nDas 19h30 às 21h: turma adulta \nQuanto: R$ 250 (mensal) \nInscrições: Pelo WhatsApp 71 99117-6714 ou e-mail cursoato@gmail.com \nPúblico-alvo: Destinada ao desenvolvimento de crianças e adolescentes com foco na convivência coletiva salutar\, pela promoção de atividades criativas presencias\, com benefícios na fala e desenvoltura psicocorporal\, sensorial e emocional. Para adultos\, destinada a profissionais cujo sucesso das ações passa pela comunicação\, assim como segmentos que buscam inserir atividades criativas\, promovendo um cotidiano mais alegre e transformador. \nSobre a oficina: Oficina de teatro terapêutico\, integrando atividades formativas voltadas ao bem-estar e desenvolvimento pessoal. “Atuar e Transformar” inspira a metodologia\, conferindo palco livre para que os participantes possam expressar criativamente diferentes expressões de sua personalidade\, promovendo protagonismo pela expansão da fala\, do corpo\, ideias e emoções. \nSobre Andréa Elia: Atriz\, arte-educadora\, diretora teatral e terapeuta junguiana. Artista empreendedora com mais de 35 anos de carreira nos palcos\, tendo se apresentado no Brasil\, Portugal\, Espanha e Rússia. Gestora e professora do Curso Ato de Teatro e diretora do Teatro da Cidade. Vencedora do Prêmio Braskem de Teatro de Melhor Atriz pelo desempenho no espetáculo “As velhas”\, de 2010.
URL:https://casarosasalvador.com.br/evento/teatro-ato/
LOCATION:Sala Rosa
ATTACH;FMTTYPE=image/jpeg:https://casarosasalvador.com.br/wp-content/uploads/2023/02/Oficina-Teatro-Ato.jpeg
END:VEVENT
BEGIN:VEVENT
DTSTART;TZID=America/Sao_Paulo:20230315T190000
DTEND;TZID=America/Sao_Paulo:20230614T190000
DTSTAMP:20260425T132341
CREATED:20230227T200333Z
LAST-MODIFIED:20230227T214751Z
UID:804-1678906800-1686769200@casarosasalvador.com.br
SUMMARY:Oficina Teatro de Terra – Lab Vivo de Corpo Voz Movimento e Magia
DESCRIPTION:Com: Felícia de Castro \nQuando: De 15 de março a 14 de junho\, às quartas-feiras\, das 19h às 21h \nQuanto: R$ 270 (mensal) e R$ 75 (aula avulsa) \nInscrições: Em https://bit.ly/teatrodeterra \nPúblico-alvo: Pessoas a partir de 18 anos \nSobre a oficina: Reúne conteúdos de arte\, magia\, ativismo\, brasilidades e performance\, desenvolvidos pela artista Felícia de Castro. O curso começou em 2020\, na versão online\, com o desejo de uma investigação permanente\, aberta e não-linear\, e agora se abre também à versão presencial. As aulas são práticas\, movendo a energia\, a voz e o corpo sensível\, tendo como eixos a dança\, o prazer\, o riso sagrado\, o encontro e a escuta do campo sensível. “Eu gosto de lembrar que o teatro\, em sua origem\, é canto\, dança\, brincadeira e rito\, e que\, assim\, a arte é essencialmente ligada à medicina. Criar é curar. Curar é criar”\, conta Felícia. Para além do produtivismo doentio e sentido utilitário (Krenak)\, é urgente o reencantamento. É urgente acessar\, através do corpo em atitude criativa\, as dimensões do sensível\, sensorial\, sensual e sexual. Em cada encontro\, são aprofundados conteúdos que são lastros de investigações desenvolvidas por Felícia há mais de 20 anos: criação\, dança genuína\, vulnerabilidade\, conexão humana\, escuta profunda\, organicidade e encontro\, comicidade\, tragicômico e expressão do grotesco\, riso sagrado\, voz no corpo\, criação com a voz no corpo\, canto e verticalidade+impulsos\, mitologias\, dilatação da presença\, a dança das emoções\, arte-ritual\, Dança Butoh\, danças brasileiras. O princípio é estar em movimento e em contato íntimo com a essência criadora: aquela que mantém a pulsão de vida. \nSobre Felícia de Castro: Artista-pesquisadora\, bacharel e mestre em Artes Cênicas pela Universidade Federal da Bahia (UFBA). Começou sua carreira em 1994 ao ingressar na graduação em Interpretação Teatral na Escola de Teatro da UFBA e consolidou sua formação através de diversos cursos ao longo dos anos com os grupos Odin Teatret (Dinamarca)\, Lume Teatro (São Paulo) e Piollin (Paraíba). Agregou em seu caminho artístico vivências espirituais\, terapêuticas\, antropológicas e culturais\, como experiências no Recôncavo Baiano e no Cariri cearense. A palhaçaria foi divisora de águas em sua vida pessoal e artística. A iniciação e trajetória na palhaçaria foi tema do documentário-ficção “Ridículos” (Paula Lice\, Ronei Jorge\, Rodrigo Luna\, 2015). Sua primeira experiência no cinema foi em “Central do Brasil” (Walter Salles\, 1998)\, em uma cena com Fernanda Montenegro\, e a mais recente foi em “Fundo do Céu” (Matheus Vianna\, 2019)\, na qual ganhou o prêmio de Melhor Atriz Coadjuvante no Inhapim Cine Festival. Em processos criativos\, experimentou no próprio corpo o encontro e a alquimia de toda pluralidade de formações e vivências\, descobrindo caminhos autênticos e compartilhando esses saberes em cursos\, vivências\, assessorias e espetáculos cênicos. Vivenciou e vivencia com paixão o conteúdo de diversas culturas brasileiras que remontam à origem viva\, ritualística e curativa do teatro. Seus fazeres tocam a dança\, os cantos\, o trabalho físico profundo\, a transcendência\, o estado de presença\, a exposição/aceitação de si e a pesquisa vocal. Criou os espetáculos “Rosário” e “Tudo Que Você Precisa É Amor”\, a jornada ““O Riso Que Habita o Ventre da Terra”\, o curso “Estados Criativos – O Canto do Corpo Tragicômico”\, entre outros. Ganhou o prêmio de melhor atriz\, junto com Flavia Marco\, pelo espetáculo “Jardim”\, no XII Festival Nordestino de Teatro de Guaramiranga (CE). Dirigiu os espetáculos “S/TÍTULO – A Hora em Que Não Sabíamos Nada Uns dos Outros” (assistência de direção e cocriação com o Balé Teatro Castro Alves e Nehle Franke\, Bahia\, 2008)\, “Chuva” (Ponto de Cultura Galpão do Riso – Universidade Federal de Brasília\, Distrito Federal\, 2013)\, “Santa Maravilha Recebe – Entrevistas Performágicas” (em parceria com Paula Lice\, Bahia\, 2018)\, “Assaga” (em parceria com Marisa Riso\, São Paulo\, 2021) e “EuVira” (em parceria com Naia Pratta e Matheus Vianna\, Bahia-São Paulo\, 2021).
URL:https://casarosasalvador.com.br/evento/teatro-de-terra/
LOCATION:Sala Rosa
ATTACH;FMTTYPE=image/jpeg:https://casarosasalvador.com.br/wp-content/uploads/2023/02/Oficina-Teatro-de-Terra.jpeg
END:VEVENT
BEGIN:VEVENT
DTSTART;TZID=America/Sao_Paulo:20230322T080000
DTEND;TZID=America/Sao_Paulo:20230614T080000
DTSTAMP:20260425T132341
CREATED:20230227T200603Z
LAST-MODIFIED:20230601T024713Z
UID:808-1679472000-1686729600@casarosasalvador.com.br
SUMMARY:Oficina Dance a vida após os 50
DESCRIPTION:Com: Lúcia Mascarenhas \nQuando: De 22 de março a 14 de junho\, às quartas-feiras\, das 8h às 9h30 \nQuanto: R$ 180 (mensal) \nInscrições: Pelo WhatsApp (71) 99992-4196 \nPúblico-alvo: Pessoas a partir de 50 anos \nSobre a oficina: A dança contribui para que a pessoa idosa desenvolva a coordenação motora\, a agilidade\, o aprimoramento do esquema corporal\, a inteligência\, favorecendo ainda na melhoria na autoestima\, como também possibilitando uma forma de convívio saudável\, além do aumento do rol de relações sociais\, lazer e saúde. Dançar desperta emoções positivas\, prazer e socialização. Dito de outro modo\, a dança se configura como um recurso terapêutico na melhor idade\, ajudando na capacidade de enfrentar o estresse\, a tensão do dia a dia\, a ansiedade e a depressão. Nesse contexto\, a oficina “Dance a vida após os 50” busca\, para além da conscientização corporal e fortalecimento das atividades motoras\, melhorar o processo de envelhecimento e\, consequentemente\, tornar a vida mais fácil e prazerosa. A metodologia é prática-vivencial\, tomando como ponto de partida o ritmo da própria aluna\, utilizando jogos corporais sensoriais e teatrais. \nSobre Lúcia Mascarenhas: Coreógrafa e professora de dança e expressão corporal\, com formação em dança pela Universidade Federal da Bahia (UFBA) e especialização em Coreografia. Foi responsável pela formação técnica de dançarinos e atores na Fundação Cultural do Estado da Bahia (Funceb). Atualmente\, desenvolve trabalhos corporais individuais ou em grupo.
URL:https://casarosasalvador.com.br/evento/dance-a-vida/
LOCATION:Sala Rosa
ATTACH;FMTTYPE=image/jpeg:https://casarosasalvador.com.br/wp-content/uploads/2023/02/Oficina-Dance-a-vida-apos-os-50.jpeg
END:VEVENT
BEGIN:VEVENT
DTSTART;TZID=America/Sao_Paulo:20230429T090000
DTEND;TZID=America/Sao_Paulo:20230527T090000
DTSTAMP:20260425T132341
CREATED:20230227T200846Z
LAST-MODIFIED:20230504T200048Z
UID:811-1682758800-1685178000@casarosasalvador.com.br
SUMMARY:Oficinas Dança do Ventre de Fusão
DESCRIPTION:Com: Joline Andrade \nQuando: 29 de abril e 27 de maio\, aos sábados\, 09h às 12h (turmas independentes a cada dia)\nOficina 1 – Estudos sobre Cymbals (introdução aos padrões rítmicos do instrumento e técnicas de movimento)\nOficina 2 – Estudos Coreográficos \nQuanto: 1 oficina – R$ 120; 2 oficinas – R$ 210 \nInscrições: Em www.jolineandrade.com/oficinas \nPúblico-alvo: Dançarinos/as de nível intermediário/avançado em dança do ventre e/ou fusão \nSobre a oficina: Os Cymbals\, também chamados de Zills (Turquia)\, Sagats (Egito) ou Snujs (Brasil)\, são instrumentos que podem ser tocados tanto por músicos quanto por dançarinas. Fazem parte de uma família de instrumentos musicais conhecida como Clappers (badalos)\, assim como as castanholas da dança flamenca. São quatro pequenos pratos de metal fixados nos dedos e tocados em diferentes padrões rítmicos. Aprender a tocar e dançar é bastante desafiador e estimulante. Requer muita prática\, técnica e disciplina. Os padrões de Cymbals abordados nestas oficinas serão: “3-3-7”\, “3-5-1-3”\, “3-5-5” e muitos outros. Estes padrões serão combinados com pequenas células de movimento e uma divertida sequência coreográfica de dança do ventre de fusão com Cymbals no último encontro. \nSobre Joline Andrade: Dançarina\, coreógrafa\, professora\, produtora e pesquisadora na área da dança. É formada em Licenciatura em Dança e no Curso de Dançarino Profissional pela Universidade Federal da Bahia (UFBA). Em 2011\, concluiu o curso de pós-graduação (especialização) em Estudos Contemporâneos sobre Dança nesta mesma universidade. Já ministrou diversos workshops em 18 dos 27 estados do Brasil. Participou de grandes eventos internacionais como dançarina e/ou professora em 13 diferentes países da Europa\, Ásia e Américas do Norte\, Central e Sul. Dentre os seus principais projetos\, está o Curso de Formação em Fusion Bellydance\, que já ocorreu em São Paulo (SP)\, Salvador (BA)\, Fortaleza (CE)\, Caxias do Sul (RS)\, como também no formato online. É diretora do “EtnoTribes/Fusion Festival”\, festival de dança e música de fusão contemporânea\, como também do espetáculo “Dramofone”\, ambos realizados em Salvador (BA).
URL:https://casarosasalvador.com.br/evento/danca-do-ventre-de-fusao/
LOCATION:Sala Rosa
ATTACH;FMTTYPE=image/jpeg:https://casarosasalvador.com.br/wp-content/uploads/2023/02/Oficina-Danca-do-ventre-de-fusao-Inscricoes.jpeg
END:VEVENT
BEGIN:VEVENT
DTSTART;TZID=America/Sao_Paulo:20230530T193000
DTEND;TZID=America/Sao_Paulo:20230530T193000
DTSTAMP:20260425T132341
CREATED:20230520T202908Z
LAST-MODIFIED:20230520T203023Z
UID:910-1685475000-1685475000@casarosasalvador.com.br
SUMMARY:Samba pra Rua
DESCRIPTION:Atendendo ao chamado das ruas\, o Samba pra Rua passeou pela cidade\, do Pelourinho ao Humaitá\, da Casa Branca aos Apaxes\, e agora aporta na Casa Rosa\, para comemorar um ano de bênçãos tomadas nas encruzilhadas de Salvador. \nNo dia 30 de maio\, às 19h30\, tem Samba pra Rua! Para celebrar o primeiro ciclo dessa energia itinerante que há 365 dias movimenta a capital baiana e que veio pra ficar. Festejando em grande estilo\, o evento terá as presenças de Sambaiana\, A Liga do Samba Junino e Banda Aiyê\, do Bloco Ilê Aiyê\, que vão completar o xirê. \nSamba pra Rua\nCom: Sambaiana\, A Liga do Samba Junino e Banda Aiyê (Bloco Ilê Aiyê)\nQuando: 30 de maio de 2023 (terça-feira)\nAbertura da casa: 19h30\nOnde: Casa Rosa (Praça Colombo\, 106 – Rio Vermelho – Salvador\, Bahia)\nQuanto: \n1º lote: R$ 10\n2º lote: R$ 15\nVendas antecipadas pela Sympla: https://linktr.ee/casarosasalvador\nClassificação indicativa: 18 anos
URL:https://casarosasalvador.com.br/evento/samba-pra-rua/
LOCATION:Pátio Viração – Casa Rosa
ATTACH;FMTTYPE=image/jpeg:https://casarosasalvador.com.br/wp-content/uploads/2023/05/Samba-pra-Rua.jpeg
END:VEVENT
END:VCALENDAR