BEGIN:VCALENDAR
VERSION:2.0
PRODID:-//casa rosa - ECPv6.13.2.1//NONSGML v1.0//EN
CALSCALE:GREGORIAN
METHOD:PUBLISH
X-ORIGINAL-URL:https://casarosasalvador.com.br
X-WR-CALDESC:Eventos para casa rosa
REFRESH-INTERVAL;VALUE=DURATION:PT1H
X-Robots-Tag:noindex
X-PUBLISHED-TTL:PT1H
BEGIN:VTIMEZONE
TZID:America/Sao_Paulo
BEGIN:STANDARD
TZOFFSETFROM:-0300
TZOFFSETTO:-0300
TZNAME:-03
DTSTART:20240101T000000
END:STANDARD
END:VTIMEZONE
BEGIN:VEVENT
DTSTART;TZID=America/Sao_Paulo:20240229T210000
DTEND;TZID=America/Sao_Paulo:20240301T210000
DTSTAMP:20260424T225729
CREATED:20240220T224852Z
LAST-MODIFIED:20240222T232140Z
UID:1332-1709240400-1709326800@casarosasalvador.com.br
SUMMARY:Cézar Mendes
DESCRIPTION:O compositor e violonista santamarense Cézar Mendes fará o seu primeiro show\, aos 72 anos de vida\, acompanhado de Ivan Sacerdote\, no clarinete\, e Felipe Guedes\, na guitarra. Intitulada “Depois enfim”\, a apresentação será no Teatro Cambará da Casa Rosa\, localizada no Rio Vermelho. \nO artista\, que acompanhou nomes como Adriana Calcanhotto e Tribalistas\, é autor de algumas das mais belas canções da música brasileira\, como “Aquele Frevo Axé”\, sua primeira composição\, faixa-título do álbum que Gal Costa lançou em 1998. \nO título do espetáculo é o mesmo do seu primeiro álbum\, lançado em 2018\, que tem participações de Caetano Veloso\, Djavan\, Marisa Monte\, Fernanda Montenegro\, Adriana Calcanhotto\, Arnaldo Antunes\, Carminho\, António Zambujo\, Moreno e Tom Veloso e produção de Arto Lindsay\, Marisa Monte e Mário Caldato Jr. \nCÉZAR MENDES\nQuando: 29 de fevereiro de 2024 (quinta-feira)\, 21h\nData extra: 1º de março de 2024 (sexta-feira)\, 21h\nÉ proibida a entrada após o início do espetáculo\nOnde: Teatro Cambará da Casa Rosa\n(Praça Colombo\, 106 – Rio Vermelho – Salvador\, Bahia)\nQuanto: R$ 80 (inteira) | R$ 40 (meia)\nVendas antecipadas pela Sympla: https://linktr.ee/casarosasalvador\nClassificação indicativa: Livre \nMEIA-ENTRADA\nA Casa Rosa cumpre a Lei Federal 12.933 de 29/12/2013 e a Lei Municipal nº 9.763/2023\, que dispõem sobre o benefício do pagamento de meia-entrada.\n>> A concessão da meia-entrada é assegurada em 40% do total dos ingressos disponíveis para cada evento\n>> A comprovação do benefício de meia-entrada é obrigatória\, através de documentos específicos\, regulamentados e insubstituíveis\n>> A comprovação deverá ser feita no momento de entrada no dia do evento\n>> Quem adquiriu meia-entrada e não tiver a comprovação devida deverá fazer a complementação do valor para inteira para ter acesso ao evento; isto poderá ser feito no dia do evento\, na bilheteria do local \nOs públicos beneficiados são: \n\nEstudantes: apresentar a Carteira de Identificação Estudantil (CIE)\nIdosos maiores de 60 anos: apresentar documento de identificação oficial com foto\nPessoas com deficiência: apresentar Cartão de Benefício de Prestação Continuada da Assistência Social da pessoa com deficiência ou documento emitido pelo Instituto Nacional do Seguro Social (INSS) que ateste a aposentadoria de acordo com os critérios estabelecidos\, junto com documento de identificação oficial com foto\nJovens de baixa renda (pessoas com idade entre 15 e 29 anos que pertencem a família com renda mensal de até dois salários mínimos\, inscritas no Cadastro Único para Programas Sociais do Governo Federal – CADÚNICO): apresentar Carteira de Identidade Jovem emitida pela Secretaria Nacional de Juventude\, junto com documento de identificação oficial com foto\nProfessores\, coordenadores pedagógicos e titulares de cargos do quadro de apoio da rede de ensino da cidade de salvador\, ativos e aposentados: apresentar carteira funcional emitida pela Secretaria Municipal da Educação\, pela Secretaria Estadual da Educação\, pelo Ministério da Educação ou holerite do profissional da educação\, emitido pela instituição de ensino\, acompanhado de documento de identificação com foto.
URL:https://casarosasalvador.com.br/evento/cezar-mendes/
LOCATION:Teatro Cambará
ATTACH;FMTTYPE=image/jpeg:https://casarosasalvador.com.br/wp-content/uploads/2024/02/Cezar-Mendes-card-data-extra.jpeg
END:VEVENT
BEGIN:VEVENT
DTSTART;TZID=America/Sao_Paulo:20240304T193000
DTEND;TZID=America/Sao_Paulo:20241125T213000
DTSTAMP:20260424T225729
CREATED:20240304T232830Z
LAST-MODIFIED:20240306T000054Z
UID:1367-1709580600-1732570200@casarosasalvador.com.br
SUMMARY:Oficina Teatro Ato - Atuar e Transformar
DESCRIPTION:Com: Andréa Elia\nQuando: De 4 de março a 25 de novembro\, às segundas-feiras\, 19h30 às 21h30\nQuanto: R$ 250 (mensal)\nInscrições: Pelo WhatsApp 71 99117-6714 ou e-mail cursoato@gmail.com\nPúblico-alvo: Pessoas a partir de 15 anos. \nSobre a oficina: Oficina de teatro destinada a pessoas interessadas em expandir criativamente a autoexpressão no palco. “Atuar e Transformar” inspira a metodologia ATO\, que há 30 anos vem beneficiando mais de 900 integrantes\, entre crianças\, jovens e adultos\, seja no cenário pedagógico\, artístico\, familiar ou corporativo. \nO curso inclui apresentações no Teatro Cambará da Casa Rosa nos dias 30 de novembro e 1º de dezembro. O valor da taxa de participação no espetáculo é de R$ 400\, parcelados em até 5 vezes de R$ 80. Para os que não desejam se apresentar\, o programa se concluirá em junho\, não ingressando na etapa das aulas preparatórias para o espetáculo de conclusão. \nSobre Andréa Elia: Atriz\, educadora\, diretora teatral e terapeuta junguiana. Artista empreendedora com mais de 35 anos de carreira nos palcos\, tendo se apresentado no Brasil\, Portugal\, Espanha e Rússia. Vencedora do Prêmio Braskem de Teatro de Melhor Atriz pelo desempenho no espetáculo “As velhas”\, de 2010. Gestora e professora do Curso Ato de Teatro e professora de Oralidade do Colégio Helyos desde 2008. Professora de Drama Class da Gurilândia. Promove atendimentos personalizados da fala para profissionais da cultura e dos cenários corporativos.
URL:https://casarosasalvador.com.br/evento/oficina-teatro-ato-atuar-e-transformar/
LOCATION:Sala Rosa
ATTACH;FMTTYPE=image/jpeg:https://casarosasalvador.com.br/wp-content/uploads/2024/03/Card-Oficinas-2024.1-Teatro-Ato-1.jpeg
END:VEVENT
BEGIN:VEVENT
DTSTART;TZID=America/Sao_Paulo:20240305T190000
DTEND;TZID=America/Sao_Paulo:20241219T200000
DTSTAMP:20260424T225729
CREATED:20240304T233201Z
LAST-MODIFIED:20240529T154624Z
UID:1370-1709665200-1734638400@casarosasalvador.com.br
SUMMARY:Oficina Dança Afro
DESCRIPTION:Com: Nildinha Fonsêca\nQuando: De 5 de março a 19 de dezembro\, às terças e quintas-feiras\, 19h às 20h\nQuanto: R$ 250 (mensal) | R$ 50 (aula avulsa)\nInscrições: Pelo WhatsApp (71) 98796-2415\nPúblico-alvo: Todas as pessoas que querem se conectar com a energia ancestral. \nSobre a oficina: Tem o objetivo de proporcionar aos participantes o resgate da memória ancestral através da dança de matriz africana e diaspórica. Trabalha com o desenvolvimento do ritmo\, fortalecimento físico e muscular e percepção do corpo através dos movimentos e expressões do mesmo. \nSobre Nildinha Fonsêca: Mulher negra\, mãe\, candomblecista\, pesquisadora das danças de matriz africana e folclore brasileiro\, professora\, coreógrafa\, dançarina/intérprete. Coordenadora e professora da escola Balé Júnior do Balé Folclórico da Bahia\, bem como preparadora técnica do elenco da companhia. Diretora\, coreógrafa e produtora do grupo folclórico Bahia Axé. Atua como professora da dança afro no intuito de fortalecer\, valorizar e resgatar a memória ancestral.
URL:https://casarosasalvador.com.br/evento/oficina-danca-afro/
LOCATION:Sala Rosa
ATTACH;FMTTYPE=image/jpeg:https://casarosasalvador.com.br/wp-content/uploads/2024/03/Card-Oficinas-2024.1-Danca-Afro.jpeg
END:VEVENT
BEGIN:VEVENT
DTSTART;TZID=America/Sao_Paulo:20240307T200000
DTEND;TZID=America/Sao_Paulo:20240307T200000
DTSTAMP:20260424T225729
CREATED:20240221T012221Z
LAST-MODIFIED:20240221T012221Z
UID:1338-1709841600-1709841600@casarosasalvador.com.br
SUMMARY:Quinta da Casa: Duo Ninho
DESCRIPTION:Fruto da parceria entre os artistas Cândido e Talita Felício\, o Duo Ninho é atração do projeto “Quinta da Casa” da Casa Rosa no dia 7 de março\, às 20h\, no Teatro Cambará\, sala cênica de intimidade e proximidade com o público. A dupla\, que lançou seu primeiro EP em 2023 e celebra agora um ano da realização de seu show de estreia\, mistura MPB e ritmos nordestinos e vai apresentar no palco o seu mais novo single\, “Jaca Dura”. Ingressos custam R$ 50 (inteira) e R$ 25 (meia) e estão à venda pela plataforma Sympla. \nO Duo Ninho une a trajetória de dois artistas com um histórico singular de êxito em diversas linguagens artísticas. Seja na música ou em outras áreas\, o objetivo sempre foi levar seu trabalho para o maior público possível. Acolhimento\, afeto\, resiliência e leveza marcam o universo das canções autorais e releituras que compõem o repertório. \n“O Duo Ninho busca unir nossos talentos para criar novas oportunidades na arte. O single novo abre os caminhos para um 2024 de muitas conquistas\, já que\, no nosso primeiro ano\, alcançamos marcos importantes\, como ter nossa música entre as finalistas do Festival de Música Educadora FM\, shows com casa cheia\, e isso impulsiona a gente a querer mais!”\, explica Talita. \nCândido\, que assume a produção musical\, violões\, guitarra e voz em “Duo Ninho”\, é músico\, cantor\, compositor\, produtor musical e ator. Em suas composições\, mistura influências do pop com a música afro-brasileira. Já Talita Felício\, que atua como contrabaixista e cantora\, possui larga experiência integrando o NEOJIBA\, com o qual se apresentou em diversos países. \nQuinta da Casa apresenta:\nDUO NINHO\nQuando: 7 de março de 2024 (quinta-feira)\, 20h\nÉ proibida a entrada após o início do espetáculo\nOnde: Teatro Cambará da Casa Rosa\n(Praça Colombo\, 106 – Rio Vermelho – Salvador\, Bahia)\nQuanto: R$ 50 (inteira) | R$ 25 (meia)\nVendas antecipadas pela Sympla: https://linktr.ee/casarosasalvador\nClassificação indicativa: Livre \nMEIA-ENTRADA\nA Casa Rosa cumpre a Lei Federal 12.933 de 29/12/2013 e a Lei Municipal nº 9.763/2023\, que dispõem sobre o benefício do pagamento de meia-entrada. \n>> A concessão da meia-entrada é assegurada em 40% do total dos ingressos disponíveis para cada evento\n>> A comprovação do benefício de meia-entrada é obrigatória\, através de documentos específicos\, regulamentados e insubstituíveis\n>> A comprovação deverá ser feita no momento de entrada no dia do evento\n>> Quem adquiriu meia-entrada e não tiver a comprovação devida deverá fazer a complementação do valor para inteira para ter acesso ao evento; isto poderá ser feito no dia do evento\, na bilheteria do local \nOs públicos beneficiados são: \n\nEstudantes: apresentar a Carteira de Identificação Estudantil (CIE)\nIdosos maiores de 60 anos: apresentar documento de identificação oficial com foto\nPessoas com deficiência: apresentar Cartão de Benefício de Prestação Continuada da Assistência Social da pessoa com deficiência ou documento emitido pelo Instituto Nacional do Seguro Social (INSS) que ateste a aposentadoria de acordo com os critérios estabelecidos\, junto com documento de identificação oficial com foto\nJovens de baixa renda (pessoas com idade entre 15 e 29 anos que pertencem a família com renda mensal de até dois salários mínimos\, inscritas no Cadastro Único para Programas Sociais do Governo Federal – CADÚNICO): apresentar Carteira de Identidade Jovem emitida pela Secretaria Nacional de Juventude\, junto com documento de identificação oficial com foto\nProfessores\, coordenadores pedagógicos e titulares de cargos do quadro de apoio da rede de ensino da cidade de salvador\, ativos e aposentados: apresentar carteira funcional emitida pela Secretaria Municipal da Educação\, pela Secretaria Estadual da Educação\, pelo Ministério da Educação ou holerite do profissional da educação\, emitido pela instituição de ensino\, acompanhado de documento de identificação com foto.
URL:https://casarosasalvador.com.br/evento/quinta-da-casa-duo-ninho/
LOCATION:Teatro Cambará
ATTACH;FMTTYPE=image/jpeg:https://casarosasalvador.com.br/wp-content/uploads/2024/02/Duo-Ninho-card.jpeg
END:VEVENT
BEGIN:VEVENT
DTSTART;TZID=America/Sao_Paulo:20240310T100000
DTEND;TZID=America/Sao_Paulo:20240310T130000
DTSTAMP:20260424T225729
CREATED:20240301T034043Z
LAST-MODIFIED:20240301T034428Z
UID:1349-1710064800-1710075600@casarosasalvador.com.br
SUMMARY:Festival Nacional da Arte Capoeira
DESCRIPTION:No dia 10 de março\, das 10h às 13h\, o encerramento do Festival Nacional da Arte Capoeira ocupa a Casa Rosa com apresentações culturais\, jongo\, maculelê\, samba de roda\, batizado e troca de cordas de capoeira\, com alunos do projeto que acontece no bairro da Federação e com a presença do Mestre Dr.h.c Camisa\, fundador da Associação Brasileira de Apoio e Desenvolvimento da Arte Capoeira (ABADA). A entrada é gratuita.
URL:https://casarosasalvador.com.br/evento/festival-nacional-da-arte-capoeira/
LOCATION:Pátio Viração – Casa Rosa
ATTACH;FMTTYPE=image/jpeg:https://casarosasalvador.com.br/wp-content/uploads/2024/03/IMG-20240228-WA0059.jpg
END:VEVENT
BEGIN:VEVENT
DTSTART;TZID=America/Sao_Paulo:20240320T100000
DTEND;TZID=America/Sao_Paulo:20240320T100000
DTSTAMP:20260424T225729
CREATED:20240314T043652Z
LAST-MODIFIED:20240314T043749Z
UID:1386-1710928800-1710928800@casarosasalvador.com.br
SUMMARY:Festival Maré de Março - Encontro de Curadores
DESCRIPTION:O Festival Maré de Março (https://festivalmaredemarco.com.br) apresenta o Encontro de Curadores no dia 20 de março\, às 10h\, na Casa Rosa. Danni Hover\, idealizadora do FIL – Festival de Circo do Brasil\, e Francisco Pellé\, programador do FESTLUSO – Festival de Teatro Lusófono\, apresentarão seus festivais aos interessados e farão rodada de conversa individualizada com grupos e artistas que queiram apresentar suas propostas aos festivais. Preparem seus materiais! A inscrição (gratuita) para participar do encontro deve ser feita em formulário próprio disponível aqui.
URL:https://casarosasalvador.com.br/evento/festival-mare-de-marco-encontro-de-curadores/
LOCATION:Sala Rosa
ATTACH;FMTTYPE=image/png:https://casarosasalvador.com.br/wp-content/uploads/2024/03/Encontro-de-Curadores.png
END:VEVENT
BEGIN:VEVENT
DTSTART;TZID=America/Sao_Paulo:20240321T200000
DTEND;TZID=America/Sao_Paulo:20240321T200000
DTSTAMP:20260424T225729
CREATED:20240302T020300Z
LAST-MODIFIED:20240302T020300Z
UID:1361-1711051200-1711051200@casarosasalvador.com.br
SUMMARY:Quinta da Casa: Oderiê
DESCRIPTION:Multiartista afro-indígena da etnia Cha-Yúa (Nação Charruá)\, Oderiê utiliza a música e o audiovisual para ativar sua cultura e ancestralidade no presente e nas zonas urbanas\, nadando contra a colonização de corpos-territórios. Seu projeto “Oderiê y As Flechas”\, uma performance sonora\, rítmica e poétnica\, será apresentado no “Quinta da Casa” da Casa Rosa\, no dia 21 de março\, às 20h\, no Teatro Cambará. Ingressos custam R$ 50 (inteira) e R$ 25 (meia) e estão à venda pela plataforma Sympla. \nOderiê é uma pessoa trans não binária\, nascida na Serra Catarinense\, criada na Serra Gaúcha e hoje residente em Salvador\, identificando-se como um corpo transfronteiriço\, do encontro das Pampas com Mata Atlântica. Seu trabalho busca romper as narrativas patriarcais e binárias que tentam silenciar os povos originários\, fazendo experimentações com seu corpo entregue\, como um instrumento dos encantados que guiam cada processo do seu fazer e existir. \nA performance “Oderiê y As Flechas” é um levante sensível das musicalidades\, memórias e ancestralidades de pessoas originárias e negras da América do Sul em contextos periféricos\, urbanos e contemporâneos. Mistura dança\, música eletrônica\, orgânica e ancestral\, reivindicando o direito à identidade\, a demarcação e o respeito à autonomia dos povos. A banda e equipe técnica são formadas integralmente por pessoas indígenas\, pretas e LGBTQIAPN+. \nSeu primeiro single autoral\, “Corpo Terra”\, foi lançado em 2021 e escrito a partir das memórias sobre os rios que a acompanharam enquanto cruzava fronteiras dos dois estados do Sul em que viveu na infância. “Tento transmitir a importância da história desses rios\, que são rastros de memória e ancestralidade\, e que também estão dentro de nós e nos acompanham através dos lugares que decidimos ocupar. Somos um corpo Terra e um corpo Rio\, e nossos movimentos são a manifestação desses encantados que guiam e protegem a vida na natureza. Por isso\, a nossa luta pela autodemarcação é tão importante para manter viva a cultura dos nossos povos”\, explica Oderiê. \nCom o EP “Oblé Nderé” (2022)\, passou por festivais como a Aldeia Sesc Caxias do Sul\, dividindo palco com Anelis Assumpção\, e Circuito Orelhas\, ao lado de artistas como Brisa Flow\, Filipe Catto e Marina Sena. \nQuinta da Casa apresenta:\nODERIÊ\nQuando: 21 de março de 2024 (quinta-feira)\, 20h\nÉ proibida a entrada após o início do espetáculo\nOnde: Teatro Cambará da Casa Rosa\n(Praça Colombo\, 106 – Rio Vermelho – Salvador\, Bahia)\nQuanto: R$ 50 (inteira) | R$ 25 (meia)\nVendas antecipadas pela Sympla: https://linktr.ee/casarosasalvador\nClassificação indicativa: Livre \nMEIA-ENTRADA\nA Casa Rosa cumpre a Lei Federal 12.933 de 29/12/2013 e a Lei Municipal nº 9.763/2023\, que dispõem sobre o benefício do pagamento de meia-entrada. \n>> A concessão da meia-entrada é assegurada em 40% do total dos ingressos disponíveis para cada evento\n>> A comprovação do benefício de meia-entrada é obrigatória\, através de documentos específicos\, regulamentados e insubstituíveis\n>> A comprovação deverá ser feita no momento de entrada no dia do evento\n>> Quem adquiriu meia-entrada e não tiver a comprovação devida deverá fazer a complementação do valor para inteira para ter acesso ao evento; isto poderá ser feito no dia do evento\, na bilheteria do local \nOs públicos beneficiados são: \n\nEstudantes: apresentar a Carteira de Identificação Estudantil (CIE)\nIdosos maiores de 60 anos: apresentar documento de identificação oficial com foto\nPessoas com deficiência: apresentar Cartão de Benefício de Prestação Continuada da Assistência Social da pessoa com deficiência ou documento emitido pelo Instituto Nacional do Seguro Social (INSS) que ateste a aposentadoria de acordo com os critérios estabelecidos\, junto com documento de identificação oficial com foto\nJovens de baixa renda (pessoas com idade entre 15 e 29 anos que pertencem a família com renda mensal de até dois salários mínimos\, inscritas no Cadastro Único para Programas Sociais do Governo Federal – CADÚNICO): apresentar Carteira de Identidade Jovem emitida pela Secretaria Nacional de Juventude\, junto com documento de identificação oficial com foto\nProfessores\, coordenadores pedagógicos e titulares de cargos do quadro de apoio da rede de ensino da cidade de salvador\, ativos e aposentados: apresentar carteira funcional emitida pela Secretaria Municipal da Educação\, pela Secretaria Estadual da Educação\, pelo Ministério da Educação ou holerite do profissional da educação\, emitido pela instituição de ensino\, acompanhado de documento de identificação com foto.
URL:https://casarosasalvador.com.br/evento/quinta-da-casa-oderie/
LOCATION:Teatro Cambará
ATTACH;FMTTYPE=image/jpeg:https://casarosasalvador.com.br/wp-content/uploads/2024/03/Oderie-card.jpeg
END:VEVENT
BEGIN:VEVENT
DTSTART;TZID=America/Sao_Paulo:20240324T180000
DTEND;TZID=America/Sao_Paulo:20240324T180000
DTSTAMP:20260424T225729
CREATED:20240318T215634Z
LAST-MODIFIED:20240318T215634Z
UID:1395-1711303200-1711303200@casarosasalvador.com.br
SUMMARY:Leo Cavalcanti: audição de “Canções em Chamas”
DESCRIPTION:O cantor e compositor Leo Cavalcanti vai lançar seu novo disco\, “Canções em Chamas”\, no dia 28 de março\, pela gravadora Deck. Antes disso\, no domingo\, dia 24\, às 18h\, o artista recebe o público no Teatro Cambará da Casa Rosa para audição em primeira mão do álbum completo. A entrada é gratuita\, sujeita à lotação do espaço. \n“‘Canções em Chamas’ é a fogueira musical que alimento há tempos no campo do desejo\, do sonho e do trabalho. É um álbum que estou elaborando desde que vim morar em Salvador\, no final de 2017”\, diz o paulista\, que continua: “Queria fazer um álbum que expressasse a intensidade desses tempos abissais\, de tantas urgências\, desafios e transformações aceleradas. Me fazia (e ainda me faço) as seguintes perguntas: num momento da humanidade em que nos deparamos com o horror da desigualdade social cada vez mais aprofundada; do aquecimento global e suas péssimas perspectivas de futuro para nós; da ascensão do neofascismo aqui e acolá; do machismo e racismo estruturais que seguem nos corroendo – quais são os cantos que quero e preciso cantar? O que meu canto quer dizer? O que é fazer arte hoje num Brasil em chamas? Qual o sentido de fazer música\, hoje\, para mim? Perguntas essenciais\, cujas respostas só eu mesmo posso encontrar”. \nMuitas das canções compostas por Leo para o álbum evocam diversas qualidades do fogo. Ele fala de amor\, de dor\, de Salvador\, do Brasil\, de abismos\, de desejo\, de tesão\, de potência\, de luta\, de movimento\, de mistério. As chamas são eróticas\, políticas e\, inevitavelmente\, queimam com as angústias de nossos tempos. Musicalmente\, surge um pop cheio de pulso e sem muros\, em que o artista retoma seu lugar como produtor musical e arranjador. Em algumas faixas\, há a coprodução de Enio ou de Sebastian Notini. \nA faixa “Nós Nus”\, cantada junto com Caetano Veloso\, foi lançada como single em janeiro. “É uma honra difícil de traduzir em palavras. Ouvir Caetano cantando os versos foi e é uma das maiores emoções da minha vida. Essa canção\, erótica e romântica e também existencialista\, disserta sobre o estar nu – consigo mesmo e com o outro. Foi inevitável achar que tinha tudo a ver com ele e uma ousadia minha que deu certo: convidar Caetano para participar e ele aceitar”\, descreve Leo. Os também baianos Hiran e Josyara completam a lista de cantores que fazem participações especiais. \nLeo Cavalcanti\nAudição pública “Canções em Chamas”\nQuando: 24 de março de 2024 (domingo)\, 18h\nÉ proibida a entrada após o início da sessão\nOnde: Teatro Cambará da Casa Rosa\n(Praça Colombo\, 106 – Rio Vermelho – Salvador\, Bahia)\nQuanto: Gratuito (sujeito à lotação do espaço)\nClassificação indicativa: Livre
URL:https://casarosasalvador.com.br/evento/leo-cavalcanti-audicao-de-cancoes-em-chamas/
LOCATION:Teatro Cambará
ATTACH;FMTTYPE=image/jpeg:https://casarosasalvador.com.br/wp-content/uploads/2024/03/Leo-Cavalcanti-capa.jpg
END:VEVENT
BEGIN:VEVENT
DTSTART;TZID=America/Sao_Paulo:20240330T080000
DTEND;TZID=America/Sao_Paulo:20240331T213000
DTSTAMP:20260424T225729
CREATED:20240301T041153Z
LAST-MODIFIED:20240301T041153Z
UID:1353-1711785600-1711920600@casarosasalvador.com.br
SUMMARY:ConDan.SSA
DESCRIPTION:O Convergências em Dança Salvador (ConDan.SSA) é um evento direcionado para disseminar a linguagem artística da dança através de um intensivo de dança. Idealizada por Caio Vinícius Santos Lopes\, Maria Victória Vieira e Andreza Bastos Reis\, a 1ª edição do ConDan.SSA acontecerá nos dias 30 e 31 de março\, das 8h às 21h30\, na Casa Rosa\, marcando a chegada do Mês da Dança\, que é celebrado em abril. \nA proposta é de iniciar esse ciclo trazendo uma nova experiência aos eventos de dança na cidade\, buscando a convergência em uma formação multidisciplinar com diferentes modalidades e metodologias à linguagem da dança. O encontro tem como enfoque proporcionar um espaço de conexão\, networking e aprendizado aos profissionais da cidade e região. \nA programação do ConDan.SSA conta com aulas de dança\, palestras\, exibições audiovisuais e mostras artísticas. Serão 12 profissionais da dança\, contando com professores locais (Bahia) e de outros estados do país\, como São Paulo\, Minas Gerais e Paraná. Além das aulas\, acontecerão duas noites de mostra artística com grupos de dança convidados atuantes na cena de dança da cidade e a estreia do espetáculo “Parallax”\, com direção de Andreza Bastos Reis. \nConDan.SSA\nQuando: 30 e 31 de março de 2024 (sábado e domingo)\, 8h às 21h30\nOnde: Casa Rosa (Praça Colombo\, 106 – Rio Vermelho – Salvador\, Bahia)\nQuanto: Pacotes variam de R$ 30 a R$ 270\nVendas: https://linktr.ee/casarosasalvador\nClassificação indicativa: 15 anos
URL:https://casarosasalvador.com.br/evento/condan-ssa/
ATTACH;FMTTYPE=image/png:https://casarosasalvador.com.br/wp-content/uploads/2024/03/Post-Principal.png
END:VEVENT
END:VCALENDAR