BEGIN:VCALENDAR
VERSION:2.0
PRODID:-//casa rosa - ECPv6.13.2.1//NONSGML v1.0//EN
CALSCALE:GREGORIAN
METHOD:PUBLISH
X-ORIGINAL-URL:https://casarosasalvador.com.br
X-WR-CALDESC:Eventos para casa rosa
REFRESH-INTERVAL;VALUE=DURATION:PT1H
X-Robots-Tag:noindex
X-PUBLISHED-TTL:PT1H
BEGIN:VTIMEZONE
TZID:America/Sao_Paulo
BEGIN:STANDARD
TZOFFSETFROM:-0300
TZOFFSETTO:-0300
TZNAME:-03
DTSTART:20240101T000000
END:STANDARD
END:VTIMEZONE
BEGIN:VEVENT
DTSTART;TZID=America/Sao_Paulo:20240304T193000
DTEND;TZID=America/Sao_Paulo:20241125T213000
DTSTAMP:20260424T130518
CREATED:20240304T232830Z
LAST-MODIFIED:20240306T000054Z
UID:1367-1709580600-1732570200@casarosasalvador.com.br
SUMMARY:Oficina Teatro Ato - Atuar e Transformar
DESCRIPTION:Com: Andréa Elia\nQuando: De 4 de março a 25 de novembro\, às segundas-feiras\, 19h30 às 21h30\nQuanto: R$ 250 (mensal)\nInscrições: Pelo WhatsApp 71 99117-6714 ou e-mail cursoato@gmail.com\nPúblico-alvo: Pessoas a partir de 15 anos. \nSobre a oficina: Oficina de teatro destinada a pessoas interessadas em expandir criativamente a autoexpressão no palco. “Atuar e Transformar” inspira a metodologia ATO\, que há 30 anos vem beneficiando mais de 900 integrantes\, entre crianças\, jovens e adultos\, seja no cenário pedagógico\, artístico\, familiar ou corporativo. \nO curso inclui apresentações no Teatro Cambará da Casa Rosa nos dias 30 de novembro e 1º de dezembro. O valor da taxa de participação no espetáculo é de R$ 400\, parcelados em até 5 vezes de R$ 80. Para os que não desejam se apresentar\, o programa se concluirá em junho\, não ingressando na etapa das aulas preparatórias para o espetáculo de conclusão. \nSobre Andréa Elia: Atriz\, educadora\, diretora teatral e terapeuta junguiana. Artista empreendedora com mais de 35 anos de carreira nos palcos\, tendo se apresentado no Brasil\, Portugal\, Espanha e Rússia. Vencedora do Prêmio Braskem de Teatro de Melhor Atriz pelo desempenho no espetáculo “As velhas”\, de 2010. Gestora e professora do Curso Ato de Teatro e professora de Oralidade do Colégio Helyos desde 2008. Professora de Drama Class da Gurilândia. Promove atendimentos personalizados da fala para profissionais da cultura e dos cenários corporativos.
URL:https://casarosasalvador.com.br/evento/oficina-teatro-ato-atuar-e-transformar/
LOCATION:Sala Rosa
ATTACH;FMTTYPE=image/jpeg:https://casarosasalvador.com.br/wp-content/uploads/2024/03/Card-Oficinas-2024.1-Teatro-Ato-1.jpeg
END:VEVENT
BEGIN:VEVENT
DTSTART;TZID=America/Sao_Paulo:20240305T190000
DTEND;TZID=America/Sao_Paulo:20241219T200000
DTSTAMP:20260424T130518
CREATED:20240304T233201Z
LAST-MODIFIED:20240529T154624Z
UID:1370-1709665200-1734638400@casarosasalvador.com.br
SUMMARY:Oficina Dança Afro
DESCRIPTION:Com: Nildinha Fonsêca\nQuando: De 5 de março a 19 de dezembro\, às terças e quintas-feiras\, 19h às 20h\nQuanto: R$ 250 (mensal) | R$ 50 (aula avulsa)\nInscrições: Pelo WhatsApp (71) 98796-2415\nPúblico-alvo: Todas as pessoas que querem se conectar com a energia ancestral. \nSobre a oficina: Tem o objetivo de proporcionar aos participantes o resgate da memória ancestral através da dança de matriz africana e diaspórica. Trabalha com o desenvolvimento do ritmo\, fortalecimento físico e muscular e percepção do corpo através dos movimentos e expressões do mesmo. \nSobre Nildinha Fonsêca: Mulher negra\, mãe\, candomblecista\, pesquisadora das danças de matriz africana e folclore brasileiro\, professora\, coreógrafa\, dançarina/intérprete. Coordenadora e professora da escola Balé Júnior do Balé Folclórico da Bahia\, bem como preparadora técnica do elenco da companhia. Diretora\, coreógrafa e produtora do grupo folclórico Bahia Axé. Atua como professora da dança afro no intuito de fortalecer\, valorizar e resgatar a memória ancestral.
URL:https://casarosasalvador.com.br/evento/oficina-danca-afro/
LOCATION:Sala Rosa
ATTACH;FMTTYPE=image/jpeg:https://casarosasalvador.com.br/wp-content/uploads/2024/03/Card-Oficinas-2024.1-Danca-Afro.jpeg
END:VEVENT
BEGIN:VEVENT
DTSTART;TZID=America/Sao_Paulo:20241010T200000
DTEND;TZID=America/Sao_Paulo:20241010T200000
DTSTAMP:20260424T130518
CREATED:20240920T021658Z
LAST-MODIFIED:20240920T021948Z
UID:1660-1728590400-1728590400@casarosasalvador.com.br
SUMMARY:Quinta da Casa: “Replay – Para Não Esquecer”
DESCRIPTION:O projeto “Quinta da Casa” traz ao Teatro Cambará da Casa Rosa o espetáculo “Replay – Para Não Esquecer”\, com direção de Gabriel Nascimento\, codireção de Daniel Marques e livremente inspirado no clássico texto “A Lira dos 20 Anos”\, de Paulo César Coutinho. A peça será apresentada no dia 10 de outubro\, às 20h. Ingressos custam R$ 30 (inteira)\, R$ 15 (meia) e R$ 20 (ingresso solidário) e estão à venda pela Sympla. \nEm 1968\, tudo é ameaça e promessa\, perigo e desejo. “Replay – Para Não Esquecer” narra a história de seis jovens recém-chegados à universidade pública durante o período mais repressivo da ditadura militar no Brasil. Com o ânimo inconfundível da juventude que almeja um futuro sublime para si e para o país\, eles combatem o regime opressivo violentamente\, pegando em armas para render as autoridades e tomar o poder. No curso da história\, porém\, o dilema entre a luta política e o vigor da juventude se expõe: beijar a boca de quem se gosta em uma sala de cinema ou guerrilhar\, afinal? \nEm uma narrativa fragmentada\, o encenador Gabriel Nascimento embaralha a ordem cronológica dos acontecimentos do enredo. A peça\, desse modo\, torna-se a colcha de retalhos das memórias daqueles jovens. O que o público assiste em “Replay – Para Não Esquecer” é\, portanto\, uma jornada inquieta e evocativa por entre os terrores\, desejos\, violências\, gozos experienciados pelos personagens. Beijar ou guerrilhar? Amar ou armar? Cantar ou calar? \nDepois da sessão no “Quinta da Casa”\, o espetáculo terá mais três apresentações na Casa Rosa: no dia 12 de outubro (sábado)\, às 19h\, e no dia 13 (domingo)\, em dois horários\, às 16h e às 19h. \nQuinta da Casa apresenta:\nREPLAY – PARA NÃO ESQUECER \nQuando: 10 de outubro de 2024 (quinta-feira)\, 20h\nÉ proibida a entrada após o início do espetáculo\nOnde: Teatro Cambará da Casa Rosa\n(Praça Colombo\, 106 – Rio Vermelho – Salvador\, Bahia)\nQuanto: R$ 30 (inteira) | R$ 15 (meia) | R$ 20 (ingresso solidário)*\nIngresso solidário válido com a doação de 1kg de alimento não perecível na entrada do evento\nVendas antecipadas pela Sympla: https://linktr.ee/casarosasalvador\nClassificação indicativa: 14 anos \nMEIA-ENTRADA\nA Casa Rosa cumpre a Lei Federal 12.933 de 29/12/2013 e a Lei Municipal 9.763/2023\, que dispõem sobre o benefício do pagamento de meia-entrada.\n>> A concessão da meia-entrada é assegurada em 40% do total dos ingressos disponíveis para cada evento\n>> A comprovação do benefício de meia-entrada é obrigatória\, através de documentos específicos\, regulamentados e insubstituíveis\n>> A comprovação deverá ser feita no momento de entrada no dia do evento\n>> Quem adquiriu meia-entrada e não tiver a comprovação devida deverá fazer a complementação do valor para inteira para ter acesso ao evento; isto poderá ser feito no dia do evento\, na bilheteria do local \nOs públicos beneficiados são: \n\nEstudantes: apresentar a Carteira de Identificação Estudantil (CIE)\nIdosos maiores de 60 anos: apresentar documento de identificação oficial com foto\nPessoas com deficiência: apresentar Cartão de Benefício de Prestação Continuada da Assistência Social da pessoa com deficiência ou documento emitido pelo Instituto Nacional do Seguro Social (INSS) que ateste a aposentadoria de acordo com os critérios estabelecidos\, junto com documento de identificação oficial com foto\nJovens de baixa renda (pessoas com idade entre 15 e 29 anos que pertencem a família com renda mensal de até dois salários mínimos\, inscritas no Cadastro Único para Programas Sociais do Governo Federal – CADÚNICO): apresentar Carteira de Identidade Jovem emitida pela Secretaria Nacional de Juventude\, junto com documento de identificação oficial com foto\nProfessores\, coordenadores pedagógicos e titulares de cargos do quadro de apoio da rede de ensino da cidade de Salvador\, ativos e aposentados: apresentar carteira funcional emitida pela Secretaria Municipal da Educação\, pela Secretaria Estadual da Educação\, pelo Ministério da Educação ou holerite do profissional da educação\, emitido pela instituição de ensino\, acompanhado de documento de identificação com foto.
URL:https://casarosasalvador.com.br/evento/quinta-da-casa-replay-para-nao-esquecer/
LOCATION:Teatro Cambará
ATTACH;FMTTYPE=image/jpeg:https://casarosasalvador.com.br/wp-content/uploads/2024/09/Quinta-da-Casa-Replay-card.jpeg
END:VEVENT
BEGIN:VEVENT
DTSTART;TZID=America/Sao_Paulo:20241011T200000
DTEND;TZID=America/Sao_Paulo:20241011T200000
DTSTAMP:20260424T130518
CREATED:20241004T125326Z
LAST-MODIFIED:20241004T180517Z
UID:1699-1728676800-1728676800@casarosasalvador.com.br
SUMMARY:Belô Velloso
DESCRIPTION:Belô Velloso canta Caetano Veloso em show de estreia do EP “Belô Odara!”. O projeto que nasceu de um show em homenagem aos 80 anos do artista baiano reúne canções que a sobrinha de Caetano nunca havia gravado. As músicas interpretadas\, com arranjos de Tito Oxossi (baixo e programações)\, apresentam a influência do cenário musical atual\, transitando pelo afrobeat\, reggae e sofrência\, trazendo um pouco do sotaque do trabalho da artista para as canções do poeta do tropicalismo\, traduzindo a maneira de Belô cantar. Ela também é acompanhada por Beto Márcio\, no violão\, e Marcelo Pinho na percuteria. \n“Quis trazer a minha maneira de cantar\, me apropriar mesmo das canções de Caetano\, vesti-las com novas cores”\, define a baiana de linhagem musical nobre. \n“Foi difícil selecionar o repertório. Todas as canções de Caetano são importantes para mim\, pessoalmente\, e de uma grandiosidade enorme na música popular brasileira. Reverenciar Caetano é reverenciar a minha família. Suas canções também falam da minha história\, da história de Santo Amaro\, de Salvador\, da Bahia. A obra de Caetano para mim é o marco inicial: parece que eu estou voltando ao começo de tudo. Então\, é um recomeço\, é reverenciar a ancestralidade\, quem veio antes de mim. E recomeçar pela obra de Caetano. É uma nova fase da minha vida de cantora\, na minha vida de artista”\, conclui Belô Velloso. \nBelô Velloso – Belô Odara!\nQuando: 11 de outubro de 2024 (sexta-feira)\, 20h\nÉ proibida a entrada após o início do espetáculo\nOnde: Teatro Cambará da Casa Rosa\n(Praça Colombo\, 106 – Rio Vermelho – Salvador\, Bahia)\nQuanto: R$ 60 (inteira) | R$ 30 (meia)\nVendas antecipadas pela Sympla: https://linktr.ee/casarosasalvador\nClassificação indicativa: Livre \nOs públicos beneficiados são: \n\nEstudantes: apresentar a Carteira de Identificação Estudantil (CIE)\nIdosos maiores de 60 anos: apresentar documento de identificação oficial com foto\nPessoas com deficiência: apresentar Cartão de Benefício de Prestação Continuada da Assistência Social da pessoa com deficiência ou documento emitido pelo Instituto Nacional do Seguro Social (INSS) que ateste a aposentadoria de acordo com os critérios estabelecidos\, junto com documento de identificação oficial com foto\nJovens de baixa renda (pessoas com idade entre 15 e 29 anos que pertencem a família com renda mensal de até dois salários mínimos\, inscritas no Cadastro Único para Programas Sociais do Governo Federal – CADÚNICO): apresentar Carteira de Identidade Jovem emitida pela Secretaria Nacional de Juventude\, junto com documento de identificação oficial com foto\nProfessores\, coordenadores pedagógicos e titulares de cargos do quadro de apoio da rede de ensino da cidade de Salvador\, ativos e aposentados: apresentar carteira funcional emitida pela Secretaria Municipal da Educação\, pela Secretaria Estadual da Educação\, pelo Ministério da Educação ou holerite do profissional da educação\, emitido pela instituição de ensino\, acompanhado de documento de identificação com foto.
URL:https://casarosasalvador.com.br/evento/belo-velloso/
LOCATION:Teatro Cambará
ATTACH;FMTTYPE=image/png:https://casarosasalvador.com.br/wp-content/uploads/2024/10/Belo-Velloso-card.png
END:VEVENT
BEGIN:VEVENT
DTSTART;TZID=America/Sao_Paulo:20241012T190000
DTEND;TZID=America/Sao_Paulo:20241013T190000
DTSTAMP:20260424T130518
CREATED:20240923T201511Z
LAST-MODIFIED:20240923T201637Z
UID:1673-1728759600-1728846000@casarosasalvador.com.br
SUMMARY:Replay – Para Não Esquecer
DESCRIPTION:Em 1968\, tudo é ameaça e promessa\, perigo e desejo. “Replay – Para Não Esquecer” narra a história de seis jovens recém-chegados à universidade pública durante o período mais repressivo da ditadura militar no Brasil. Com o ânimo inconfundível da juventude que almeja um futuro sublime para si e para o país\, eles combatem o regime opressivo violentamente\, pegando em armas para render as autoridades e tomar o poder. No curso da história\, porém\, o dilema entre a luta política e o vigor da juventude se expõe: beijar a boca de quem se gosta em uma sala de cinema ou guerrilhar\, afinal? \nEm uma narrativa fragmentada\, o encenador Gabriel Nascimento\, inspirando-se no clássico texto “A Lira Dos 20 Anos”\, de Paulo César Coutinho\, embaralha a ordem cronológica dos acontecimentos do enredo. A peça\, desse modo\, torna-se a colcha de retalhos das memórias daqueles jovens. O que o público assiste em “Replay – Para Não Esquecer” é\, portanto\, uma jornada inquieta e evocativa por entre os terrores\, desejos\, violências\, gozos experienciados pelos personagens. Beijar ou guerrilhar? Amar ou armar? Cantar ou calar? Em 2024\, tudo é ameaça e promessa\, perigo e desejo. \nREPLAY – PARA NÃO ESQUECER \nQuando:\n12 de outubro de 2024 (sábado)\, 19h\n13 de outubro de 2024 (domingo)\, 16h e 19h\nÉ proibida a entrada após o início do espetáculo\nOnde: Teatro Cambará da Casa Rosa\n(Praça Colombo\, 106 – Rio Vermelho – Salvador\, Bahia)\nQuanto: R$ 30 (inteira) | R$ 15 (meia) | R$ 20 (ingresso solidário)*\nIngresso solidário válido com a doação de 1kg de alimento não perecível na entrada do evento\nVendas antecipadas pela Sympla: https://linktr.ee/casarosasalvador\nClassificação indicativa: 14 anos \nMEIA-ENTRADA\nA Casa Rosa cumpre a Lei Federal 12.933 de 29/12/2013 e a Lei Municipal 9.763/2023\, que dispõem sobre o benefício do pagamento de meia-entrada.\n>> A concessão da meia-entrada é assegurada em 40% do total dos ingressos disponíveis para cada evento\n>> A comprovação do benefício de meia-entrada é obrigatória\, através de documentos específicos\, regulamentados e insubstituíveis\n>> A comprovação deverá ser feita no momento de entrada no dia do evento\n>> Quem adquiriu meia-entrada e não tiver a comprovação devida deverá fazer a complementação do valor para inteira para ter acesso ao evento; isto poderá ser feito no dia do evento\, na bilheteria do local \nOs públicos beneficiados são: \n\nEstudantes: apresentar a Carteira de Identificação Estudantil (CIE)\nIdosos maiores de 60 anos: apresentar documento de identificação oficial com foto\nPessoas com deficiência: apresentar Cartão de Benefício de Prestação Continuada da Assistência Social da pessoa com deficiência ou documento emitido pelo Instituto Nacional do Seguro Social (INSS) que ateste a aposentadoria de acordo com os critérios estabelecidos\, junto com documento de identificação oficial com foto\nJovens de baixa renda (pessoas com idade entre 15 e 29 anos que pertencem a família com renda mensal de até dois salários mínimos\, inscritas no Cadastro Único para Programas Sociais do Governo Federal – CADÚNICO): apresentar Carteira de Identidade Jovem emitida pela Secretaria Nacional de Juventude\, junto com documento de identificação oficial com foto\nProfessores\, coordenadores pedagógicos e titulares de cargos do quadro de apoio da rede de ensino da cidade de Salvador\, ativos e aposentados: apresentar carteira funcional emitida pela Secretaria Municipal da Educação\, pela Secretaria Estadual da Educação\, pelo Ministério da Educação ou holerite do profissional da educação\, emitido pela instituição de ensino\, acompanhado de documento de identificação com foto.
URL:https://casarosasalvador.com.br/evento/replay-para-nao-esquecer/
LOCATION:Teatro Cambará
ATTACH;FMTTYPE=image/jpeg:https://casarosasalvador.com.br/wp-content/uploads/2024/09/Replay-card.jpg
END:VEVENT
BEGIN:VEVENT
DTSTART;TZID=America/Sao_Paulo:20241019T200000
DTEND;TZID=America/Sao_Paulo:20241019T200000
DTSTAMP:20260424T130518
CREATED:20240904T154729Z
LAST-MODIFIED:20241015T040834Z
UID:1644-1729368000-1729368000@casarosasalvador.com.br
SUMMARY:Isa Buzzi
DESCRIPTION:Ganhadora do Prêmio Multishow na categoria Brasil\, Isa Buzzi faz sua estreia em Salvador dia 19 de outubro na Casa Rosa. \nIsa\, que hoje acumula mais de 1\,3 milhão de seguidores nas redes sociais e teve mais de 100 milhões de visualizações em seu canal do YouTube em 2023\, começou sua carreira em 2019 postando covers na internet munida somente do seu ukulele. A artista despontou em seus primeiros lançamentos e\, em 2022\, assinou com o selo e escritório artístico Angorá Music\, que já atuou em projetos como Manu Gavassi e banda FLY. \nEm 2023\, assinou com a gravadora independente Deck (Pitty\, Nx Zero) e emplacou o hit “Direitos Autorais” no YouTube\, que\, além de ultrapassar dezenas de milhões de visualizações em seu clipe e no YouTube Shorts\, foi a faixa indicada ao Prêmio Multishow na categoria “Brasil” e por escolha e voto popular foi a grande vencedora. \nIsa Buzzi\nQuando: 19 de outubro de 2024 (sábado)\nMeet & Greet: 17h às 19h\nAbertura da Casa: 19h\nShow: 20h\nOnde: Casa Rosa (Praça Colombo\, 106 – Rio Vermelho – Salvador\, Bahia)\nQuanto:\n1º lote: R$ 80 (inteira) | R$ 40 (meia)\n2º lote: R$ 100 (inteira) | R$ 50 (meia)\n3º lote: R$ 120 (inteira) | R$ 60 (meia)\nVendas antecipadas pela Sympla: https://linktr.ee/casarosasalvador\nClassificação indicativa: 14 anos \nMEIA-ENTRADA\nA Casa Rosa cumpre a Lei Federal 12.933/2013\, a Lei Municipal 9.763/2023 e a Lei Estadual 14.765/2024\, que dispõem sobre o benefício do pagamento de meia-entrada.\n>> A concessão da meia-entrada é assegurada em 40% do total dos ingressos disponíveis para cada evento\n>> A comprovação do benefício de meia-entrada é obrigatória\, através de documentos específicos\, regulamentados e insubstituíveis\n>> A comprovação deverá ser feita no momento de entrada no dia do evento\n>> Quem adquiriu meia-entrada e não tiver a comprovação devida deverá fazer a complementação do valor para inteira para ter acesso ao evento; isto poderá ser feito no dia do evento\, na bilheteria do local \nOs públicos beneficiados são: \n\nEstudantes: apresentar a Carteira de Identificação Estudantil (CIE)\nIdosos maiores de 60 anos: apresentar documento de identificação oficial com foto\nPessoas com deficiência: apresentar Cartão de Benefício de Prestação Continuada da Assistência Social da pessoa com deficiência ou documento emitido pelo Instituto Nacional do Seguro Social (INSS) que ateste a aposentadoria de acordo com os critérios estabelecidos\, junto com documento de identificação oficial com foto\nJovens de baixa renda (pessoas com idade entre 15 e 29 anos que pertencem a família com renda mensal de até dois salários mínimos\, inscritas no Cadastro Único para Programas Sociais do Governo Federal – CADÚNICO): apresentar Carteira de Identidade Jovem emitida pela Secretaria Nacional de Juventude\, junto com documento de identificação oficial com foto\nProfessores\, coordenadores pedagógicos e titulares de cargos do quadro de apoio da rede de ensino da Bahia\, ativos e aposentados: apresentar carteira funcional emitida pela Secretaria da Educação de seu município\, pela Secretaria Estadual da Educação\, pelo Ministério da Educação ou holerite do profissional da educação\, emitido pela instituição de ensino\, acompanhado de documento de identificação com foto.
URL:https://casarosasalvador.com.br/evento/isa-buzzi/
LOCATION:Pátio Viração – Casa Rosa
ATTACH;FMTTYPE=image/png:https://casarosasalvador.com.br/wp-content/uploads/2024/09/Feed-1080-x-1080-11.png
END:VEVENT
BEGIN:VEVENT
DTSTART;TZID=America/Sao_Paulo:20241024T200000
DTEND;TZID=America/Sao_Paulo:20241024T200000
DTSTAMP:20260424T130518
CREATED:20240927T220946Z
LAST-MODIFIED:20241015T040920Z
UID:1687-1729800000-1729800000@casarosasalvador.com.br
SUMMARY:Quinta da Casa: “UAU” - Cia Buffa de Teatro
DESCRIPTION:Espetáculo de palhaçaria que questiona padrões de sucesso através do humor\, “UAU” é o mais novo trabalho da Cia Buffa de Teatro e terá sessão no projeto “Quinta da Casa” da Casa Rosa\, no dia 24 de outubro\, às 20h. Com direção de Joice Aglae e narração ao vivo de Luíza Senna\, a peça apresenta a trajetória de Maricota e Pablito\, vividos por Milena Pitombo e Lucas Oliveira\, que subvertem expectativas sociais. Ingressos custam R$ 20 (inteira) e R$ 10 (meia) e estão à venda pela Sympla. \nDesafiar as normas de sucesso e abandonar modelos convencionais – com essa premissa\, o espetáculo celebra a autenticidade e o poder transformador do humor\, além de valorizar a essência e as paixões individuais. A dupla protagonista enfrenta a pressão social para seguir carreiras tradicionais e se adequar a padrões pré-estabelecidos. Mas é só no teatro que as personagens encontram uma nova forma de expressão\, libertando-se das expectativas externas e abraçando sua verdadeira identidade. \n“UAU” mescla humor\, poesia e palhaçadas para abordar questões profundas e humanas\, evocando a coragem de seguir o próprio coração e a descoberta do verdadeiro significado de felicidade e sucesso. \nQuinta da Casa apresenta:\n“UAU” – Cia Buffa de Teatro\nQuando: 24 de outubro de 2024 (quinta-feira)\, 20h\nÉ proibida a entrada após o início do espetáculo\nOnde: Teatro Cambará da Casa Rosa\n(Praça Colombo\, 106 – Rio Vermelho – Salvador\, Bahia)\nQuanto: R$ 20 (inteira) | R$ 10 (meia)\nVendas antecipadas pela Sympla: https://linktr.ee/casarosasalvador\nClassificação indicativa: Livre \nMEIA-ENTRADA\nA Casa Rosa cumpre a Lei Federal 12.933/2013\, a Lei Municipal 9.763/2023 e a Lei Estadual 14.765/2024\, que dispõem sobre o benefício do pagamento de meia-entrada.\n>> A concessão da meia-entrada é assegurada em 40% do total dos ingressos disponíveis para cada evento\n>> A comprovação do benefício de meia-entrada é obrigatória\, através de documentos específicos\, regulamentados e insubstituíveis\n>> A comprovação deverá ser feita no momento de entrada no dia do evento\n>> Quem adquiriu meia-entrada e não tiver a comprovação devida deverá fazer a complementação do valor para inteira para ter acesso ao evento; isto poderá ser feito no dia do evento\, na bilheteria do local \nOs públicos beneficiados são: \n\nEstudantes: apresentar a Carteira de Identificação Estudantil (CIE)\nIdosos maiores de 60 anos: apresentar documento de identificação oficial com foto\nPessoas com deficiência: apresentar Cartão de Benefício de Prestação Continuada da Assistência Social da pessoa com deficiência ou documento emitido pelo Instituto Nacional do Seguro Social (INSS) que ateste a aposentadoria de acordo com os critérios estabelecidos\, junto com documento de identificação oficial com foto\nJovens de baixa renda (pessoas com idade entre 15 e 29 anos que pertencem a família com renda mensal de até dois salários mínimos\, inscritas no Cadastro Único para Programas Sociais do Governo Federal – CADÚNICO): apresentar Carteira de Identidade Jovem emitida pela Secretaria Nacional de Juventude\, junto com documento de identificação oficial com foto\nProfessores\, coordenadores pedagógicos e titulares de cargos do quadro de apoio da rede de ensino da Bahia\, ativos e aposentados: apresentar carteira funcional emitida pela Secretaria da Educação de seu município\, pela Secretaria Estadual da Educação\, pelo Ministério da Educação ou holerite do profissional da educação\, emitido pela instituição de ensino\, acompanhado de documento de identificação com foto.
URL:https://casarosasalvador.com.br/evento/quinta-da-casa-uau-cia-buffa-de-teatro/
LOCATION:Teatro Cambará
ATTACH;FMTTYPE=image/jpeg:https://casarosasalvador.com.br/wp-content/uploads/2024/09/Quinta-da-Casa-UAU-card.jpeg
END:VEVENT
BEGIN:VEVENT
DTSTART;TZID=America/Sao_Paulo:20241026T220000
DTEND;TZID=America/Sao_Paulo:20241026T220000
DTSTAMP:20260424T130518
CREATED:20241009T133348Z
LAST-MODIFIED:20241015T040942Z
UID:1706-1729980000-1729980000@casarosasalvador.com.br
SUMMARY:Martins
DESCRIPTION:Faz tempo que o público de Salvador pede por um show de Martins e a data está marcada: no dia 26 de outubro (sábado)\, às 22h\, a Casa Rosa recebe o cantor e compositor pernambucano no show “Versões”\, em que interpreta suas músicas preferidas. Ingressos estão à venda pela plataforma Sympla. \nAos 34 anos\, Martins já teve canções gravadas por Ney Matogrosso\, Simone\, Daniela Mercury e Margareth Menezes. Desde seu primeiro álbum\, “Martins” (2019)\, ele emociona facilmente quem o ouve\, com toda a doçura que sempre se revela em sua voz e presença. Seu segundo disco solo\, “Interessante e Obsceno”\, foi lançado em 2023. Já neste ano\, o artista lançou “Jardim da Fantasia”\, uma das músicas da trilha da novela “Renascer”\, da TV Globo\, escolhida para o casal principal da trama. O sucesso não parou: além de ter feito uma turnê em Portugal no último mês de julho\, foi uma das atrações do Rock in Rio\, ao lado de Almério\, em setembro. \nMARTINS\nQuando: 26 de outubro de 2024 (sábado)\nAbertura da Casa: 21h\nInício do show: 22h\nOnde: Casa Rosa (Praça Colombo\, 106 – Rio Vermelho – Salvador\, Bahia)\nQuanto:\n1º lote: R$ 80 (inteira) | R$ 40 (meia) | R$ 48 (Clube Correio*)\n2º lote: R$ 100 (inteira) | R$ 50 (meia) | R$ 60 (Clube Correio*)\nVendas antecipadas pela Sympla: https://linktr.ee/casarosasalvador\nClassificação indicativa: 18 anos \nMEIA-ENTRADA\nA Casa Rosa cumpre a Lei Federal 12.933/2013\, a Lei Municipal 9.763/2023 e a Lei Estadual 14.765/2024\, que dispõem sobre o benefício do pagamento de meia-entrada.\n>> A concessão da meia-entrada é assegurada em 40% do total dos ingressos disponíveis para cada evento\n>> A comprovação do benefício de meia-entrada é obrigatória\, através de documentos específicos\, regulamentados e insubstituíveis\n>> A comprovação deverá ser feita no momento de entrada no dia do evento\n>> Quem adquiriu meia-entrada e não tiver a comprovação devida deverá fazer a complementação do valor para inteira para ter acesso ao evento; isto poderá ser feito no dia do evento\, na bilheteria do local \nOs públicos beneficiados são: \n\nEstudantes: apresentar a Carteira de Identificação Estudantil (CIE)\nIdosos maiores de 60 anos: apresentar documento de identificação oficial com foto\nPessoas com deficiência: apresentar Cartão de Benefício de Prestação Continuada da Assistência Social da pessoa com deficiência ou documento emitido pelo Instituto Nacional do Seguro Social (INSS) que ateste a aposentadoria de acordo com os critérios estabelecidos\, junto com documento de identificação oficial com foto\nJovens de baixa renda (pessoas com idade entre 15 e 29 anos que pertencem a família com renda mensal de até dois salários mínimos\, inscritas no Cadastro Único para Programas Sociais do Governo Federal – CADÚNICO): apresentar Carteira de Identidade Jovem emitida pela Secretaria Nacional de Juventude\, junto com documento de identificação oficial com foto\nProfessores\, coordenadores pedagógicos e titulares de cargos do quadro de apoio da rede de ensino da Bahia\, ativos e aposentados: apresentar carteira funcional emitida pela Secretaria da Educação de seu município\, pela Secretaria Estadual da Educação\, pelo Ministério da Educação ou holerite do profissional da educação\, emitido pela instituição de ensino\, acompanhado de documento de identificação com foto.
URL:https://casarosasalvador.com.br/evento/martins/
LOCATION:Pátio Viração – Casa Rosa
ATTACH;FMTTYPE=image/jpeg:https://casarosasalvador.com.br/wp-content/uploads/2024/10/Martins-card-1.jpeg
END:VEVENT
END:VCALENDAR