BEGIN:VCALENDAR
VERSION:2.0
PRODID:-//casa rosa - ECPv6.13.2.1//NONSGML v1.0//EN
CALSCALE:GREGORIAN
METHOD:PUBLISH
X-WR-CALNAME:casa rosa
X-ORIGINAL-URL:https://casarosasalvador.com.br
X-WR-CALDESC:Eventos para casa rosa
REFRESH-INTERVAL;VALUE=DURATION:PT1H
X-Robots-Tag:noindex
X-PUBLISHED-TTL:PT1H
BEGIN:VTIMEZONE
TZID:America/Sao_Paulo
BEGIN:STANDARD
TZOFFSETFROM:-0300
TZOFFSETTO:-0300
TZNAME:-03
DTSTART:20250101T000000
END:STANDARD
END:VTIMEZONE
BEGIN:VEVENT
DTSTART;TZID=America/Sao_Paulo:20250406T120000
DTEND;TZID=America/Sao_Paulo:20250406T170000
DTSTAMP:20260424T045326
CREATED:20250323T155906Z
LAST-MODIFIED:20250325T013728Z
UID:1979-1743940800-1743958800@casarosasalvador.com.br
SUMMARY:Culinária Musical
DESCRIPTION:A próxima edição do projeto Culinária Musical será dia 6 de abril (domingo)\, em um novo espaço: a Casa Rosa. Espaço dedicado a atividades artísticas e culturais de variadas linguagens e origens\, a Casa vai receber pela primeira vez o projeto do Afrochefe Jorge Washington\, das 12h às 17h\, mesmo horário tradicional do evento que costuma acontecer no Pelourinho. \nSegundo o Afrochefe\, a mudança nesta edição tem o intuito de abraçar novos públicos. “Queremos que o Culinária cresça cada vez mais\, expandindo seu alcance em outros bairros\, chegando a outras pessoas”\, diz Jorge Washington\, que\, na mais recente edição\, em 9 de março\, celebrou os 8 anos do projeto. \nNeste dia 6 de abril\, a atração principal será a cantora e compositora Juliana Ribeiro\, com repertório de clássicos do samba\, canções autorais e uma homenagem especial ao samba de Roda do Recôncavo. Seu convidado especial será o sambista\, cantor\, compositor e arranjador\, Roberto Mendes\, violonista santamarense que já teve composições gravadas por diversos artistas\, entre os quais Gal Costa\, Margareth Menezes\, Daniela Mercury\, Maria Creuza\, Simone Moreno\, Raimundo Sodré e Zezé Motta. \nNos intervalos\, o cantor e compositor baiano João Gonzaga vai se apresentar ao público do Culinária pela segunda vez\, com seu figurino de “Pescador Estilizado” e uma mistura de interpretações de clássicos da MPB\, como “Sangue Latino”\, de Ney Matogrosso\, e “Casa Aberta”\, de Milton Nascimento\, em versões remix. \nNa cozinha\, Jorge vai preparar a tradicional Big Feijoada do Afrochefe\, com 35 tipos de carne. Terá ainda outras opções como arrumadinho de fumeiro e a opção vegana\, feijão com legumes. De aperitivos\, serão servidos casquinha de siri\, charque com farofa d’água e aipim frito.   \nA edição também terá lançamento do livro “A de Afro – Uma Pequena Enciclopédia Visual da Bahia Negra””\, produzido pelo ilustrador Patek e pela pedagoga Isadora Cruz com objetivo de homenagear 26 personalidades\, coletivos\, territórios\, manifestações e tradições culturais do estado da Bahia. E\, inovando\, também terá espaço reservado para crianças. \nDesfile: Para esta edição especial na Casa Rosa\, o Afrochefe convidou a marca Negrif para o Desfile Afro. A marca\, da estilista Madalena Silva\, Madah\, é especializada em roupas e acessórios que celebram a cultura afro\, com peças únicas que valorizam a história e a beleza negra. O Desfile terá a participação de personalidades como Magary Lord e o coreógrafo Zebrinha\, dentre outros nomes. \nCULINÁRIA MUSICAL\nQuando: 6 de abril de 2025 (domingo)\, 12h às 17h\nOnde: Casa Rosa (Praça Colombo\, 106 – Rio Vermelho – Salvador\, Bahia)\nQuanto:\nEntrada:\nR$ 40 (antecipado no Pix 71 992417068\, envio de comprovante para este número)\nR$ 50 (bilheteria no dia do evento)\nPratos:\nR$ 80 (para 2 pessoas)\nClassificação indicativa: Livre
URL:https://casarosasalvador.com.br/evento/culinaria-musical/
LOCATION:Pátio Viração – Casa Rosa
ATTACH;FMTTYPE=image/jpeg:https://casarosasalvador.com.br/wp-content/uploads/2025/03/250406_CM2025_FEED_teaser_2-scaled.jpg
END:VEVENT
BEGIN:VEVENT
DTSTART;TZID=America/Sao_Paulo:20250410T200000
DTEND;TZID=America/Sao_Paulo:20250410T200000
DTSTAMP:20260424T045326
CREATED:20250326T223328Z
LAST-MODIFIED:20250326T223328Z
UID:1983-1744315200-1744315200@casarosasalvador.com.br
SUMMARY:Quinta da Casa: Gabi Guedes e PRADARRUM
DESCRIPTION:Referência na música percussiva na Bahia\, o mestre Gabi Guedes traz o seu projeto PRADARRUM para o “Quinta da Casa” da Casa Rosa. Ao lado de Felipe Guedes (clarinete e guitarra)\, Isaías Rabelo (teclado) e Ldson Galter (baixo)\, o músico apresenta o repertório do álbum “Matriarcas” e sua fusão de ritmos das nações Angola\, Ketu e Gêge com outras sonoridades que se fundem à cultura afro-brasileira\, como a salsa\, o samba\, o funk e o jazz. O concerto acontece no Teatro Cambará\, no dia 10 de abril\, às 20h\, com ingressos a R$ 30 (inteira) e R$ 15 (meia)\, à venda pela Sympla. O espaço tem acessibilidade arquitetônica e o show terá tradução em Libras. \nNascido no Alto do Gantois\, Gabi Guedes cresceu ao lado da Iyalorixá Mãe Menininha e\, aos 10 anos\, iniciou seus estudos de percussão com os Alabês Vadinho\, Hélio\, Dudu e Edinho. Já se apresentou em mais de 10 países\, tocando com artistas expressivos como Jimmy Cliff e The Wailers\, Margareth Menezes\, Lazzo\, Gerônimo\, Raimundo Sodré\, Armandinho\, Paulo Moura\, Hermeto Pascoal e Orquestra Emília Biancardi. A partir de sua experiência de quase 50 anos tocando em terreiros e palcos mundo afora\, Gabi une suas raízes ancestrais com sua atuação como chefe de naipe da Orkestra Rumpilezz para criar o PRADARRUM. \nO PRADARRUM busca preservar\, difundir e valorizar a musicalidade dos terreiros de candomblé\, através de apresentações\, cursos e oficinas\, evidenciando uma nova forma de abordar a música do terreiro sem ferir ou expor o sagrado. \n“Matriarcas” é o primeiro álbum do grupo\, lançado em março de 2024\, através do programa Natura Musical. O disco\, com 10 faixas\, reverencia as Yalorixás e Alabês\, destacando seu legado de luta e resistência na manutenção das suas comunidades\, das suas histórias e espiritualidade. Compõem o trabalho cantos de terreiro adaptados por Gabi e Felipe Guedes e composições do maestro Letieres Leite\, Rosa Nunes\, Gordon Shread e da banda Panteras Negras\, que participa da gravação. Ellen Oléria e Márcia Short também fazem participações especiais com suas vozes potentes. \nO “Quinta da Casa”\, neste ano de 2025\, foi contemplado pelo edital Gregórios – Ano IV com recursos financeiros da Fundação Gregório de Mattos\, Secretaria Municipal de Cultura e Turismo\, Prefeitura de Salvador\, e da Política Nacional Aldir Blanc de Fomento à Cultura (PNAB)\, Ministério da Cultura\, Governo Federal. Lançado em novembro de 2023\, o projeto inclui na agenda regular do Teatro Cambará da Casa Rosa uma diversa programação de espetáculos\, de variadas linguagens artísticas\, que vêm movimentando a capital baiana\, numa iniciativa de difusão do trabalho da nova cena local. Em 2025\, serão 20 edições realizadas\, com programação montada através de seleção pública que contabilizou 194 propostas inscritas\, ofertando a estrutura da Casa Rosa e apoio financeiro para os artistas e grupos participantes. \nQuinta da Casa apresenta:\nGabi Guedes e PRADARRUM\nNo show “Matriarcas”\nQuando: 10 de abril de 2025 (quinta-feira)\, 20h\nÉ proibida a entrada após o início do espetáculo\nOnde: Teatro Cambará da Casa Rosa\n(Praça Colombo\, 106 – Rio Vermelho – Salvador\, Bahia)\nQuanto: R$ 30 (inteira) | R$ 15 (meia)\nVendas antecipadas pela Sympla: https://linktr.ee/casarosasalvador\nAcessibilidade: Arquitetura acessível e tradução em Libras\nClassificação indicativa: Livre \nMEIA-ENTRADA\nA Casa Rosa cumpre a Lei Federal 12.933/2013\, a Lei Municipal 9.763/2023 e a Lei Estadual 14.765/2024\, que dispõem sobre o benefício do pagamento de meia-entrada.\n>> A concessão da meia-entrada é assegurada em 40% do total dos ingressos disponíveis para cada evento\n>> A comprovação do benefício de meia-entrada é obrigatória\, através de documentos específicos\, regulamentados e insubstituíveis\n>> A comprovação deverá ser feita no momento de entrada no dia do evento\n>> Quem adquiriu meia-entrada e não tiver a comprovação devida deverá fazer a complementação do valor para inteira para ter acesso ao evento; isto poderá ser feito no dia do evento\, na bilheteria do local \nOs públicos beneficiados são: \n\nEstudantes: apresentar a Carteira de Identificação Estudantil (CIE)\nIdosos maiores de 60 anos: apresentar documento de identificação oficial com foto\nPessoas com deficiência: apresentar Cartão de Benefício de Prestação Continuada da Assistência Social da pessoa com deficiência ou documento emitido pelo Instituto Nacional do Seguro Social (INSS) que ateste a aposentadoria de acordo com os critérios estabelecidos\, junto com documento de identificação oficial com foto\nJovens de baixa renda (pessoas com idade entre 15 e 29 anos que pertencem a família com renda mensal de até dois salários mínimos\, inscritas no Cadastro Único para Programas Sociais do Governo Federal – CADÚNICO): apresentar Carteira de Identidade Jovem emitida pela Secretaria Nacional de Juventude\, junto com documento de identificação oficial com foto\nProfessores\, coordenadores pedagógicos e titulares de cargos do quadro de apoio da rede de ensino da Bahia\, ativos e aposentados: apresentar carteira funcional emitida pela Secretaria da Educação de seu município\, pela Secretaria Estadual da Educação\, pelo Ministério da Educação ou holerite do profissional da educação\, emitido pela instituição de ensino\, acompanhado de documento de identificação com foto.
URL:https://casarosasalvador.com.br/evento/quinta-da-casa-gabi-guedes-e-pradarrum/
LOCATION:Teatro Cambará
ATTACH;FMTTYPE=image/jpeg:https://casarosasalvador.com.br/wp-content/uploads/2025/03/Quinta-da-Casa-PRADARRUM-card.jpeg
END:VEVENT
BEGIN:VEVENT
DTSTART;TZID=America/Sao_Paulo:20250424T200000
DTEND;TZID=America/Sao_Paulo:20250424T213000
DTSTAMP:20260424T045326
CREATED:20250405T182150Z
LAST-MODIFIED:20250408T184126Z
UID:1994-1745524800-1745530200@casarosasalvador.com.br
SUMMARY:Quinta da Casa: Coletivo Casa 4
DESCRIPTION:No Mês Internacional da Dança\, a Casa Rosa traz ao projeto “Quinta da Casa” o espetáculo “Me Brega\, Baile!”\, do Casa 4. Mergulho no universo dos bailes de dança de salão\, a peça reúne devaneios e ambições de cinco bailarinos viados\, que instauram a construção de uma atmosfera bem romântica – e brega. A apresentação acontece no Teatro Cambará\, no dia 24 de abril\, às 20h\, com ingressos a R$ 30 (inteira) e R$ 15 (meia)\, à venda pela Sympla. O espaço tem acessibilidade arquitetônica e a cena terá tradução em Libras. \nCriado em 2017\, o Casa 4 é um coletivo que surge das inquietações de um grupo de amigos dançarinos\, gays e com experiência nas danças de salão. Para além de um jeito tradicional de dançar a dois\, o grupo busca compreender esta linguagem nos corpos de seus intérpretes-criadores: corpos viados\, afeminados\, fechativos\, brutos e mais um bocado de coisa. Assim\, em suas pesquisas artísticas\, não se limita a binarismos como condutor-conduzido\, dama-cavalheiro\, ativo-passivo etc. \nEstreado em 2019\, “Me Brega\, Baile!”\, segundo trabalho da companhia\, tem direção de Leandro de Oliveira\, que integra o elenco junto com Alisson George\, Marcelo Galvão\, Carlos Henrique Araújo e Matheus Assis. Entre valsas\, forrós e vale a pena ver de novo\, eles fazem uma grande celebração à diversidade em forma de baile-espetáculo. \nO “Quinta da Casa”\, neste ano de 2025\, foi contemplado pelo edital Gregórios – Ano IV com recursos financeiros da Fundação Gregório de Mattos\, Secretaria Municipal de Cultura e Turismo\, Prefeitura de Salvador\, e da Política Nacional Aldir Blanc de Fomento à Cultura (PNAB)\, Ministério da Cultura\, Governo Federal. Lançado em novembro de 2023\, o projeto inclui na agenda regular do Teatro Cambará da Casa Rosa uma diversa programação de espetáculos\, de variadas linguagens artísticas\, que vêm movimentando a capital baiana\, numa iniciativa de difusão do trabalho da nova cena local. Em 2025\, serão 20 edições realizadas\, de janeiro a dezembro\, com programação montada através de seleção pública que contabilizou 194 propostas inscritas\, ofertando a estrutura da Casa Rosa e apoio financeiro para os artistas e grupos participantes. \nQuinta da Casa apresenta:\nColetivo Casa 4\n“Me Brega\, Baile!”\nQuando: 24 de abril de 2025 (quinta-feira)\, 20h\nÉ proibida a entrada após o início do espetáculo\nOnde: Teatro Cambará da Casa Rosa\n(Praça Colombo\, 106 – Rio Vermelho – Salvador\, Bahia)\nQuanto: R$ 30 (inteira) | R$ 15 (meia)\nVendas antecipadas pela Sympla: https://linktr.ee/casarosasalvador\nAcessibilidade: Arquitetura acessível e tradução em Libras\nClassificação indicativa: 16 anos \nMEIA-ENTRADA\nA Casa Rosa cumpre a Lei Federal 12.933/2013\, a Lei Municipal 9.763/2023 e a Lei Estadual 14.765/2024\, que dispõem sobre o benefício do pagamento de meia-entrada.\n>> A concessão da meia-entrada é assegurada em 40% do total dos ingressos disponíveis para cada evento\n>> A comprovação do benefício de meia-entrada é obrigatória\, através de documentos específicos\, regulamentados e insubstituíveis\n>> A comprovação deverá ser feita no momento de entrada no dia do evento\n>> Quem adquiriu meia-entrada e não tiver a comprovação devida deverá fazer a complementação do valor para inteira para ter acesso ao evento; isto poderá ser feito no dia do evento\, na bilheteria do local \nOs públicos beneficiados são: \n\nEstudantes: apresentar a Carteira de Identificação Estudantil (CIE)\nIdosos maiores de 60 anos: apresentar documento de identificação oficial com foto\nPessoas com deficiência: apresentar Cartão de Benefício de Prestação Continuada da Assistência Social da pessoa com deficiência ou documento emitido pelo Instituto Nacional do Seguro Social (INSS) que ateste a aposentadoria de acordo com os critérios estabelecidos\, junto com documento de identificação oficial com foto\nJovens de baixa renda (pessoas com idade entre 15 e 29 anos que pertencem a família com renda mensal de até dois salários mínimos\, inscritas no Cadastro Único para Programas Sociais do Governo Federal – CADÚNICO): apresentar Carteira de Identidade Jovem emitida pela Secretaria Nacional de Juventude\, junto com documento de identificação oficial com foto\nProfessores\, coordenadores pedagógicos e titulares de cargos do quadro de apoio da rede de ensino da Bahia\, ativos e aposentados: apresentar carteira funcional emitida pela Secretaria da Educação de seu município\, pela Secretaria Estadual da Educação\, pelo Ministério da Educação ou holerite do profissional da educação\, emitido pela instituição de ensino\, acompanhado de documento de identificação com foto.
URL:https://casarosasalvador.com.br/evento/coletivo-casa-4/
LOCATION:Teatro Cambará
ATTACH;FMTTYPE=image/jpeg:https://casarosasalvador.com.br/wp-content/uploads/2025/04/Quinta-da-Casa-Casa-4-card.jpg
END:VEVENT
BEGIN:VEVENT
DTSTART;TZID=America/Sao_Paulo:20250427T100000
DTEND;TZID=America/Sao_Paulo:20250427T130000
DTSTAMP:20260424T045326
CREATED:20250402T152643Z
LAST-MODIFIED:20250402T152643Z
UID:1990-1745748000-1745758800@casarosasalvador.com.br
SUMMARY:Oficina SuaDança
DESCRIPTION:Venha descobrir a magia da dança como transformação pessoal. A Oficina SuaDança\, ministrada por Daniela Augusto\, convida a experiências baseadas no autoconhecimento: ao expressar movimentos espontâneos\, liberar tensões emocionais\, expandir a criatividade e a qualidade da leveza\, surge a transformação\, a confiança e a autenticidade. \nNesta oficina\, dançar é um processo de libertação\, cura e criação\, a partir de movimentos investigados pela pessoa participante\, que experimenta ritmos\, ativações e compreende no corpo a linguagem da transformação e da interação para fazer do ato criativo uma forma de ser e agir. \nA Oficina SuaDança é destinada a pessoas a partir de 16 anos que queiram dançar\, profissionais ou não: artistas de todas as áreas\, terapeutas da saúde e curiosos do corpo. \nDaniela Augusto traz uma sensibilidade aguda sobre a alma do movimento. Em suas oficinas\, estimula o criativo\, potencializando a autoexpressão que nos habita. É artista da Dança\, graduada na Universidade Federal da Bahia (UFBA) e pós-graduada em Arte Integrativa pela Anhembi Morumbi\, em São Paulo\, onde morou 21 anos. De volta a Salvador\, mestranda em dança na UFBA\, atua também como taróloga alquímica\, certificada em Pilates\, Gyrokinesis\, Gyrotonic e Movement for Life (movimento terapia). \nOficina SuaDança com Daniela Augusto\nQuando: 27 de abril de 2025 (domingo)\, 10h às 13h\nOnde: Sala Rosa da Casa Rosa\n(Praça Colombo\, 106 – Rio Vermelho – Salvador\, Bahia)\nQuanto: R$ 180 (valor mínimo) | R$ 220 (valor abundante)\nBolsas disponíveis | Consultar pelo WhatsApp: 11 99633-7978\nInscrições aqui
URL:https://casarosasalvador.com.br/evento/oficina-suadanca/
LOCATION:Sala Rosa
ATTACH;FMTTYPE=image/jpeg:https://casarosasalvador.com.br/wp-content/uploads/2025/04/Card.jpg
END:VEVENT
END:VCALENDAR