BEGIN:VCALENDAR
VERSION:2.0
PRODID:-//casa rosa - ECPv6.13.2.1//NONSGML v1.0//EN
CALSCALE:GREGORIAN
METHOD:PUBLISH
X-ORIGINAL-URL:https://casarosasalvador.com.br
X-WR-CALDESC:Eventos para casa rosa
REFRESH-INTERVAL;VALUE=DURATION:PT1H
X-Robots-Tag:noindex
X-PUBLISHED-TTL:PT1H
BEGIN:VTIMEZONE
TZID:America/Sao_Paulo
BEGIN:STANDARD
TZOFFSETFROM:-0300
TZOFFSETTO:-0300
TZNAME:-03
DTSTART:20250101T000000
END:STANDARD
END:VTIMEZONE
BEGIN:VEVENT
DTSTART;TZID=America/Sao_Paulo:20250515T203000
DTEND;TZID=America/Sao_Paulo:20250515T213000
DTSTAMP:20260424T034346
CREATED:20250415T213729Z
LAST-MODIFIED:20250415T213729Z
UID:2003-1747341000-1747344600@casarosasalvador.com.br
SUMMARY:Quinta da Casa: s3reno
DESCRIPTION:A música periférica de Salvador estará no “Quinta da Casa” da Casa Rosa. No dia 15 de maio\, às 20h\, o cantor e compositor s3reno faz o show “não saia no sereno”\, baseado no EP homônimo lançado em agosto de 2024: uma experiência sonora vibrante\, orgânica e carregada de identidade. A apresentação acontece no Teatro Cambará\, com ingressos a R$ 30 (inteira) e R$ 15 (meia)\, à venda pela Sympla. O espaço tem acessibilidade arquitetônica e o show terá tradução em Libras. \nO repertório inclui todas as faixas do EP\, além de releituras de clássicos da música brasileira\, reinterpretados no estilo marcante do artista\, que mescla referências afrobrasileiras\, regionais e urbanas\, vindas das ruas de Salvador\, dos blocos afros\, das batucadas de terreiro\, das rodas de samba e da pulsação dos guetos. A musicalidade afrofusion e afrodiaspórica tem peso e balanço\, sem abrir mão da profundidade das letras\, que falam sobre a vivência da juventude negra periférica da cidade. O espetáculo é dinâmico e envolvente\, potencializando a experiência do público com groove pulsante. \nNascido no bairro de Boa Vista de São Caetano\, s3reno afirma seu chão acompanhado por um time de músicos experientes: DiÓdé (percussão)\, Zepeto (guitarra)\, Antenor Cardoso (bateria) e Denner (baixo). O show conta ainda com vocais de Lara Boker\, direção de palco de Roberto Candido e iluminação de Marthinha Boker. \nO “Quinta da Casa”\, neste ano de 2025\, foi contemplado pelo edital Gregórios – Ano IV com recursos financeiros da Fundação Gregório de Mattos\, Secretaria Municipal de Cultura e Turismo\, Prefeitura de Salvador\, e da Política Nacional Aldir Blanc de Fomento à Cultura (PNAB)\, Ministério da Cultura\, Governo Federal. Lançado em novembro de 2023\, o projeto inclui na agenda regular do Teatro Cambará da Casa Rosa uma diversa programação de espetáculos\, de variadas linguagens artísticas\, que vêm movimentando a capital baiana\, numa iniciativa de difusão do trabalho da nova cena local. Em 2025\, serão 20 edições realizadas\, de janeiro a dezembro\, com programação montada através de seleção pública que contabilizou 194 propostas inscritas\, ofertando a estrutura da Casa Rosa e apoio financeiro para os artistas e grupos participantes. \nQuinta da Casa apresenta:\ns3reno\n“não saia no sereno”\nQuando: 15 de maio de 2025 (quinta-feira)\, 20h\nÉ proibida a entrada após o início do espetáculo\nOnde: Teatro Cambará da Casa Rosa\n(Praça Colombo\, 106 – Rio Vermelho – Salvador\, Bahia)\nQuanto: R$ 30 (inteira) | R$ 15 (meia)\nVendas antecipadas pela Sympla: https://linktr.ee/casarosasalvador\nAcessibilidade: Arquitetura acessível e tradução em Libras\nClassificação indicativa: 16 anos \nMEIA-ENTRADA\nA Casa Rosa cumpre a Lei Federal 12.933/2013\, a Lei Municipal 9.763/2023 e a Lei Estadual 14.765/2024\, que dispõem sobre o benefício do pagamento de meia-entrada.\n>> A concessão da meia-entrada é assegurada em 40% do total dos ingressos disponíveis para cada evento\n>> A comprovação do benefício de meia-entrada é obrigatória\, através de documentos específicos\, regulamentados e insubstituíveis\n>> A comprovação deverá ser feita no momento de entrada no dia do evento\n>> Quem adquiriu meia-entrada e não tiver a comprovação devida deverá fazer a complementação do valor para inteira para ter acesso ao evento; isto poderá ser feito no dia do evento\, na bilheteria do local \nOs públicos beneficiados são: \n\nEstudantes: apresentar a Carteira de Identificação Estudantil (CIE)\nIdosos maiores de 60 anos: apresentar documento de identificação oficial com foto\nPessoas com deficiência: apresentar Cartão de Benefício de Prestação Continuada da Assistência Social da pessoa com deficiência ou documento emitido pelo Instituto Nacional do Seguro Social (INSS) que ateste a aposentadoria de acordo com os critérios estabelecidos\, junto com documento de identificação oficial com foto\nJovens de baixa renda (pessoas com idade entre 15 e 29 anos que pertencem a família com renda mensal de até dois salários mínimos\, inscritas no Cadastro Único para Programas Sociais do Governo Federal – CADÚNICO): apresentar Carteira de Identidade Jovem emitida pela Secretaria Nacional de Juventude\, junto com documento de identificação oficial com foto\nProfessores\, coordenadores pedagógicos e titulares de cargos do quadro de apoio da rede de ensino da Bahia\, ativos e aposentados: apresentar carteira funcional emitida pela Secretaria da Educação de seu município\, pela Secretaria Estadual da Educação\, pelo Ministério da Educação ou holerite do profissional da educação\, emitido pela instituição de ensino\, acompanhado de documento de identificação com foto.
URL:https://casarosasalvador.com.br/evento/quinta-da-casa-s3reno/
LOCATION:Teatro Cambará
ATTACH;FMTTYPE=image/jpeg:https://casarosasalvador.com.br/wp-content/uploads/2025/04/Quinta-da-Casa-s3reno-card.jpeg
END:VEVENT
BEGIN:VEVENT
DTSTART;TZID=America/Sao_Paulo:20250522T200000
DTEND;TZID=America/Sao_Paulo:20250522T200000
DTSTAMP:20260424T034346
CREATED:20250512T154516Z
LAST-MODIFIED:20250512T154516Z
UID:2053-1747944000-1747944000@casarosasalvador.com.br
SUMMARY:MedusaMusaMulher
DESCRIPTION:Protagonizado por Fabiana Pirro\, com criação de Breno Fittipaldi e texto de Cida Pedrosa\, somado à poesia de Silvia Góes\, o espetáculo “MedusaMusaMulher” terá sessão única no Teatro Cambará da Casa Rosa\, no dia 22 de maio (quinta-feira)\, às 20h. \nA criação de “MedusaMusaMulher” tem como base a versão grega do mito da Medusa\, a sacerdotisa do templo de Atena que atraiu o desejo de Poseidon\, que a violou. O estupro provocou o ciúme da deusa Atena\, que rogou uma maldição contra Medusa e a transformou numa Górgona\, petrificando quem a olhasse. No lugar dos seus cabelos\, surgiram serpentes. Por fim\, Medusa é degolada por Perseu\, que leva sua cabeça como um presente. É esta a versão que você conhece dessa história? \nEm “MedusaMusaMulher”\, Fabiana Pirro encena a versão escrita pela escritora e poetisa Cida Pedrosa\, onde dá voz à mulher transformada em monstro\, morta por um herói e estuprada por um deus. Um protesto sensível contra o feminicídio\, uma maneira de despertar\, sobretudo nos mais jovens\, a urgência de modificar a violência cruel e antiga sobre as mulheres\, e transformar a dor em cura. \n“A cada apresentação\, as palavras de Cida Pedrosa somadas à poesia de Silvia Góes atravessam mulheres de todas as classes sociais\, que me procuram para dizer: você não pode parar. São muitas Medusas. Cada vez que eu entro em cena são essas vozes que eu defendo. E afirmo: não vou parar”\, diz Fabiana Pirro. \nHISTÓRICO – A performance estreou em setembro de 2018 na programação do Festival Transborda do SESC Pernambuco\, a bordo de um catamarã sobre as águas do Rio Capibaribe. Desde então\, tem percorrido os mais variados palcos e eventos\, promovendo debates e reflexões sobre o tema do feminicídio\, como na apresentação em comemoração aos 13 anos da Lei Federal Maria da Penha\, a convite da Comissão da Mulher Advogada (CMA) da OAB Pernambuco. Em 2022\, “MedusaMusaMulher” fez a primeira turnê fora do país\, com apresentação no Centro Cultural Fábrica do Braço de Prata\, em Lisboa (PT)\, e\, na sequência\, foi filmada sua versão cinematográfica em Paris. Em 2023\, no retorno ao Brasil\, “MedusaMusaMulher” esteve na Festa de Louro\, em São José do Egito\, Sertão do Pajeú\, Pernambuco\, e fez duas apresentações em São Paulo\, na Casa Líquida. Em 2024\, a performance foi contemplada pela Lei Paulo Gustavo/Recife\, realizando em março duas apresentações gratuitas: uma no jardim do Teatro do Parque e outra ao lado do movimento Tortura Nunca Mais\, na Rua da Aurora. Em julho\, esteve no auditório da Livraria Jaqueira\, em evento da Fundação Xegamiga de combate à violência contra as mulheres. \nFabiana Pirro em MedusaMusaMulher\nCriação: Breno Fittipaldi\nTexto: Cida Pedrosa\nQuando: 22 de maio de 2025 (quinta-feira)\, 20h\nÉ proibida a entrada após o início do espetáculo\nOnde: Teatro Cambará da Casa Rosa\n(Praça Colombo\, 106 – Rio Vermelho – Salvador\, Bahia)\nQuanto: R$ 40 (inteira) | R$ 20 (meia)\nVendas antecipadas pela Sympla: https://linktr.ee/casarosasalvador\nClassificação indicativa: 14 anos \nMEIA-ENTRADA\nA Casa Rosa cumpre a Lei Federal 12.933/2013\, a Lei Municipal 9.763/2023 e a Lei Estadual 14.765/2024\, que dispõem sobre o benefício do pagamento de meia-entrada.\n>> A concessão da meia-entrada é assegurada em 40% do total dos ingressos disponíveis para cada evento\n>> A comprovação do benefício de meia-entrada é obrigatória\, através de documentos específicos\, regulamentados e insubstituíveis\n>> A comprovação deverá ser feita no momento de entrada no dia do evento\n>> Quem adquiriu meia-entrada e não tiver a comprovação devida deverá fazer a complementação do valor para inteira para ter acesso ao evento; isto poderá ser feito no dia do evento\, na bilheteria do local \nOs públicos beneficiados são: \n\nEstudantes: apresentar a Carteira de Identificação Estudantil (CIE)\nIdosos maiores de 60 anos: apresentar documento de identificação oficial com foto\nPessoas com deficiência: apresentar Cartão de Benefício de Prestação Continuada da Assistência Social da pessoa com deficiência ou documento emitido pelo Instituto Nacional do Seguro Social (INSS) que ateste a aposentadoria de acordo com os critérios estabelecidos\, junto com documento de identificação oficial com foto\nJovens de baixa renda (pessoas com idade entre 15 e 29 anos que pertencem a família com renda mensal de até dois salários mínimos\, inscritas no Cadastro Único para Programas Sociais do Governo Federal – CADÚNICO): apresentar Carteira de Identidade Jovem emitida pela Secretaria Nacional de Juventude\, junto com documento de identificação oficial com foto\nProfessores\, coordenadores pedagógicos e titulares de cargos do quadro de apoio da rede de ensino da Bahia\, ativos e aposentados: apresentar carteira funcional emitida pela Secretaria da Educação de seu município\, pela Secretaria Estadual da Educação\, pelo Ministério da Educação ou holerite do profissional da educação\, emitido pela instituição de ensino\, acompanhado de documento de identificação com foto.
URL:https://casarosasalvador.com.br/evento/medusamusamulher/
LOCATION:Teatro Cambará
ATTACH;FMTTYPE=image/jpeg:https://casarosasalvador.com.br/wp-content/uploads/2025/05/MedusaMusaMulher-card-1.jpeg
END:VEVENT
BEGIN:VEVENT
DTSTART;TZID=America/Sao_Paulo:20250529T200000
DTEND;TZID=America/Sao_Paulo:20250529T213000
DTSTAMP:20260424T034346
CREATED:20250430T162415Z
LAST-MODIFIED:20250430T162415Z
UID:2009-1748548800-1748554200@casarosasalvador.com.br
SUMMARY:Quinta da Casa: Jann Souza
DESCRIPTION:A cantora e compositora Jann Souza vai estar no projeto “Quinta da Casa” da Casa Rosa no dia 29 de maio\, às 20h\, no palco do Teatro Cambará. A artista chega com o show “Orin”\, que celebra sua trajetória e sua conexão com as raízes afro-brasileiras\, reunindo músicas autorais\, releituras da MPB e cantigas em yorùbá\, em uma apresentação que transita entre tradição e contemporaneidade. Ingressos custam R$ 30 (inteira) e R$ 15 (meia)\, à venda pela Sympla. O espaço tem acessibilidade arquitetônica e o show terá tradução em Libras. \nCom uma sonoridade envolvente\, “Orin”\, que significa canto em yorùbá\, mergulha na musicalidade ancestral a partir do encontro da percussão com arranjos modernos e a força da interpretação de Jann Souza. No palco\, ela entrega uma performance intensa\, conectando o público a um repertório que celebra a memória e a espiritualidade afro-diaspórica. “Esse show é um convite para sentir\, para se permitir ser atravessado pela música. Cada canção traz uma história\, um chamado\, uma vibração. ‘Orin’ é um encontro com minha essência e com o que me move artisticamente”\, descreve Jann. \nO “Quinta da Casa”\, neste ano de 2025\, foi contemplado pelo edital Gregórios – Ano IV com recursos financeiros da Fundação Gregório de Mattos\, Secretaria Municipal de Cultura e Turismo\, Prefeitura de Salvador\, e da Política Nacional Aldir Blanc de Fomento à Cultura (PNAB)\, Ministério da Cultura\, Governo Federal. Lançado em novembro de 2023\, o projeto inclui na agenda regular do Teatro Cambará da Casa Rosa uma diversa programação de espetáculos\, de variadas linguagens artísticas\, que vêm movimentando a capital baiana\, numa iniciativa de difusão do trabalho da nova cena local. Em 2025\, serão 20 edições realizadas\, de janeiro a dezembro\, com programação montada através de seleção pública que contabilizou 194 propostas inscritas\, ofertando a estrutura da Casa Rosa e apoio financeiro para os artistas e grupos participantes. \nQuinta da Casa apresenta:\nJann Souza\n“Orin”\nQuando: 29 de maio de 2025 (quinta-feira)\, 20h\nÉ proibida a entrada após o início do espetáculo\nOnde: Teatro Cambará da Casa Rosa\n(Praça Colombo\, 106 – Rio Vermelho – Salvador\, Bahia)\nQuanto: R$ 30 (inteira) | R$ 15 (meia)\nVendas antecipadas pela Sympla: https://linktr.ee/casarosasalvador\nAcessibilidade: Arquitetura acessível e tradução em Libras\nClassificação indicativa: Livre \nMEIA-ENTRADA\nA Casa Rosa cumpre a Lei Federal 12.933/2013\, a Lei Municipal 9.763/2023 e a Lei Estadual 14.765/2024\, que dispõem sobre o benefício do pagamento de meia-entrada.\n>> A concessão da meia-entrada é assegurada em 40% do total dos ingressos disponíveis para cada evento\n>> A comprovação do benefício de meia-entrada é obrigatória\, através de documentos específicos\, regulamentados e insubstituíveis\n>> A comprovação deverá ser feita no momento de entrada no dia do evento\n>> Quem adquiriu meia-entrada e não tiver a comprovação devida deverá fazer a complementação do valor para inteira para ter acesso ao evento; isto poderá ser feito no dia do evento\, na bilheteria do local \nOs públicos beneficiados são: \n\nEstudantes: apresentar a Carteira de Identificação Estudantil (CIE)\nIdosos maiores de 60 anos: apresentar documento de identificação oficial com foto\nPessoas com deficiência: apresentar Cartão de Benefício de Prestação Continuada da Assistência Social da pessoa com deficiência ou documento emitido pelo Instituto Nacional do Seguro Social (INSS) que ateste a aposentadoria de acordo com os critérios estabelecidos\, junto com documento de identificação oficial com foto\nJovens de baixa renda (pessoas com idade entre 15 e 29 anos que pertencem a família com renda mensal de até dois salários mínimos\, inscritas no Cadastro Único para Programas Sociais do Governo Federal – CADÚNICO): apresentar Carteira de Identidade Jovem emitida pela Secretaria Nacional de Juventude\, junto com documento de identificação oficial com foto\nProfessores\, coordenadores pedagógicos e titulares de cargos do quadro de apoio da rede de ensino da Bahia\, ativos e aposentados: apresentar carteira funcional emitida pela Secretaria da Educação de seu município\, pela Secretaria Estadual da Educação\, pelo Ministério da Educação ou holerite do profissional da educação\, emitido pela instituição de ensino\, acompanhado de documento de identificação com foto.
URL:https://casarosasalvador.com.br/evento/quinta-da-casa-jann-souza/
LOCATION:Teatro Cambará
ATTACH;FMTTYPE=image/jpeg:https://casarosasalvador.com.br/wp-content/uploads/2025/04/Quinta-da-Casa-Jann-Souza-card.jpeg
END:VEVENT
END:VCALENDAR