BEGIN:VCALENDAR
VERSION:2.0
PRODID:-//casa rosa - ECPv6.13.2.1//NONSGML v1.0//EN
CALSCALE:GREGORIAN
METHOD:PUBLISH
X-WR-CALNAME:casa rosa
X-ORIGINAL-URL:https://casarosasalvador.com.br
X-WR-CALDESC:Eventos para casa rosa
REFRESH-INTERVAL;VALUE=DURATION:PT1H
X-Robots-Tag:noindex
X-PUBLISHED-TTL:PT1H
BEGIN:VTIMEZONE
TZID:America/Sao_Paulo
BEGIN:STANDARD
TZOFFSETFROM:-0300
TZOFFSETTO:-0300
TZNAME:-03
DTSTART:20250101T000000
END:STANDARD
END:VTIMEZONE
BEGIN:VEVENT
DTSTART;TZID=America/Sao_Paulo:20250908T090000
DTEND;TZID=America/Sao_Paulo:20251212T120000
DTSTAMP:20260423T184350
CREATED:20250819T183101Z
LAST-MODIFIED:20251027T125111Z
UID:2217-1757322000-1765540800@casarosasalvador.com.br
SUMMARY:Oficinas Quinta da Casa
DESCRIPTION:A partir do projeto “Quinta da Casa”\, a Casa Rosa promove\, de setembro a novembro\, seis oficinas de áreas técnicas das artes feitas por mulheres e para público também de mulheres: Estratégias de Comunicação para Espaços Culturais\, com Aline Valadares; Roadie\, com Ká Leite; Audiovisual para Redes Sociais\, com Nathalia de Jesus; Iluminação\, com Milena Pitombo; Produção Técnica\, com Morgana Magalhães; e Técnica de Som\, com Jessyca Meireles. Todas as turmas terão carga horária total de 20 horas\, com aulas presenciais sempre de segunda a sexta-feira – segunda\, terça\, quarta e sexta\, das 9h às 12h\, e\, na quinta-feira\, das 14h às 22h\, para atividade prática\, acompanhando a execução de um espetáculo da programação do “Quinta da Casa”. As inscrições são gratuitas\, sujeitas a seleção para ocupação de 12 vagas em cada turma. \nINSCREVA-SE AQUI \nO “Quinta da Casa”\, neste ano de 2025\, foi contemplado pelo edital Gregórios – Ano IV com recursos financeiros da Fundação Gregório de Mattos\, Secretaria Municipal de Cultura e Turismo\, Prefeitura de Salvador\, e da Política Nacional Aldir Blanc de Fomento à Cultura (PNAB)\, Ministério da Cultura\, Governo Federal. Lançado em novembro de 2023\, o projeto inclui na agenda regular do Teatro Cambará da Casa Rosa uma diversa programação de espetáculos\, de variadas linguagens artísticas\, que vêm movimentando a capital baiana\, numa iniciativa de difusão do trabalho da nova cena local. Em 2025\, serão 20 edições realizadas\, de janeiro a dezembro\, com programação montada através de seleção pública que contabilizou 194 propostas inscritas\, ofertando a estrutura da Casa Rosa e apoio financeiro para os artistas e grupos participantes. \nOficinas Quinta da Casa\n \n= Estratégias de Comunicação para Espaços Culturais\, com Aline Valadares\nSobre a ministrante: Jornalista de formação e especialista em gestão de marcas\, Aline Valadares estudou metodologias criativas\, branding e análise de tendências e usa essas competências e ferramentas para pensar estrategicamente a comunicação de marcas\, artistas ou projetos culturais. Com experiência de mais de 10 anos na área cultural\, atuou em redação de jornal impresso\, assessoria de imprensa de artistas como Carlinhos Brown e banda ÀTTOOXXÁ e coordenou o setor de comunicação da Orquestra Sinfônica da Bahia (OSBA). Em 2021\, criou a DASA\, uma empresa de comunicação estratégica que presta serviços de branding\, gestão de marca\, consultorias e assessoria de imprensa. Atualmente\, também está como gestora de comunicação do Pivô – Arte e Pesquisa.\nEmenta da oficina: A oficina busca apresentar noções gerais da assessoria de comunicação aplicadas aos equipamentos culturais\, trazendo um pouco da história\, evolução e da prática profissional a partir da elaboração de um planejamento estratégico de comunicação. Também serão apresentadas metodologias e ferramentas que auxiliam na sistematização de diretrizes estratégicas fundamentais para o desenvolvimento e reconhecimento de um projeto/marca/instituição. Aborda ainda a criatividade\, colocando-a em prática através da elaboração de ideias executáveis aos diversos pontos de contato.\nInscrições: 20 de agosto a 2 de setembro\nDivulgação de seleção: 3 de setembro\nEncontros: 8 a 12 de setembro – segunda\, terça\, quarta e sexta\, 9h às 12h (encontros teóricos); quinta\, 14h às 22h (acompanhamento na prática de espetáculo do Quinta da Casa) \n= Roadie\, com Ká Leite\nSobre a ministrante: Produtora cultural\, roadie e atriz soteropolitana\, Ká Leite atua\, desde 2021\, nos bastidores de shows\, festivais e montagens teatrais\, com passagens pelo Cinquentenário do Ilê Aiyê\, pelos festivais Sangue Novo e Paisagem Sonora\, pelas apresentações de bandas e artistas como Sambaiana\, Larissa Luz\, Ana Paula Albuquerque e Josyara\, e pelos espetáculos Torto Arado\, Prêmio Bahia Aplaude e Flipelô 2025. Especializada em Produção Cultural e capacitada em técnicas de roadie para palco\, responde pela produção e atuação técnica no palco e é reconhecida pela precisão e versatilidade em produções de todos os portes.\nEmenta da oficina: A oficina faz uma apresentação do perfil profissional de roadie\, suas responsabilidades antes\, durante e após a apresentação\, e a interface com as demais equipes. Participantes manuseiam as principais ferramentas da rotina e trabalham com os equipamentos essenciais de palco\, aprendendo a montar\, inspecionar\, proteger e acondicionar cada componente de forma eficiente e segura. Também aborda os instrumentos musicais\, com foco em montagem\, afinação e substituição de peças. Por fim\, o curso dedica-se à interpretação de documentação técnica: riders\, mapas de palco e cronogramas\, culminando em exercícios práticos de montagem e desmontagem.\nInscrições: 20 de agosto a 16 de setembro\nDivulgação de seleção: 17 de setembro\nEncontros: 22 a 26 de setembro – segunda\, terça\, quarta e sexta\, 9h às 12h (encontros teóricos); quinta\, 14h às 22h (acompanhamento na prática de espetáculo do Quinta da Casa) \n= Audiovisual para Redes Sociais\, com Nathalia de Jesus\nSobre a ministrante: Videomaker\, produtora de conteúdo e produtora audiovisual com seis anos de experiencia\, Nathalia de Jesus é graduada em Produção Audiovisual pela Unijorge e participou da oficina de Operações Audiovisuais promovida pela Rede Globo. Atua na produção de conteúdos profissionais e mobile pela sua produtora She Filmes e cria conteúdos próprios nas suas redes sociais voltados para o audiovisual.\nEmenta da oficina: Mentoria para participantes interessados em explorar as possibilidades do audiovisual como ferramenta de comunicação nas redes sociais\, com foco em produção de qualidade\, criativa e estratégica. Os conteúdos incluem referências\, estilos de vídeos\, equipamentos e acessórios\, roteiro\, linguagem visual (planos\, enquadramentos\, ângulos)\, movimento de câmera\, iluminação e edição.\nInscrições: 20 de agosto a 16 de setembro\nDivulgação de seleção: 17 de setembro\nEncontros: 22 a 26 de setembro – segunda\, terça\, quarta e sexta\, 9h às 12h (encontros teóricos); quinta\, 14h às 22h (acompanhamento na prática de espetáculo do Quinta da Casa) \n= Iluminação\, com Milena Pitombo\nSobre a ministrante: Atriz e iluminadora\, Milena Pitombo trabalha na área há quase 20 anos. Foi técnica e operadora de luz em espetáculos como “OXUM”\, do Grupo de Teatro NATA; “Pele Negra\, Máscaras Brancas”\, com direção de Onisajé; “Rosas Negras”\, solo de Fabíola Nansurê; e “Medeia Negra”\, solo de Márcia Limma. Criou luz para espetáculos como “O Trono da Rainha”\, solo de Matheuzza; “Monstra”\, do coletivo Reverbe; “Partiste”\, com direção de Ícaro Bittencourt; “Nó”\, com direção de Miriam Fonseca; e “A Máscara e a Sombra”\, com direção de Joice Aglae. Fez luz para shows de Melly\, Bia Ferreira\, Ana Mammeto\, Livia Nery\, Joana Terra\, Mariana Aydar\, Jussara Silveira\, entre outras. Foi a responsável pela iluminação de projetos e festivais como Bahia de Todos os Pretos\, Paisagem Sonora\, Concha Negra\, Latinidades\, Pagode por Elas e Diálogo de Tambores. Foi uma das três ministrantes do projeto “iluMINA!”\, dando aulas e orientando mais de 60 mulheres do estado da Bahia. Atualmente\, cria luz para shows\, dá aulas online e participa como assistente\, técnica e operadora de diversos eventos culturais.\nEmenta da oficina: Como é a profissão de técnica e de iluminadora cênica? Quais são os refletores usados no teatro? Para que cada um serve? Como é o processo de montagem e desmontagem? Como saber escolher o melhor refletor para o efeito desejado? Como uso o meu conhecimento na criação? A oficina aborda o conhecimento sobre a iluminação cênica e a sua criação. A parte teórica traz o conceito de iluminação\, a luz e análise dos refletores usados no teatro\, seus efeitos e as questões técnicas de uma montagem de iluminação. A parte prática será o uso desses refletores\, suas combinações com os outros para efeitos e composições e iniciação à criação a partir deste conhecimento.\nInscrições: 1º a 30 de setembro\nDivulgação de seleção: 1º de outubro\nEncontros: 6 a 10 de outubro – segunda\, terça\, quarta e sexta\, 9h às 12h (encontros teóricos); quinta\, 14h às 22h (acompanhamento na prática de espetáculo do Quinta da Casa) \n= Produção Técnica\, com Morgana Magalhães\nSobre a ministrante: Envolvida com a arte e a cultura desde muito jovem\, Morgana Magalhães trilha um caminho que passa pela atuação\, direção teatral e\, principalmente\, pela produção cultural. Ao longo de sua trajetória\, participou de projetos artísticos e eventos que dialogam com diferentes linguagens e públicos\, sempre com o olhar atento para o potencial transformador da arte. Defensora da arte como ferramenta fundamental na formação humana\, Morgana acredita que cada ação cultural é também um ato político\, capaz de inspirar mudanças e fortalecer comunidades.\nEmenta da oficina: Um mergulho teórico e prático nos bastidores da realização de um espetáculo\, proporcionando aos participantes uma compreensão abrangente do processo de produção. Serão abordados conceitos\, funções e fluxos de trabalho\, com destaque para organização\, logística\, cronogramas\, comunicação entre equipes e gestão de imprevistos. A intenção é de desenvolver uma visão sistêmica do trabalho de produção técnica e preparar para uma atuação de forma organizada\, segura e eficiente em diferentes formatos e portes de eventos.\nInscrições: 1º a 30 de setembro\nDivulgação de seleção: 1º de outubro\nEncontros: 6 a 10 de outubro – segunda\, terça\, quarta e sexta\, 9h às 12h (encontros teóricos); quinta\, 14h às 22h (acompanhamento na prática de espetáculo do Quinta da Casa) \n= Técnica de Som\, com Jessyca Meireles\nSobre a ministrante: Técnica de som\, diretora de palco e técnica\, Jessyca Meireles fez a direção técnica do Festival Psica\, um dos maiores da região Norte do Brasil\, nos anos de 2022\, 2023 e 2024. Passou uma temporada como técnica de monitor de Xanddy Harmonia. É formada em Produção Fonográfica e já trabalhou na produtora MZA\, Gravadora Deck\, em empresas de sonorização e iluminação para shows e eventos na cidade do Rio de Janeiro. Entre 2021 e 2024\, colaborou com vários festivais no estado do Pará\, como Serasgum\, Sonido\, Lambateria\, Elas no Comando\, Festival de Música da Amazônia\, entre outros.\nEmenta da oficina: Fundamentos básicos essenciais para eventos e shows\, abrangendo conceitos básicos de acústica – como o som se comporta e como isso afeta a performance ao vivo; audição humana – como funciona e como isso pode influenciar a forma de trabalhar com som; princípios básicos de eletricidade e eletrônica – aplicadas à performance ao vivo para atuar de forma segura e eficaz; operação de consoles para iniciantes – uso para criar uma experiência de som incrível para o público; equalização\, compressão e outros tópicos.\nInscrições: 8 de outubro a 2 de dezembro\nDivulgação de seleção: 3 de dezembro\nEncontros: 8 a 11 de dezembro – segunda\, terça\, quarta e sexta\, 9h às 12h (encontros teóricos); quinta\, 14h às 22h (acompanhamento na prática de espetáculo do Quinta da Casa)
URL:https://casarosasalvador.com.br/evento/oficinas-quinta-da-casa/
ATTACH;FMTTYPE=image/jpeg:https://casarosasalvador.com.br/wp-content/uploads/2025/08/oficinas-quinta-da-casa-atualizado-1.jpg
END:VEVENT
BEGIN:VEVENT
DTSTART;TZID=America/Sao_Paulo:20251204T170000
DTEND;TZID=America/Sao_Paulo:20251204T220000
DTSTAMP:20260423T184350
CREATED:20251121T135417Z
LAST-MODIFIED:20251121T140644Z
UID:2343-1764867600-1764885600@casarosasalvador.com.br
SUMMARY:Festa de Iansã na Casa Rosa
DESCRIPTION:Pela primeira vez\, o bairro do Rio Vermelho recebe a Festa de Iansã\, no dia 4 de dezembro\, quinta-feira\, das 17h às 22h\, no Pátio Viração da Casa Rosa. \nA programação reúne música\, dança\, performance e gastronomia\, com uma dança-oferenda para Iansã e o caruru servido em louvor a Oyá. \nA idealização da festa é da Casa Rosa\, de Yacoce Simões e da cantora Ana Mametto\, que é a anfitriã do evento. Ela conduz a celebração ao lado de Ju Moraes\, Hiran e​ Mãe Taiane Macedo. A abertura fica por conta da banda percussiva Yayá Muxima. \nEntre as performances da noite\, destaca-se “Obinrin ti Omi ati Afẹfẹ” (“Mulher das Águas e do Vento”)\, criação de Nildinha Fonseca\, coreógrafa do Balé Folclórico da Bahia\, apresentada em formato de duo. \nOs 100 primeiros compradores ganham o caruru na compra do ingresso. Os próximos compradores poderão adquirir o ingresso e incluir o caruru diretamente pela plataforma Sympla. \n  \nFesta de Iansã na Casa Rosa\, com Ana Mametto e convidados \nQuando: 4 de dezembro de 2025 (quinta-feira)\, de 17h às 22h \nOnde: Casa Rosa (Praça Colombo\, 106\, Rio Vermelho) \nQuanto: \n1º lote: R$ 70 (com caruru) \n2º lote: R$ 70 (sem caruru) | R$ 100 (com caruru) \n3º lote: R$ 90 (sem caruru) | R$ 120 (com caruru) \nVendas pela Sympla: https:/linktr.ee/casarosasalvador \nClassificação indicativa: 18 anos
URL:https://casarosasalvador.com.br/evento/festa-de-iansa-na-casa-rosa/
LOCATION:Pátio Viração – Casa Rosa
ATTACH;FMTTYPE=image/jpeg:https://casarosasalvador.com.br/wp-content/uploads/2025/11/PHOTO-2025-11-18-15-41-50.jpg
END:VEVENT
BEGIN:VEVENT
DTSTART;TZID=America/Sao_Paulo:20251211T200000
DTEND;TZID=America/Sao_Paulo:20251211T220000
DTSTAMP:20260423T184350
CREATED:20251121T140959Z
LAST-MODIFIED:20251121T140959Z
UID:2348-1765483200-1765490400@casarosasalvador.com.br
SUMMARY:Quinta da Casa: De Umbigo a Umbigo\, de Yayá Massemba
DESCRIPTION:Diretamente da Chapada Diamantina\, a banda Yayá Massemba chega ao palco do Teatro Cambará da Casa Rosa\, na quinta-feira\, 11 de dezembro\, às 20h\, dentro do projeto Quinta da Casa. Os ingressos têm preços populares\, entre R$ 15 e R$ 30. O espaço conta com acessibilidade arquitetônica. A classificação indicativa é livre. \nFormada por mulheres que afirmam o protagonismo feminino na música e na cultura brasileira\, a Yayá Massemba traz em sua sonoridade a força do samba de roda baiano\, com influências da capoeira e dos toques do candomblé. Desde 2018\, o grupo realiza turnês pelo Brasil\, promovendo encontros com sambadeiras\, mestras e musicistas que mantêm viva a tradição do samba. \nO show apresenta o EP “De Umbigo a Umbigo”\, lançado em 2024 com cinco canções autorais e participações especiais de Nega Duda e Mestra Aurinda do Prato. A produção independente\, apoiada pelo Selo Educadora FM Independente\, reafirma o compromisso da banda com a ancestralidade\, a inovação e a força criativa das mulheres na música popular brasileira. \nEm 2025\, a Yayá Massemba celebra sete anos de trajetória. Em março\, realizou turnê em São Paulo\, com apresentações na Casa de Francisca\, Sesc Bom Retiro\, Instituto Tambor e Sesc São José. Na Bahia\, participou do Festival Brasil Nordeste e segue em circulação por centros culturais da Secult/BA\, com apoio da Aldir Blanc. \nO “Quinta da Casa”\, neste ano de 2025\, foi contemplado pelo edital Gregórios – Ano IV com recursos financeiros da Fundação Gregório de Mattos\, Secretaria Municipal de Cultura e Turismo\, Prefeitura de Salvador\, e da Política Nacional Aldir Blanc de Fomento à Cultura (PNAB)\, Ministério da Cultura\, Governo Federal. Lançado em novembro de 2023\, o projeto inclui na agenda regular do Teatro Cambará da Casa Rosa uma diversa programação de espetáculos\, de variadas linguagens artísticas\, que vêm movimentando a capital baiana\, numa iniciativa de difusão do trabalho da nova cena local. Em 2025\, serão 20 edições realizadas\, de janeiro a dezembro\, com programação montada através de seleção pública que contabilizou 194 propostas inscritas\, ofertando a estrutura da Casa Rosa e apoio financeiro para os artistas e grupos participantes. \n  \n\nQUINTA DA CASA APRESENTA: DE UMBIGO A UMBIGO\, DE YAYÁ MASSEMBA\nQuando: 11 de dezembro de 2025 (quinta-feira)\, 20h \nÉ proibida a entrada após o início do espetáculo \nOnde: Teatro Cambará da Casa Rosa \n(Praça Colombo\, 106 – Rio Vermelho – Salvador\, Bahia) \nQuanto: R$ 30 (inteira) | R$ 15 (meia) \nAcessibilidade: Arquitetura acessível e tradução em Libras \nClassificação indicativa: Livre \nMEIA-ENTRADA \nA Casa Rosa cumpre a Lei Federal 12.933/2013\, a Lei Municipal 9.763/2023 e a Lei Estadual 14.765/2024\, que dispõem sobre o benefício do pagamento de meia-entrada. \n>> A concessão da meia-entrada é assegurada em 40% do total dos ingressos disponíveis para cada evento \n>> A comprovação do benefício de meia-entrada é obrigatória\, através de documentos específicos\, regulamentados e insubstituíveis \n>> A comprovação deverá ser feita no momento de entrada no dia do evento \n>> Quem adquiriu meia-entrada e não tiver a comprovação devida deverá fazer a complementação do valor para inteira para ter acesso ao evento; isto poderá ser feito no dia do evento\, na bilheteria do local \nOs públicos beneficiados são: \n\nEstudantes: apresentar a Carteira de Identificação Estudantil (CIE)\nIdosos maiores de 60 anos: apresentar documento de identificação oficial com foto\nPessoas com deficiência: apresentar Cartão de Benefício de Prestação Continuada da Assistência Social da pessoa com deficiência ou documento emitido pelo Instituto Nacional do Seguro Social (INSS) que ateste a aposentadoria de acordo com os critérios estabelecidos\, junto com documento de identificação oficial com foto\nJovens de baixa renda (pessoas com idade entre 15 e 29 anos que pertencem a família com renda mensal de até dois salários mínimos\, inscritas no Cadastro Único para Programas Sociais do Governo Federal – CADÚNICO): apresentar Carteira de Identidade Jovem emitida pela Secretaria Nacional de Juventude\, junto com documento de identificação oficial com foto\nProfessores\, coordenadores pedagógicos e titulares de cargos do quadro de apoio da rede de ensino da Bahia\, ativos e aposentados: apresentar carteira funcional emitida pela Secretaria da Educação de seu município\, pela Secretaria Estadual da Educação\, pelo Ministério da Educação ou holerite do profissional da educação\, emitido pela instituição de ensino.
URL:https://casarosasalvador.com.br/evento/quinta-da-casa-de-umbigo-a-umbigo-de-yaya-massemba/
ATTACH;FMTTYPE=image/jpeg:https://casarosasalvador.com.br/wp-content/uploads/2025/11/yaya-massemba-quinta-da-casa-card-principal.jpg
END:VEVENT
BEGIN:VEVENT
DTSTART;TZID=America/Sao_Paulo:20251218T180000
DTEND;TZID=America/Sao_Paulo:20251218T220000
DTSTAMP:20260423T184350
CREATED:20251205T152322Z
LAST-MODIFIED:20251205T152322Z
UID:2352-1766080800-1766095200@casarosasalvador.com.br
SUMMARY:Quinta da Casa: Parte de Nós\, de Lucas Lacerda e Daniel Weyand
DESCRIPTION:O projeto Quinta da Casa\, da Casa Rosa\, recebe o espetáculo sonoro 3D Parte de Nós\, com o ator baiano Lucas Lacerda em colaboração com o artista alemão Daniel Weyand (duo germano-brasileiro Po:era). Depois de sua bem-sucedida temporada no início do ano no Farol da Barra e de passagens pelo MAM Bahia e por Lisboa\, Parte de Nós ganha um novo pouso no casarão histórico da Casa Rosa\, onde será apresentado em duas sessões no dia 18 de dezembro (18h e 20h). \nParte de Nós é uma experiência imersiva que une ficção especulativa\, narrativas documentais e performance ao vivo. O público recebe fones de ouvido wireless e é convidado a participar de uma experiência itinerante: uma jornada sonora tridimensional pelas áreas abertas e fechadas da Casa Rosa. \nEm cena\, Lucas Lacerda narra a busca de um neto\, acompanhado da avó\, pelos rastros de Nô\, um pássaro ancestral que teria vivido há mais de 80 milhões de anos e que funciona como símbolo do primeiro ancestral de aves no planeta. A figura mítica espelha a busca humana por semelhantes\, por comunidade e pela construção de narrativas coletivas que ajudam a dar sentido à vida diante do desconhecido. \nA dramaturgia articula impressão ficcional e documentos de memória\, revelando a capacidade humana de encontrar conexões profundas mesmo frente à crescente polarização social. A peça incorpora a dimensão biográfica do ator Lucas Lacerda e sua relação com a própria avó\, mostrando como diferentes sistemas de crença podem coexistir no interior de uma mesma família sem apagar o afeto\, o cuidado e o laço materno que unem as pessoas. \nNesta nova encenação em Salvador\, a obra é reimaginada dentro da Casa Rosa\, enfatizando a relação entre dramaturgia e arquitetura do casarão. O público circula por cômodos e recantos\, transformando a circulação pelo espaço em uma travessia sensorial entre tempos\, ecos e afetos.  \nPaisagens sonoras pré-gravadas no próprio casarão e no bairro do Rio Vermelho se integram a sons captados ao vivo durante a performance\, tornando difícil distinguir o que pertence ao presente e o que ressurge como vestígio do passado. A história física da Casa Rosa atua\, assim\, como personagem viva da montagem\, ampliando o sentido de pertencimento e a potência simbólica da busca do neto e da avó por Nô\, figura que evoca memória\, ancestralidade e senso de comunidade. \nSinopse: \nDesde o início\, contamos uns aos outros histórias sobre o que significa ser humano\, de onde viemos e a que pertencemos. Algumas histórias ainda hoje definem nossas vidas\, outras foram esquecidas para sempre. ‘Parte de Nós’ é a redescoberta de uma dessas histórias esquecidas\, a fábula de um pássaro ancestral roubado do seu próprio bando. Um pássaro tão antigo quanto o tempo – o último de sua espécie – parte em uma busca solitária para encontrar um companheiro que cante com a mesma garganta. O artista Lucas Lacerda\, entrega a sua voz a algumas das muitas lendas que existem em torno do pássaro sagrado\, desde a história de dormir que sua avó lhe contava quando criança até quando ele foi visto pela última vez: no Rio Vermelho\, em Salvador. A busca do pássaro por seus ancestrais é espelhada na busca do próprio artista por modos futuros de estarmos juntos. Sua triste canção fala a verdade do nosso tempo\, no qual seu eco de pedido de ajuda permanece sem resposta. \nO “Quinta da Casa”\, neste ano de 2025\, foi contemplado pelo edital Gregórios – Ano IV com recursos financeiros da Fundação Gregório de Mattos\, Secretaria Municipal de Cultura e Turismo\, Prefeitura de Salvador\, e da Política Nacional Aldir Blanc de Fomento à Cultura (PNAB)\, Ministério da Cultura\, Governo Federal. Lançado em novembro de 2023\, o projeto inclui na agenda regular do Teatro Cambará da Casa Rosa uma diversa programação de espetáculos\, de variadas linguagens artísticas\, que vêm movimentando a capital baiana\, numa iniciativa de difusão do trabalho da nova cena local. Em 2025\, serão 20 edições realizadas\, de janeiro a dezembro\, com programação montada através de seleção pública que contabilizou 194 propostas inscritas\, ofertando a estrutura da Casa Rosa e apoio financeiro para os artistas e grupos participantes. \nQUINTA DA CASA APRESENTA: PARTE DE NÓS\, DE LUCAS LACERDA E DANIEL WEYAND \nQuando: 18 de dezembro de 2025 (quinta-feira)\, 18 e 20h (duas sessões) \nÉ proibida a entrada após o início do espetáculo \nPúblico equipado com fones wireless; experiência itinerante pelo casarão; recomenda-se chegar com antecedência para organização das sessões. \nOnde: Teatro Cambará da Casa Rosa \n(Praça Colombo\, 106 – Rio Vermelho – Salvador\, Bahia) \nQuanto: R$ 30 (inteira) | R$ 15 (meia) \nAcessibilidade: Arquitetura acessível e tradução em Libras \nClassificação indicativa: 12 anos \nMEIA-ENTRADA \nA Casa Rosa cumpre a Lei Federal 12.933/2013\, a Lei Municipal 9.763/2023 e a Lei Estadual 14.765/2024\, que dispõem sobre o benefício do pagamento de meia-entrada.  \n>> A concessão da meia-entrada é assegurada em 40% do total dos ingressos disponíveis para cada evento \n>> A comprovação do benefício de meia-entrada é obrigatória\, através de documentos específicos\, regulamentados e insubstituíveis \n>> A comprovação deverá ser feita no momento de entrada no dia do evento \n>> Quem adquiriu meia-entrada e não tiver a comprovação devida deverá fazer a complementação do valor para inteira para ter acesso ao evento; isto poderá ser feito no dia do evento\, na bilheteria do local \nOs públicos beneficiados são: \n\nEstudantes: apresentar a Carteira de Identificação Estudantil (CIE)\nIdosos maiores de 60 anos: apresentar documento de identificação oficial com foto\nPessoas com deficiência: apresentar Cartão de Benefício de Prestação Continuada da Assistência Social da pessoa com deficiência ou documento emitido pelo Instituto Nacional do Seguro Social (INSS) que ateste a aposentadoria de acordo com os critérios estabelecidos\, junto com documento de identificação oficial com foto\nJovens de baixa renda (pessoas com idade entre 15 e 29 anos que pertencem a família com renda mensal de até dois salários mínimos\, inscritas no Cadastro Único para Programas Sociais do Governo Federal – CADÚNICO): apresentar Carteira de Identidade Jovem emitida pela Secretaria Nacional de Juventude\, junto com documento de identificação oficial com foto\nProfessores\, coordenadores pedagógicos e titulares de cargos do quadro de apoio da rede de ensino da Bahia\, ativos e aposentados: apresentar carteira funcional emitida pela Secretaria da Educação de seu município\, pela Secretaria Estadual da Educação\, pelo Ministério da Educação ou holerite do profissional da educação\, emitido pela instituição de ensino\, acompanhado de documento de identificação com foto.
URL:https://casarosasalvador.com.br/evento/quinta-da-casa-parte-de-nos-de-lucas-lacerda-e-daniel-weyand/
LOCATION:Teatro Cambará
ATTACH;FMTTYPE=image/jpeg:https://casarosasalvador.com.br/wp-content/uploads/2025/12/LUCAS-LACERDA.jpg
END:VEVENT
END:VCALENDAR