BEGIN:VCALENDAR
VERSION:2.0
PRODID:-//casa rosa - ECPv6.13.2.1//NONSGML v1.0//EN
CALSCALE:GREGORIAN
METHOD:PUBLISH
X-WR-CALNAME:casa rosa
X-ORIGINAL-URL:https://casarosasalvador.com.br
X-WR-CALDESC:Eventos para casa rosa
REFRESH-INTERVAL;VALUE=DURATION:PT1H
X-Robots-Tag:noindex
X-PUBLISHED-TTL:PT1H
BEGIN:VTIMEZONE
TZID:America/Sao_Paulo
BEGIN:STANDARD
TZOFFSETFROM:-0300
TZOFFSETTO:-0300
TZNAME:-03
DTSTART:20260101T000000
END:STANDARD
END:VTIMEZONE
BEGIN:VEVENT
DTSTART;TZID=America/Sao_Paulo:20260508T200000
DTEND;TZID=America/Sao_Paulo:20260508T220000
DTSTAMP:20260423T140405
CREATED:20260320T180126Z
LAST-MODIFIED:20260320T180126Z
UID:2442-1778270400-1778277600@casarosasalvador.com.br
SUMMARY:O rio tem sede de sal\, de José Enrique Barreiro
DESCRIPTION:  \nO monólogo “O rio tem sede de sal”\, escrito e interpretado pelo poeta José Enrique Barreiro\, será apresentado em sessão única no dia 8 de maio\, às 20h\, no Teatro Cambará da Casa Rosa\, no Rio Vermelho\, em Salvador. \nEm cena\, em um espaço intimista\, o autor conduz o público por uma reflexão poética sobre a pergunta que move o espetáculo: “O rio tem sede de sal… e nós\, temos sede de quê?”. A peça segue a linha das stand-up comedies\, mas não se trata de comédia. Como define seu criador\, é uma stand-up poetry\, construída a partir de poesia\, filosofia e narrativa. \nA ideia do texto nasce da percepção de que os rios sabem para onde vão desde a nascente — seguem em direção ao mar\, enfrentando adversidades até o encontro final. A partir dessa imagem\, Barreiro propõe uma investigação sobre o destino humano e sobre qual seria o nosso grande encontro. \nDurante o monólogo\, o poeta percorre épocas e lugares distintos\, dialogando com grandes nomes da literatura\, como Dante Alighieri\, Cecília Meireles\, Federico García Lorca e Carlos Drummond de Andrade\, reunindo versos\, pensamentos e reflexões que constroem a dramaturgia. \nEscrito entre junho e agosto de 2025\, o espetáculo estreou em Lisboa\, na livraria Poesia Incompleta\, e já passou pelo Rio de Janeiro. Agora chega a Salvador\, cidade natal do autor\, em uma apresentação pensada para espaços pequenos\, buscando maior proximidade entre artista e plateia. \nA proposta é transformar o encontro entre poesia e teatro em uma experiência íntima\, em que a jornada do rio e a jornada humana caminham juntas até um possível desfecho. \nSobre José Enrique Barreiro \n“José Enrique Barreiro é um poeta de primeira linha. Ele reúne os elementos essenciais de uma aventura reflexiva realmente ousada\, uma inquirição\, longamente maturada\, do sentido maior da aventura humana\, que será sempre uma confrontação entre o ser e o paradoxo”.(Bruno Tolentino\, 1940–2007\, poeta\, na apresentação de O mapa do acaso) \nNatural de Salvador\, desde a adolescência José Enrique Barreiro teve uma inclinação muito forte pela literatura\, particularmente\, a poesia. Começou a trabalhar profissionalmente com a escrita aos 16 anos de idade\, quando ingressou como repórter no Jornal da Bahia. Nas décadas de 1970 e 1980 teve intensa participação nos meios culturais baianos como jornalista\, crítico de arte\, roteirista e diretor de televisão. \nEm 1997\, já morando no Rio de Janeiro\, publica O mapa do acaso\, seu primeiro livro de poemas. Naquele mesmo ano\, cria a Versal Editores\, para a prestação de serviços editoriais e a publicação de livros de autores brasileiros e de outros países. A partir de 2018 passa a se dedicar exclusivamente à literatura. \nAlém de O mapa do acaso — que teve a primeira edição em 1997 e a segunda em 2020 — publicou A lã das velhas ovelhas já não serve para a neve de amanhã (2021)\, Borda infinita (2022) e A dor que deveras sente (2025). Também escreveu para o público infantojuvenil\, em linguagem poética\, Declaração de amor (2014) e Quem advinha o que é? (2015)\, ambos com ilustrações de Jana Glatt. \nGravou os álbuns Palavras que não guardam diamantes e O lugar do herói\, disponíveis para audição no Spotify e em outras plataformas. Seus livros podem ser adquiridos no site versaleditors.com.br. \nO RIO TEM SEDE DE SAL\, de JOSÉ ENRIQUE BARREIRO \nQuando: 8 de maio de 2026 (sexta-feira)\, 20h \nÉ proibida a entrada após o início do espetáculo \nOnde: Teatro Cambará da Casa Rosa \n(Praça Colombo\, 106 – Rio Vermelho – Salvador\, Bahia) \nQuanto: R$ 30 (meia) | R$ 60 (inteira) \nClassificação indicativa: 16 anos \nMEIA-ENTRADA \nA Casa Rosa cumpre a Lei Federal 12.933/2013\, a Lei Municipal 9.763/2023 e a Lei Estadual 14.765/2024\, que dispõem sobre o benefício do pagamento de meia-entrada. \n>> A concessão da meia-entrada é assegurada em 40% do total dos ingressos disponíveis para cada evento \n>> A comprovação do benefício de meia-entrada é obrigatória\, através de documentos específicos\, regulamentados e insubstituíveis \n>> A comprovação deverá ser feita no momento de entrada no dia do evento \n>> Quem adquiriu meia-entrada e não tiver a comprovação devida deverá fazer a complementação do valor para inteira para ter acesso ao evento; isto poderá ser feito no dia do evento\, na bilheteria do local \nOs públicos beneficiados são: \n\nEstudantes: apresentar a Carteira de Identificação Estudantil (CIE)\nIdosos maiores de 60 anos: apresentar documento de identificação oficial com foto\nPessoas com deficiência: apresentar Cartão de Benefício de Prestação Continuada da Assistência Social da pessoa com deficiência ou documento emitido pelo Instituto Nacional do Seguro Social (INSS) que ateste a aposentadoria de acordo com os critérios estabelecidos\, junto com documento de identificação oficial com foto\nJovens de baixa renda (pessoas com idade entre 15 e 29 anos que pertencem a família com renda mensal de até dois salários mínimos\, inscritas no Cadastro Único para Programas Sociais do Governo Federal – CADÚNICO): apresentar Carteira de Identidade Jovem emitida pela Secretaria Nacional de Juventude\, junto com documento de identificação oficial com foto\nProfessores\, coordenadores pedagógicos e titulares de cargos do quadro de apoio da rede de ensino da Bahia\, ativos e aposentados: apresentar carteira funcional emitida pela Secretaria da Educação de seu município\, pela Secretaria Estadual da Educação\, pelo Ministério da Educação ou holerite do profissional da educação\, emitido pela instituição de ensino\, acompanhado de documento de identificação com foto.
URL:https://casarosasalvador.com.br/evento/o-rio-tem-sede-de-sal-de-jose-enrique-barreiro/
LOCATION:Teatro Cambará
ATTACH;FMTTYPE=image/jpeg:https://casarosasalvador.com.br/wp-content/uploads/2026/03/o-rio-tem-sede-de-sal-jose-enrique-barreiro-card.jpeg
END:VEVENT
END:VCALENDAR